View In:
ArcGIS JavaScript
ArcGIS Online Map Viewer
ArcGIS Earth
Service Description: ImageServices/EnterpriseLandCover2010ImageService
Name: ImageServices/EnterpriseLandCover2010ImageService
Description:
Single Fused Map Cache: false
Extent:
XMin: 1.3304893861130387E7
YMin: 340130.169570474
XMax: 1.3469697016017303E7
YMax: 508604.5844115663
Spatial Reference: 2253
(2253)
LatestVCSWkid(0)
Initial Extent:
XMin: 1.3304893861130387E7
YMin: 340130.169570474
XMax: 1.3469697016017303E7
YMax: 508604.5844115663
Spatial Reference: 2253
(2253)
LatestVCSWkid(0)
Full Extent:
XMin: 1.3304893861130387E7
YMin: 340130.169570474
XMax: 1.3469697016017303E7
YMax: 508604.5844115663
Spatial Reference: 2253
(2253)
LatestVCSWkid(0)
Pixel Size X: 3.2808400001376867
Pixel Size Y: 3.2808400000212714
Band Count: 3
Pixel Type: U8
RasterFunction Infos: {"rasterFunctionInfos": [{
"name": "None",
"description": "",
"help": ""
}]}
Mensuration Capabilities: Basic
Inspection Capabilities:
Has Histograms: true
Has Colormap: false
Has Multi Dimensions : false
Rendering Rule:
Min Scale: 0
Max Scale: 0
Copyright Text:
Service Data Type: esriImageServiceDataTypeRGB
Min Values: 0, 0, 0
Max Values: 244, 244, 219
Mean Values: 122.77984185717, 159.96942746602, 120.19191734461
Standard Deviation Values: 112.78836850107, 75.781615062055, 103.23246130603
Object ID Field:
Fields:
None
Default Mosaic Method: Center
Allowed Mosaic Methods:
SortField:
SortValue: null
Mosaic Operator: First
Default Compression Quality: 75
Default Resampling Method: Bilinear
Max Record Count: null
Max Image Height: 4100
Max Image Width: 15000
Max Download Image Count: null
Max Mosaic Image Count: null
Allow Raster Function: true
Allow Copy: true
Allow Analysis: true
Allow Compute TiePoints: false
Supports Statistics: false
Supports Advanced Queries: false
Use StandardizedQueries: true
Raster Type Infos:
Name: Raster Dataset
Description: Supports all ArcGIS Raster Datasets
Help:
Has Raster Attribute Table: false
Edit Fields Info: null
Ownership Based AccessControl For Rasters: null
Child Resources:
Info
Histograms
Statistics
Key Properties
Legend
Raster Function Infos
Supported Operations:
Export Image
Identify
Measure
Compute Histograms
Compute Statistics Histograms
Get Samples
Compute Class Statistics
Query Boundary
Compute Pixel Location
Compute Angles
Validate
Project