{
 "currentVersion": 11.2,
 "serviceDescription": "ImageServices/GroundWaterRecharge2004ImageService",
 "name": "ImageServices/GroundWaterRecharge2004ImageService",
 "description": "",
 "extent": {
  "xmin": 1.3298809490755126E7,
  "ymin": 333822.41826225794,
  "xmax": 1.3475625354792237E7,
  "ymax": 514553.68140211876,
  "spatialReference": {
   "wkid": 2253,
   "latestWkid": 2253
  }
 },
 "initialExtent": {
  "xmin": 1.3298809490755126E7,
  "ymin": 333822.41826225794,
  "xmax": 1.3475625354792237E7,
  "ymax": 514553.68140211876,
  "spatialReference": {
   "wkid": 2253,
   "latestWkid": 2253
  }
 },
 "fullExtent": {
  "xmin": 1.3298809490755126E7,
  "ymin": 333822.41826225794,
  "xmax": 1.3475625354792237E7,
  "ymax": 514553.68140211876,
  "spatialReference": {
   "wkid": 2253,
   "latestWkid": 2253
  }
 },
 "sortableFields": "MinPS,MaxPS,LowPS,HighPS,CenterX,CenterY,ZOrder,Shape_Length,Shape_Area",
 "bandCount": 1,
 "pixelType": "S32",
 "minValues": [
  -13176
 ],
 "maxValues": [
  3453
 ],
 "meanValues": [
  -65.839706207582
 ],
 "stdvValues": [
  398.25798611892
 ],
 "hasMultidimensions": false,
 "pixelSizeX": 88.98634324967861,
 "pixelSizeY": 88.9863432495622,
 "meanPixelSize": 27.123037422484302,
 "datasetFormat": "TIFF",
 "uncompressedSize": 16142388,
 "blockWidth": 128,
 "blockHeight": 128,
 "compressionType": "LZW",
 "bandNames": [
  "Band_1"
 ],
 "allowCopy": true,
 "allowAnalysis": true,
 "itemAccess": false,
 "inspectionCapabilities": "",
 "noDataValue": 2147483647,
 "noDataValues": [
  2147483647
 ],
 "minPixelSize": 0,
 "maxPixelSize": 0,
 "copyrightText": "",
 "serviceDataType": "esriImageServiceDataTypeGeneric",
 "serviceSourceType": "esriImageServiceSourceTypeDataset",
 "objectIdField": "",
 "fields": [],
 "capabilities": "Image,Metadata,Mensuration",
 "defaultMosaicMethod": "Center",
 "allowedMosaicMethods": "",
 "sortField": "",
 "sortValue": null,
 "sortAscending": true,
 "mosaicOperator": "First",
 "defaultCompressionQuality": 75,
 "defaultResamplingMethod": "Bilinear",
 "maxImageHeight": 4100,
 "maxImageWidth": 15000,
 "allowRasterFunction": true,
 "rasterFunctionInfos": [
  {
   "name": "None",
   "description": "",
   "help": ""
  }
 ],
 "rasterTypeInfos": [
  {
   "name": "Raster Dataset",
   "description": "Supports all ArcGIS Raster Datasets",
   "help": ""
  }
 ],
 "mensurationCapabilities": "Basic",
 "hasHistograms": true,
 "hasColormap": false,
 "hasRasterAttributeTable": false,
 "minScale": 0,
 "maxScale": 0,
 "exportTilesAllowed": false,
 "supportsStatistics": false,
 "supportsAdvancedQueries": false,
 "editFieldsInfo": null,
 "ownershipBasedAccessControlForRasters": null,
 "allowComputeTiePoints": false,
 "useStandardizedQueries": true,
 "advancedQueryCapabilities": {
  "useStandardizedQueries": true,
  "supportsStatistics": false,
  "supportsOrderBy": false,
  "supportsDistinct": false,
  "supportsPagination": false
 },
 "spatialReference": {
  "wkid": 2253,
  "latestWkid": 2253
 }
}
