<?xml version="1.0" encoding="UTF-8" standalone="no"?>
<metadata>
<Esri>
<ModDate>20210402</ModDate>
<ModTime>14073400</ModTime>
<CreaDate>20100524</CreaDate>
<CreaTime>15570300</CreaTime>
<SyncOnce>FALSE</SyncOnce>
<SyncDate>20210402</SyncDate>
<SyncTime>14073400</SyncTime>
<MetaID>{1BAD34F5-C389-4422-B3A9-6BF36FA4D11D}</MetaID>
<DataProperties>
<lineage>
<Process Date="20100603" Name="" Time="072420" ToolSource="C:\Program Files\ArcGIS\ArcToolbox\Toolboxes\Data Management Tools.tbx\CopyRaster" export="">CopyRaster "Y:\LandData\PendingReview\Land Cover Items\RogueRiverWatershedLandCover2010.IMG" "Database Connections\OC@5152 gisras1 lnddtlg1p.sde\gisras1.OC.RogueRiverWatershedLandCover20" # # # NONE NONE #</Process>
<Process Date="20210402" Time="095815" ToolSource="c:\program files (x86)\arcgis\desktop10.7\ArcToolbox\Toolboxes\Data Management Tools.tbx\CopyRaster">CopyRaster D:\DBConnections103\DEV_QA_DBConnections\QAGISPublishing_gisras1_ro.sde\GISRAS1.OC.ROUGERIVERWATERSHEDLANDCVR2008 D:\RougeRiverWatershedLandCVR2008.tif # # 255 NONE NONE # NONE NONE TIFF NONE</Process>
</lineage>
<itemProps>
<itemName Sync="TRUE">RougeRiverWatershedLandCVR2008.tif</itemName>
<nativeExtBox>
<westBL Sync="TRUE">13333884.617928</westBL>
<eastBL Sync="TRUE">13468470.962944</eastBL>
<southBL Sync="TRUE">326160.625420</southBL>
<northBL Sync="TRUE">444644.640420</northBL>
<exTypeCode Sync="TRUE">1</exTypeCode>
</nativeExtBox>
<itemLocation>
<linkage Sync="TRUE">file://\\gisfs1q\Orthos\Orthos_2010\MiscImages\RougeRiverWatershedLandCVR2008.tif</linkage>
<protocol Sync="TRUE">Local Area Network</protocol>
</itemLocation>
<imsContentType Sync="TRUE">002</imsContentType>
</itemProps>
<coordRef>
<type Sync="TRUE">Projected</type>
<geogcsn Sync="TRUE">GCS_North_American_1983</geogcsn>
<csUnits Sync="TRUE">Linear Unit: Foot (0.304800)</csUnits>
<projcsn Sync="TRUE">NAD_1983_StatePlane_Michigan_South_FIPS_2113_Feet_Intl</projcsn>
<peXml Sync="TRUE">&lt;ProjectedCoordinateSystem xsi:type='typens:ProjectedCoordinateSystem' xmlns:xsi='http://www.w3.org/2001/XMLSchema-instance' xmlns:xs='http://www.w3.org/2001/XMLSchema' xmlns:typens='http://www.esri.com/schemas/ArcGIS/10.7'&gt;&lt;WKT&gt;PROJCS[&amp;quot;NAD_1983_StatePlane_Michigan_South_FIPS_2113_Feet_Intl&amp;quot;,GEOGCS[&amp;quot;GCS_North_American_1983&amp;quot;,DATUM[&amp;quot;D_North_American_1983&amp;quot;,SPHEROID[&amp;quot;GRS_1980&amp;quot;,6378137.0,298.257222101]],PRIMEM[&amp;quot;Greenwich&amp;quot;,0.0],UNIT[&amp;quot;Degree&amp;quot;,0.0174532925199433]],PROJECTION[&amp;quot;Lambert_Conformal_Conic&amp;quot;],PARAMETER[&amp;quot;False_Easting&amp;quot;,13123359.58005249],PARAMETER[&amp;quot;False_Northing&amp;quot;,0.0],PARAMETER[&amp;quot;Central_Meridian&amp;quot;,-84.36666666666666],PARAMETER[&amp;quot;Standard_Parallel_1&amp;quot;,42.1],PARAMETER[&amp;quot;Standard_Parallel_2&amp;quot;,43.66666666666666],PARAMETER[&amp;quot;Latitude_Of_Origin&amp;quot;,41.5],UNIT[&amp;quot;Foot&amp;quot;,0.3048],AUTHORITY[&amp;quot;EPSG&amp;quot;,2253]]&lt;/WKT&gt;&lt;XOrigin&gt;-107138600&lt;/XOrigin&gt;&lt;YOrigin&gt;-97193800&lt;/YOrigin&gt;&lt;XYScale&gt;37448250.484633707&lt;/XYScale&gt;&lt;ZOrigin&gt;-100000&lt;/ZOrigin&gt;&lt;ZScale&gt;10000&lt;/ZScale&gt;&lt;MOrigin&gt;-100000&lt;/MOrigin&gt;&lt;MScale&gt;10000&lt;/MScale&gt;&lt;XYTolerance&gt;0.0032808398950131233&lt;/XYTolerance&gt;&lt;ZTolerance&gt;0.001&lt;/ZTolerance&gt;&lt;MTolerance&gt;0.001&lt;/MTolerance&gt;&lt;HighPrecision&gt;true&lt;/HighPrecision&gt;&lt;WKID&gt;2253&lt;/WKID&gt;&lt;LatestWKID&gt;2253&lt;/LatestWKID&gt;&lt;/ProjectedCoordinateSystem&gt;</peXml>
</coordRef>
<RasterProperties>
<General>
<PixelDepth Sync="TRUE">8</PixelDepth>
<HasColormap Sync="TRUE">TRUE</HasColormap>
<CompressionType Sync="TRUE">LZW</CompressionType>
<NumBands Sync="TRUE">1</NumBands>
<Format Sync="TRUE">TIFF</Format>
<HasPyramids Sync="TRUE">TRUE</HasPyramids>
<SourceType Sync="TRUE">discrete</SourceType>
<PixelType Sync="TRUE">unsigned integer</PixelType>
<NoDataValue Sync="TRUE">255</NoDataValue>
</General>
</RasterProperties>
</DataProperties>
<ArcGISFormat>1.0</ArcGISFormat>
<scaleRange>
<minScale>150000000</minScale>
<maxScale>5000</maxScale>
</scaleRange>
<ArcGISProfile>FGDC</ArcGISProfile>
</Esri>
<mdLang>
<languageCode value="eng"/>
<countryCode Sync="TRUE" value="USA"/>
</mdLang>
<mdChar>
<CharSetCd value="004"/>
</mdChar>
<mdHrLv>
<ScopeCd value="005"/>
</mdHrLv>
<mdContact>
<rpIndName>Please see document listed in Supplemental Information section for details.</rpIndName>
<rpCntInfo>
<cntPhone>
<voiceNum>Please see document listed in Supplemental Information section for details.</voiceNum>
</cntPhone>
<cntAddress>
<city>Please see document listed in Supplemental Information section for details.</city>
<adminArea>Please see document listed in Supplemental Information section for details.</adminArea>
<postCode>Please see document listed in Supplemental Information section for details.</postCode>
</cntAddress>
</rpCntInfo>
<role>
<RoleCd value="007"/>
</role>
</mdContact>
<mdStanName>ArcGIS Metadata</mdStanName>
<mdStanVer>1.0</mdStanVer>
<distInfo>
<distributor>
<distorCont>
<rpIndName>Please see document listed in Supplemental Information section for details.</rpIndName>
<rpOrgName>Please see document listed in Supplemental Information section for details.</rpOrgName>
<rpPosName>Please see document listed in Supplemental Information section for details.</rpPosName>
<role>
<RoleCd value="005"/>
</role>
</distorCont>
</distributor>
<distTranOps>
<onLineSrc>
<linkage>unavailable</linkage>
</onLineSrc>
</distTranOps>
<distFormat>
<formatName Sync="TRUE">Raster Dataset</formatName>
</distFormat>
</distInfo>
<dataIdInfo>
<idCitation>
<resTitle Sync="TRUE">RougeRiverWatershedLandCVR2008ImageService</resTitle>
<date>
<pubDate date="inapplicable"/>
</date>
<citRespParty>
<rpOrgName>Please see document listed in Supplemental Information section for details.</rpOrgName>
<role>
<RoleCd value="006"/>
</role>
</citRespParty>
<citRespParty>
<rpOrgName>Oakland County</rpOrgName>
<role>
<RoleCd value="010"/>
</role>
</citRespParty>
<presForm>
<PresFormCd Sync="TRUE" value="005"/>
</presForm>
</idCitation>
<idAbs>&lt;DIV STYLE="text-align:Left;"&gt;&lt;DIV&gt;&lt;DIV&gt;&lt;P&gt;&lt;SPAN&gt;This 1-meter resolution raster dataset was created and adapted by Sanborn. It provides a five-class enhanced land cover level I classification of the Rouge River watershed area within Oakland County, Michigan conducted by Accuracy Assessment for Alliance of Rouge Communities (ARC) on May 4, 2010. The data was initially delivered by Sanborn in Erdas Imagine (.IMG) raster format on a per community basis; however each individual community raster was loaded individually to create this comprehensive mosaic. No changes to attribution, projection or cell values occurred during this process. Actual collection of the field data occurred in the spring of 2008 by the United States Geological Survey (USGS).&lt;/SPAN&gt;&lt;/P&gt;&lt;/DIV&gt;&lt;/DIV&gt;&lt;/DIV&gt;</idAbs>
<idPurp>Please see document listed in Supplemental Information section for details.</idPurp>
<idPoC>
<rpIndName>Please see document listed in Supplemental Information section for details.</rpIndName>
<rpOrgName>Please see document listed in Supplemental Information section for details.</rpOrgName>
<role>
<RoleCd value="007"/>
</role>
</idPoC>
<themeKeys>
<thesaName>
<resTitle>TBD</resTitle>
</thesaName>
<keyword>Watershed</keyword>
<keyword>Rouge River</keyword>
<keyword>Land Cover</keyword>
</themeKeys>
<searchKeys>
<keyword>Watershed</keyword>
<keyword>Rouge River</keyword>
<keyword>Land Cover</keyword>
</searchKeys>
<resConst>
<LegConsts>
<othConsts>This data has enhanced access or data sharing restrictions according to the Enhanced Access Policy (http://www.oakgov.com/it/gis/Documents/EnhancedAccessPolicy.pdf). Please contact the One Stop Shop at 248.858.0720 for more information.</othConsts>
</LegConsts>
</resConst>
<resConst>
<Consts>
<useLimit>&lt;DIV STYLE="text-align:Left;"&gt;&lt;DIV&gt;&lt;DIV&gt;&lt;P&gt;&lt;SPAN&gt;This data has enhanced access or data sharing restrictions according to the Geospatial Data Access, Distribution, and Use Policy (http://www.oakgov.com/it/gis/Documents/GISDataPolicies.pdf). Please contact the One Stop Shop at 248.858.0720 for more information.&lt;/SPAN&gt;&lt;/P&gt;&lt;/DIV&gt;&lt;/DIV&gt;&lt;/DIV&gt;</useLimit>
</Consts>
</resConst>
<dataLang>
<languageCode value="eng"/>
<countryCode Sync="TRUE" value="USA"/>
</dataLang>
<dataExt>
<exDesc>Please see document listed in Supplemental Information for details.</exDesc>
</dataExt>
<suppInfo>Original metadata is located at: http://www.oakgov.com/it/gis/Documents/metadata/ARC_FullArea_Landcover_08April2010.pdf</suppInfo>
<envirDesc Sync="TRUE"> Version 6.2 (Build 9200) ; Esri ArcGIS 10.7.1.11595</envirDesc>
<spatRpType>
<SpatRepTypCd Sync="TRUE" value="002"/>
</spatRpType>
<dataExt>
<geoEle>
<GeoBndBox esriExtentType="search">
<exTypeCode Sync="TRUE">1</exTypeCode>
<westBL Sync="TRUE">-83.587305</westBL>
<eastBL Sync="TRUE">-83.082440</eastBL>
<northBL Sync="TRUE">42.717433</northBL>
<southBL Sync="TRUE">42.387807</southBL>
</GeoBndBox>
</geoEle>
</dataExt>
<dataChar>
<CharSetCd value="004"/>
</dataChar>
<idCredit/>
</dataIdInfo>
<dqInfo>
<dqScope>
<scpLvl>
<ScopeCd value="005"/>
</scpLvl>
</dqScope>
<dataLineage>
<prcStep>
<stepDesc>All raster deliverables were consolidated using the Mosaic creation process within ArcGIS. Any values of 0 were treated as No Data, which removed any black lines surrounding each deliverable raster dataset.</stepDesc>
</prcStep>
</dataLineage>
</dqInfo>
<eainfo>
<detailed Name="RougeRiverWatershedLandCVR2008.tif.vat">
<enttyp>
<enttypl Sync="TRUE">RougeRiverWatershedLandCVR2008.tif.vat</enttypl>
<enttypt Sync="TRUE">Table</enttypt>
<enttypc Sync="TRUE">6</enttypc>
</enttyp>
<attr>
<attrlabl Sync="TRUE">OID</attrlabl>
<attalias Sync="TRUE">OID</attalias>
<attrtype Sync="TRUE">OID</attrtype>
<attwidth Sync="TRUE">4</attwidth>
<atprecis Sync="TRUE">0</atprecis>
<attscale Sync="TRUE">0</attscale>
<attrdef Sync="TRUE">Internal feature number.</attrdef>
<attrdefs Sync="TRUE">Esri</attrdefs>
<attrdomv>
<udom Sync="TRUE">Sequential unique whole numbers that are automatically generated.</udom>
</attrdomv>
</attr>
<attr>
<attrlabl>Opacity</attrlabl>
<attalias Sync="TRUE">Opacity</attalias>
<attrtype Sync="TRUE">Double</attrtype>
<attwidth Sync="TRUE">19</attwidth>
<atprecis Sync="TRUE">18</atprecis>
<attscale Sync="TRUE">8</attscale>
</attr>
<attr>
<attrlabl>Blue</attrlabl>
<attalias Sync="TRUE">Blue</attalias>
<attrtype Sync="TRUE">Double</attrtype>
<attwidth Sync="TRUE">19</attwidth>
<atprecis Sync="TRUE">18</atprecis>
<attscale Sync="TRUE">8</attscale>
</attr>
<attr>
<attrlabl>Class_name</attrlabl>
<attalias Sync="TRUE">Class_name</attalias>
<attrtype Sync="TRUE">String</attrtype>
<attwidth Sync="TRUE">21</attwidth>
<atprecis Sync="TRUE">0</atprecis>
<attscale Sync="TRUE">0</attscale>
</attr>
<attr>
<attrlabl>Green</attrlabl>
<attalias Sync="TRUE">Green</attalias>
<attrtype Sync="TRUE">Double</attrtype>
<attwidth Sync="TRUE">19</attwidth>
<atprecis Sync="TRUE">18</atprecis>
<attscale Sync="TRUE">8</attscale>
</attr>
<attr>
<attrlabl>Value</attrlabl>
<attalias Sync="TRUE">Value</attalias>
<attrtype Sync="TRUE">Integer</attrtype>
<attwidth Sync="TRUE">10</attwidth>
<atprecis Sync="TRUE">10</atprecis>
<attscale Sync="TRUE">0</attscale>
</attr>
<attr>
<attrlabl>Count_</attrlabl>
<attalias Sync="TRUE">Count_</attalias>
<attrtype Sync="TRUE">Double</attrtype>
<attwidth Sync="TRUE">19</attwidth>
<atprecis Sync="TRUE">18</atprecis>
<attscale Sync="TRUE">8</attscale>
</attr>
<attr>
<attrlabl>Red</attrlabl>
<attalias Sync="TRUE">Red</attalias>
<attrtype Sync="TRUE">Double</attrtype>
<attwidth Sync="TRUE">19</attwidth>
<atprecis Sync="TRUE">18</atprecis>
<attscale Sync="TRUE">8</attscale>
</attr>
</detailed>
</eainfo>
<mdHrLvName Sync="TRUE">dataset</mdHrLvName>
<refSysInfo>
<RefSystem>
<refSysID>
<identCode Sync="TRUE" code="2253"/>
<idCodeSpace Sync="TRUE">EPSG</idCodeSpace>
<idVersion Sync="TRUE">5.3(9.0.0)</idVersion>
</refSysID>
</RefSystem>
</refSysInfo>
<spdoinfo>
<rastinfo>
<rasttype Sync="TRUE">Pixel</rasttype>
<rowcount Sync="TRUE">36114</rowcount>
<colcount Sync="TRUE">41022</colcount>
<rastxsz Sync="TRUE">3.280833</rastxsz>
<rastysz Sync="TRUE">3.280833</rastysz>
<rastbpp Sync="TRUE">8</rastbpp>
<vrtcount Sync="TRUE">1</vrtcount>
<rastorig Sync="TRUE">Upper Left</rastorig>
<rastcmap Sync="TRUE">TRUE</rastcmap>
<rastcomp Sync="TRUE">LZ77</rastcomp>
<rastband Sync="TRUE">1</rastband>
<rastdtyp Sync="TRUE">pixel codes</rastdtyp>
<rastifor Sync="TRUE">SDR</rastifor>
<rastplyr Sync="TRUE">TRUE</rastplyr>
</rastinfo>
</spdoinfo>
<spref>
<horizsys>
<planar>
<planci>
<plance Sync="TRUE">row and column</plance>
<coordrep>
<absres Sync="TRUE">3.280833</absres>
<ordres Sync="TRUE">3.280833</ordres>
</coordrep>
</planci>
</planar>
</horizsys>
</spref>
<mdDateSt Sync="TRUE">20210402</mdDateSt>
<spatRepInfo>
<Georect>
<cellGeo>
<CellGeoCd Sync="TRUE" value="002"/>
</cellGeo>
<numDims Sync="TRUE">2</numDims>
<tranParaAv Sync="TRUE">1</tranParaAv>
<chkPtAv Sync="TRUE">0</chkPtAv>
<cornerPts>
<pos Sync="TRUE">13333884.617928 326160.625420</pos>
</cornerPts>
<cornerPts>
<pos Sync="TRUE">13333884.617928 444644.640420</pos>
</cornerPts>
<cornerPts>
<pos Sync="TRUE">13468470.962944 444644.640420</pos>
</cornerPts>
<cornerPts>
<pos Sync="TRUE">13468470.962944 326160.625420</pos>
</cornerPts>
<centerPt>
<pos Sync="TRUE">13401177.790436 385402.632920</pos>
</centerPt>
<axisDimension type="002">
<dimSize Sync="TRUE">41022</dimSize>
<dimResol>
<value Sync="TRUE" uom="ft">3.280833</value>
</dimResol>
</axisDimension>
<axisDimension type="001">
<dimSize Sync="TRUE">36114</dimSize>
<dimResol>
<value Sync="TRUE" uom="ft">3.280833</value>
</dimResol>
</axisDimension>
<ptInPixel>
<PixOrientCd Sync="TRUE" value="001"/>
</ptInPixel>
</Georect>
</spatRepInfo>
<contInfo>
<ImgDesc>
<contentTyp>
<ContentTypCd Sync="TRUE" value="002"/>
</contentTyp>
<covDim>
<Band>
<dimDescrp Sync="TRUE">Band_1</dimDescrp>
<maxVal Sync="TRUE">5.000000</maxVal>
<minVal Sync="TRUE">1.000000</minVal>
<bitsPerVal Sync="TRUE">8</bitsPerVal>
<valUnit>
<UOM type="length"/>
</valUnit>
</Band>
</covDim>
</ImgDesc>
</contInfo>
</metadata>
