<?xml version="1.0" encoding="UTF-8" standalone="no"?>
<metadata>
<Esri>
<ModDate>20210402</ModDate>
<ModTime>14072800</ModTime>
<CreaDate>20050519</CreaDate>
<CreaTime>13441600</CreaTime>
<SyncOnce>FALSE</SyncOnce>
<SyncDate>20210402</SyncDate>
<SyncTime>14072800</SyncTime>
<MetaID>{D92C34FB-A5E7-4857-860E-AC5A4825EB25}</MetaID>
<DataProperties>
<lineage>
<Process Date="20100923" Name="" Time="230726" ToolSource="D:\ArcGIS\Desktop10.0\ArcToolbox\Toolboxes\Data Management Tools.tbx\ChangePrivileges" export="">ChangePrivileges 'Database Connections/OC@5151 gisras1 oakgisdb01.sde\GISRAS1.OC.GROUNDWATERRECHARGE' GISRAS1_SDE_RL GRANT GRANT</Process>
<Process Date="20100923" Name="" Time="230727" ToolSource="D:\ArcGIS\Desktop10.0\ArcToolbox\Toolboxes\Data Management Tools.tbx\ChangePrivileges" export="">ChangePrivileges 'Database Connections/OC@5151 gisras1 oakgisdb01.sde\GISRAS1.OC.GROUNDWATERRECHARGE' GISRAS1_USER_RL GRANT AS_IS</Process>
<Process Date="20100923" Name="" Time="230728" ToolSource="D:\ArcGIS\Desktop10.0\ArcToolbox\Toolboxes\Data Management Tools.tbx\ChangePrivileges" export="">ChangePrivileges 'Database Connections/OC@5151 gisras1 oakgisdb01.sde\GISRAS1.OC.GROUNDWATERRECHARGE' GISRAS1_CVT_RL GRANT AS_IS</Process>
<Process Date="20100923" Name="" Time="230729" ToolSource="D:\ArcGIS\Desktop10.0\ArcToolbox\Toolboxes\Data Management Tools.tbx\ChangePrivileges" export="">ChangePrivileges 'Database Connections/OC@5151 gisras1 oakgisdb01.sde\GISRAS1.OC.GROUNDWATERRECHARGE' SDE GRANT AS_IS</Process>
<Process Date="20100923" Name="" Time="230730" ToolSource="D:\ArcGIS\Desktop10.0\ArcToolbox\Toolboxes\Data Management Tools.tbx\ChangePrivileges" export="">ChangePrivileges 'Database Connections/OC@5151 gisras1 oakgisdb01.sde\GISRAS1.OC.GROUNDWATERRECHARGE' GISRAS1_COUNTY_RL GRANT AS_IS</Process>
<Process Date="20100926" Name="" Time="055750" ToolSource="D:\ArcGIS\Desktop10.0\ArcToolbox\Toolboxes\Data Management Tools.tbx\ChangePrivileges" export="">ChangePrivileges 'Database Connections/OC@5151 gisras1 oakgisdb01.sde\GISRAS1.OC.GROUNDWATERRECHARGE' GISRAS1_SDE_RL GRANT GRANT</Process>
<Process Date="20100926" Name="" Time="055751" ToolSource="D:\ArcGIS\Desktop10.0\ArcToolbox\Toolboxes\Data Management Tools.tbx\ChangePrivileges" export="">ChangePrivileges 'Database Connections/OC@5151 gisras1 oakgisdb01.sde\GISRAS1.OC.GROUNDWATERRECHARGE' GISRAS1_USER_RL GRANT AS_IS</Process>
<Process Date="20100926" Name="" Time="055752" ToolSource="D:\ArcGIS\Desktop10.0\ArcToolbox\Toolboxes\Data Management Tools.tbx\ChangePrivileges" export="">ChangePrivileges 'Database Connections/OC@5151 gisras1 oakgisdb01.sde\GISRAS1.OC.GROUNDWATERRECHARGE' GISRAS1_CVT_RL GRANT AS_IS</Process>
<Process Date="20100926" Name="" Time="055753" ToolSource="D:\ArcGIS\Desktop10.0\ArcToolbox\Toolboxes\Data Management Tools.tbx\ChangePrivileges" export="">ChangePrivileges 'Database Connections/OC@5151 gisras1 oakgisdb01.sde\GISRAS1.OC.GROUNDWATERRECHARGE' SDE GRANT AS_IS</Process>
<Process Date="20100926" Name="" Time="055753" ToolSource="D:\ArcGIS\Desktop10.0\ArcToolbox\Toolboxes\Data Management Tools.tbx\ChangePrivileges" export="">ChangePrivileges 'Database Connections/OC@5151 gisras1 oakgisdb01.sde\GISRAS1.OC.GROUNDWATERRECHARGE' GISRAS1_COUNTY_RL GRANT AS_IS</Process>
<Process Date="20210402" Time="090928" ToolSource="c:\program files (x86)\arcgis\desktop10.7\ArcToolbox\Toolboxes\Data Management Tools.tbx\CopyRaster">CopyRaster D:\DBConnections103\DEV_QA_DBConnections\QAGISPublishing_gisras1_ro.sde\GISRAS1.OC.GROUNDWATERRECHARGE D:\GroundWaterRecharge.tif # # 2147483647 NONE NONE # NONE NONE TIFF NONE</Process>
</lineage>
<itemProps>
<itemName Sync="TRUE">GroundWaterRecharge2004.tif</itemName>
<nativeExtBox>
<westBL Sync="TRUE">13298809.490755</westBL>
<eastBL Sync="TRUE">13475625.354792</eastBL>
<southBL Sync="TRUE">333822.418262</southBL>
<northBL Sync="TRUE">514553.681402</northBL>
<exTypeCode Sync="TRUE">1</exTypeCode>
</nativeExtBox>
<itemLocation>
<linkage Sync="TRUE">file://\\gisfs1q\Orthos\Orthos_2010\MiscImages\GroundWaterRecharge2004.tif</linkage>
<protocol Sync="TRUE">Local Area Network</protocol>
</itemLocation>
<imsContentType Sync="TRUE" export="False">002</imsContentType>
</itemProps>
<coordRef>
<type Sync="TRUE">Projected</type>
<geogcsn Sync="TRUE">GCS_North_American_1983</geogcsn>
<csUnits Sync="TRUE">Linear Unit: Foot (0.304800)</csUnits>
<projcsn Sync="TRUE">NAD_1983_StatePlane_Michigan_South_FIPS_2113_Feet_Intl</projcsn>
<peXml Sync="TRUE">&lt;ProjectedCoordinateSystem xsi:type='typens:ProjectedCoordinateSystem' xmlns:xsi='http://www.w3.org/2001/XMLSchema-instance' xmlns:xs='http://www.w3.org/2001/XMLSchema' xmlns:typens='http://www.esri.com/schemas/ArcGIS/10.7'&gt;&lt;WKT&gt;PROJCS[&amp;quot;NAD_1983_StatePlane_Michigan_South_FIPS_2113_Feet_Intl&amp;quot;,GEOGCS[&amp;quot;GCS_North_American_1983&amp;quot;,DATUM[&amp;quot;D_North_American_1983&amp;quot;,SPHEROID[&amp;quot;GRS_1980&amp;quot;,6378137.0,298.257222101]],PRIMEM[&amp;quot;Greenwich&amp;quot;,0.0],UNIT[&amp;quot;Degree&amp;quot;,0.0174532925199433]],PROJECTION[&amp;quot;Lambert_Conformal_Conic&amp;quot;],PARAMETER[&amp;quot;False_Easting&amp;quot;,13123359.58005249],PARAMETER[&amp;quot;False_Northing&amp;quot;,0.0],PARAMETER[&amp;quot;Central_Meridian&amp;quot;,-84.36666666666666],PARAMETER[&amp;quot;Standard_Parallel_1&amp;quot;,42.1],PARAMETER[&amp;quot;Standard_Parallel_2&amp;quot;,43.66666666666666],PARAMETER[&amp;quot;Latitude_Of_Origin&amp;quot;,41.5],UNIT[&amp;quot;Foot&amp;quot;,0.3048],AUTHORITY[&amp;quot;EPSG&amp;quot;,2253]]&lt;/WKT&gt;&lt;XOrigin&gt;-107138600&lt;/XOrigin&gt;&lt;YOrigin&gt;-97193800&lt;/YOrigin&gt;&lt;XYScale&gt;37448250.484633707&lt;/XYScale&gt;&lt;ZOrigin&gt;-100000&lt;/ZOrigin&gt;&lt;ZScale&gt;10000&lt;/ZScale&gt;&lt;MOrigin&gt;-100000&lt;/MOrigin&gt;&lt;MScale&gt;10000&lt;/MScale&gt;&lt;XYTolerance&gt;0.0032808398950131233&lt;/XYTolerance&gt;&lt;ZTolerance&gt;0.001&lt;/ZTolerance&gt;&lt;MTolerance&gt;0.001&lt;/MTolerance&gt;&lt;HighPrecision&gt;true&lt;/HighPrecision&gt;&lt;WKID&gt;2253&lt;/WKID&gt;&lt;LatestWKID&gt;2253&lt;/LatestWKID&gt;&lt;/ProjectedCoordinateSystem&gt;</peXml>
</coordRef>
<RasterProperties>
<General>
<PixelDepth Sync="TRUE">32</PixelDepth>
<HasColormap Sync="TRUE">FALSE</HasColormap>
<CompressionType Sync="TRUE">LZW</CompressionType>
<NumBands Sync="TRUE">1</NumBands>
<Format Sync="TRUE">TIFF</Format>
<HasPyramids Sync="TRUE">TRUE</HasPyramids>
<SourceType Sync="TRUE">continuous</SourceType>
<PixelType Sync="TRUE">signed integer</PixelType>
<NoDataValue Sync="TRUE">2.1474836e+09</NoDataValue>
</General>
</RasterProperties>
</DataProperties>
<ArcGISFormat>1.0</ArcGISFormat>
<scaleRange>
<minScale>150000000</minScale>
<maxScale>5000</maxScale>
</scaleRange>
<ArcGISProfile>FGDC</ArcGISProfile>
</Esri>
<mdLang>
<languageCode value="eng"/>
<countryCode Sync="TRUE" value="USA"/>
</mdLang>
<mdChar>
<CharSetCd value="004"/>
</mdChar>
<mdHrLv>
<ScopeCd value="005"/>
</mdHrLv>
<mdContact>
<rpIndName>Please see document listed in Supplemental Information section for details.</rpIndName>
<rpCntInfo>
<cntPhone>
<voiceNum>Please see document listed in Supplemental Information section for details.</voiceNum>
</cntPhone>
<cntAddress>
<city>Please see document listed in Supplemental Information section for details.</city>
<adminArea>Please see document listed in Supplemental Information section for details.</adminArea>
<postCode>Please see document listed in Supplemental Information section for details.</postCode>
</cntAddress>
</rpCntInfo>
<role>
<RoleCd value="007"/>
</role>
</mdContact>
<mdStanName>ArcGIS Metadata</mdStanName>
<mdStanVer>1.0</mdStanVer>
<distInfo>
<distributor>
<distorCont>
<rpIndName>Please see document listed in Supplemental Information section for details.</rpIndName>
<rpOrgName>Please see document listed in Supplemental Information section for details.</rpOrgName>
<rpPosName>Please see document listed in Supplemental Information section for details.</rpPosName>
<role>
<RoleCd value="005"/>
</role>
</distorCont>
</distributor>
<distTranOps>
<onLineSrc>
<linkage>unavailable</linkage>
</onLineSrc>
</distTranOps>
<distFormat>
<formatName Sync="TRUE">Raster Dataset</formatName>
</distFormat>
</distInfo>
<dataIdInfo>
<idCitation>
<resTitle Sync="TRUE">GroundWaterRecharge2004ImageService</resTitle>
<citRespParty>
<rpOrgName>Please see document listed in Supplemental Information section for details.</rpOrgName>
<role>
<RoleCd value="006"/>
</role>
</citRespParty>
<citRespParty>
<rpOrgName>Oakland County</rpOrgName>
<role>
<RoleCd value="010"/>
</role>
</citRespParty>
<presForm>
<PresFormCd Sync="TRUE" value="005"/>
</presForm>
</idCitation>
<idAbs>&lt;DIV STYLE="text-align:Left;"&gt;&lt;DIV&gt;&lt;DIV&gt;&lt;P&gt;&lt;SPAN&gt;This raster dataset represents Oakland County's potential groundwater recharge areas. It was adapted (portion of Oakland County was clipped) from raster data obtained from the School of Natural Resources and Environment at the University of Michigan in October of 2004. Lower pixel values indicate groundwater recharge areas while higher values represent groundwater discharge areas. The dataset originated from a terrain-based approach for predicting groundwater delivery to streams and other surface water systems using mapped data within a GIS environment. The data is referred to as Darcy's Groundwater Recharge because the model used to develop it is based on the principals of Darcy's Law. Output was calculated in units of m day-1 for every 30 m2 grid cell across Lower Michigan.&lt;/SPAN&gt;&lt;/P&gt;&lt;/DIV&gt;&lt;/DIV&gt;&lt;/DIV&gt;</idAbs>
<idPurp>Please see document listed in Supplemental Information section for details.</idPurp>
<idPoC>
<rpIndName>Please see document listed in Supplemental Information section for details.</rpIndName>
<rpOrgName>Please see document listed in Supplemental Information section for details.</rpOrgName>
<role>
<RoleCd value="007"/>
</role>
</idPoC>
<themeKeys>
<thesaName>
<resTitle>TBD</resTitle>
</thesaName>
<keyword>inlandWaters</keyword>
<keyword>groundwater</keyword>
<keyword>water</keyword>
<keyword>farming</keyword>
<keyword>environment</keyword>
<keyword>biota</keyword>
<keyword>planningCadastre</keyword>
<keyword>geoscientificInformation</keyword>
</themeKeys>
<searchKeys>
<keyword>inlandWaters</keyword>
<keyword>groundwater</keyword>
<keyword>water</keyword>
<keyword>farming</keyword>
<keyword>environment</keyword>
<keyword>biota</keyword>
<keyword>planningCadastre</keyword>
<keyword>geoscientificInformation</keyword>
</searchKeys>
<resConst>
<LegConsts>
<othConsts>This data has enhanced access or data sharing restrictions according to the Enhanced Access Policy (http://www.oakgov.com/it/gis/Documents/EnhancedAccessPolicy.pdf). Please contact the One Stop Shop at 248.858.0720 for more information.</othConsts>
</LegConsts>
</resConst>
<resConst>
<Consts>
<useLimit>&lt;DIV STYLE="text-align:Left;"&gt;&lt;DIV&gt;&lt;DIV&gt;&lt;P&gt;&lt;SPAN&gt;This data has enhanced access or data sharing restrictions according to the Geospatial Data Access, Distribution, and Use Policy (http://www.oakgov.com/it/gis/Documents/GISDataPolicies.pdf). Please contact the One Stop Shop at 248.858.0720 for more information.&lt;/SPAN&gt;&lt;/P&gt;&lt;/DIV&gt;&lt;/DIV&gt;&lt;/DIV&gt;</useLimit>
</Consts>
</resConst>
<dataLang>
<languageCode value="eng"/>
<countryCode Sync="TRUE" value="USA"/>
</dataLang>
<dataExt>
<exDesc>Please see document listed in Supplemental Information for details.</exDesc>
</dataExt>
<suppInfo>For supplemental information look on the web at: http://www.oakgov.com/it/gis/Documents/metadata/DarcyGroundwater.pdf.</suppInfo>
<envirDesc Sync="TRUE"> Version 6.2 (Build 9200) ; Esri ArcGIS 10.7.1.11595</envirDesc>
<spatRpType>
<SpatRepTypCd Sync="TRUE" value="002"/>
</spatRpType>
<dataExt>
<geoEle>
<GeoBndBox esriExtentType="search">
<exTypeCode Sync="TRUE">1</exTypeCode>
<westBL Sync="TRUE">-83.716928</westBL>
<eastBL Sync="TRUE">-83.051758</eastBL>
<northBL Sync="TRUE">42.910079</northBL>
<southBL Sync="TRUE">42.408528</southBL>
</GeoBndBox>
</geoEle>
</dataExt>
<dataChar>
<CharSetCd value="004"/>
</dataChar>
<tpCat>
<TopicCatCd value="008"/>
</tpCat>
<tpCat>
<TopicCatCd value="001"/>
</tpCat>
<tpCat>
<TopicCatCd value="015"/>
</tpCat>
<tpCat>
<TopicCatCd value="007"/>
</tpCat>
<tpCat>
<TopicCatCd value="002"/>
</tpCat>
<tpCat>
<TopicCatCd value="012"/>
</tpCat>
<idCredit/>
</dataIdInfo>
<dqInfo>
<dqScope>
<scpLvl>
<ScopeCd value="005"/>
</scpLvl>
</dqScope>
<dataLineage>
<prcStep>
<stepDesc>Please see document listed in Supplemental Information section for details.</stepDesc>
</prcStep>
</dataLineage>
</dqInfo>
<eainfo>
<detailed Name="Band_1">
<enttyp>
<enttypl>Band_1</enttypl>
<enttypt>Table</enttypt>
<enttypc>6820</enttypc>
</enttyp>
<attr>
<attrlabl>Count</attrlabl>
</attr>
<attr>
<attrlabl>ObjectID</attrlabl>
<attrdef>Internal feature number.</attrdef>
<attrdefs>ESRI</attrdefs>
<attrdomv>
<udom>Sequential unique whole numbers that are automatically generated.</udom>
</attrdomv>
</attr>
<attr>
<attrlabl>Value</attrlabl>
</attr>
</detailed>
</eainfo>
<mdHrLvName Sync="TRUE">dataset</mdHrLvName>
<refSysInfo>
<RefSystem>
<refSysID>
<identCode Sync="TRUE" code="2253"/>
<idCodeSpace Sync="TRUE">EPSG</idCodeSpace>
<idVersion Sync="TRUE">5.3(9.0.0)</idVersion>
</refSysID>
</RefSystem>
</refSysInfo>
<spdoinfo>
<rastinfo>
<rasttype Sync="TRUE">Pixel</rasttype>
<rowcount Sync="TRUE">2031</rowcount>
<colcount Sync="TRUE">1987</colcount>
<rastxsz Sync="TRUE">88.986343</rastxsz>
<rastysz Sync="TRUE">88.986343</rastysz>
<rastbpp Sync="TRUE">32</rastbpp>
<vrtcount Sync="TRUE">1</vrtcount>
<rastorig Sync="TRUE">Upper Left</rastorig>
<rastcmap Sync="TRUE">FALSE</rastcmap>
<rastcomp Sync="TRUE">LZ77</rastcomp>
<rastband Sync="TRUE">1</rastband>
<rastdtyp Sync="TRUE">pixel codes</rastdtyp>
<rastifor Sync="TRUE">SDR</rastifor>
<rastplyr Sync="TRUE">TRUE</rastplyr>
</rastinfo>
</spdoinfo>
<spref>
<horizsys>
<planar>
<planci>
<plance Sync="TRUE">row and column</plance>
<coordrep>
<absres Sync="TRUE">88.986343</absres>
<ordres Sync="TRUE">88.986343</ordres>
</coordrep>
</planci>
</planar>
</horizsys>
</spref>
<mdDateSt Sync="TRUE">20210402</mdDateSt>
<spatRepInfo>
<Georect>
<cellGeo>
<CellGeoCd Sync="TRUE" value="002"/>
</cellGeo>
<numDims Sync="TRUE">2</numDims>
<tranParaAv Sync="TRUE">1</tranParaAv>
<chkPtAv Sync="TRUE">0</chkPtAv>
<cornerPts>
<pos Sync="TRUE">13298809.490755 333822.418262</pos>
</cornerPts>
<cornerPts>
<pos Sync="TRUE">13298809.490755 514553.681402</pos>
</cornerPts>
<cornerPts>
<pos Sync="TRUE">13475625.354792 514553.681402</pos>
</cornerPts>
<cornerPts>
<pos Sync="TRUE">13475625.354792 333822.418262</pos>
</cornerPts>
<centerPt>
<pos Sync="TRUE">13387217.422774 424188.049832</pos>
</centerPt>
<axisDimension type="002">
<dimSize Sync="TRUE">1987</dimSize>
<dimResol>
<value Sync="TRUE" uom="ft">88.986343</value>
</dimResol>
</axisDimension>
<axisDimension type="001">
<dimSize Sync="TRUE">2031</dimSize>
<dimResol>
<value Sync="TRUE" uom="ft">88.986343</value>
</dimResol>
</axisDimension>
<ptInPixel>
<PixOrientCd Sync="TRUE" value="001"/>
</ptInPixel>
</Georect>
</spatRepInfo>
<contInfo>
<ImgDesc>
<contentTyp>
<ContentTypCd Sync="TRUE" value="001"/>
</contentTyp>
<covDim>
<Band>
<dimDescrp Sync="TRUE">Band_1</dimDescrp>
<maxVal Sync="TRUE">3453.000000</maxVal>
<minVal Sync="TRUE">-13176.000000</minVal>
<bitsPerVal Sync="TRUE">32</bitsPerVal>
<valUnit>
<UOM type="length"/>
</valUnit>
</Band>
</covDim>
</ImgDesc>
</contInfo>
</metadata>
