<?xml version="1.0" encoding="UTF-8" standalone="no"?>
<metadata xml:lang="en">
<Esri>
<CreaDate>20210301</CreaDate>
<CreaTime>07422800</CreaTime>
<ArcGISFormat>1.0</ArcGISFormat>
<SyncOnce>FALSE</SyncOnce>
<DataProperties>
<lineage>
<Process Date="20210301" Time="074228" ToolSource="c:\program files (x86)\arcgis\desktop10.7\ArcToolbox\Toolboxes\Data Management Tools.tbx\CreateMosaicDataset">CreateMosaicDataset \\gisfs1q\Orthos\Orthos_2020\Orthos2020.gdb Mosaic2020 "PROJCS['NAD_1983_StatePlane_Michigan_South_FIPS_2113_Feet_Intl',GEOGCS['GCS_North_American_1983',DATUM['D_North_American_1983',SPHEROID['GRS_1980',6378137.0,298.257222101]],PRIMEM['Greenwich',0.0],UNIT['Degree',0.0174532925199433]],PROJECTION['Lambert_Conformal_Conic'],PARAMETER['False_Easting',13123359.58005249],PARAMETER['False_Northing',0.0],PARAMETER['Central_Meridian',-84.36666666666666],PARAMETER['Standard_Parallel_1',42.1],PARAMETER['Standard_Parallel_2',43.66666666666666],PARAMETER['Latitude_Of_Origin',41.5],UNIT['Foot',0.3048]];-107138600 -97193800 3048;-100000 10000;-100000 10000;3.28083989501312E-03;0.001;0.001;IsHighPrecision" # # NONE #</Process>
<Process Date="20210301" Time="083320" ToolSource="c:\program files (x86)\arcgis\desktop10.7\ArcToolbox\Toolboxes\Data Management Tools.tbx\DefineOverviews">DefineOverviews \\gisfs1q\Orthos\Orthos_2020\Orthos2020.gdb\Mosaic2020 \\gisfs1q\Orthos\Orthos_2020\Orthos2020.Overviews\Mosaic2020.Overviews # "13302214 337478 13473814 511718" # # 5120 5120 3 NO_FORCE_OVERVIEW_TILES BILINEAR JPEG 80</Process>
<Process Date="20210301" Time="222211" ToolSource="c:\program files (x86)\arcgis\desktop10.7\ArcToolbox\Toolboxes\Data Management Tools.tbx\BuildOverviews">BuildOverviews \\gisfs1q\Orthos\Orthos_2020\Orthos2020.gdb\Mosaic2020 # DEFINE_MISSING_TILES GENERATE_OVERVIEWS GENERATE_MISSING_IMAGES REGENERATE_STALE_IMAGES</Process>
</lineage>
<itemProps>
<itemName Sync="TRUE">Mosaic2020</itemName>
<itemLocation>
<linkage Sync="TRUE">file://\\gisfs1p\Orthos\Orthos_2020\Orthos2020.gdb</linkage>
<protocol Sync="TRUE">Local Area Network</protocol>
</itemLocation>
<nativeExtBox>
<westBL Sync="TRUE">13302214.000000</westBL>
<eastBL Sync="TRUE">13473814.000000</eastBL>
<southBL Sync="TRUE">337478.000000</southBL>
<northBL Sync="TRUE">511718.000000</northBL>
<exTypeCode Sync="TRUE">1</exTypeCode>
</nativeExtBox>
<imsContentType>002</imsContentType>
</itemProps>
<coordRef>
<type Sync="TRUE">Projected</type>
<geogcsn Sync="TRUE">GCS_North_American_1983</geogcsn>
<csUnits Sync="TRUE">Linear Unit: Foot (0.304800)</csUnits>
<projcsn Sync="TRUE">NAD_1983_StatePlane_Michigan_South_FIPS_2113_Feet_Intl</projcsn>
<peXml Sync="TRUE">&lt;ProjectedCoordinateSystem xsi:type='typens:ProjectedCoordinateSystem' xmlns:xsi='http://www.w3.org/2001/XMLSchema-instance' xmlns:xs='http://www.w3.org/2001/XMLSchema' xmlns:typens='http://www.esri.com/schemas/ArcGIS/10.7'&gt;&lt;WKT&gt;PROJCS[&amp;quot;NAD_1983_StatePlane_Michigan_South_FIPS_2113_Feet_Intl&amp;quot;,GEOGCS[&amp;quot;GCS_North_American_1983&amp;quot;,DATUM[&amp;quot;D_North_American_1983&amp;quot;,SPHEROID[&amp;quot;GRS_1980&amp;quot;,6378137.0,298.257222101]],PRIMEM[&amp;quot;Greenwich&amp;quot;,0.0],UNIT[&amp;quot;Degree&amp;quot;,0.0174532925199433]],PROJECTION[&amp;quot;Lambert_Conformal_Conic&amp;quot;],PARAMETER[&amp;quot;False_Easting&amp;quot;,13123359.58005249],PARAMETER[&amp;quot;False_Northing&amp;quot;,0.0],PARAMETER[&amp;quot;Central_Meridian&amp;quot;,-84.36666666666666],PARAMETER[&amp;quot;Standard_Parallel_1&amp;quot;,42.1],PARAMETER[&amp;quot;Standard_Parallel_2&amp;quot;,43.66666666666666],PARAMETER[&amp;quot;Latitude_Of_Origin&amp;quot;,41.5],UNIT[&amp;quot;Foot&amp;quot;,0.3048],AUTHORITY[&amp;quot;EPSG&amp;quot;,2253]]&lt;/WKT&gt;&lt;XOrigin&gt;-107138600&lt;/XOrigin&gt;&lt;YOrigin&gt;-97193800&lt;/YOrigin&gt;&lt;XYScale&gt;37448250.484633707&lt;/XYScale&gt;&lt;ZOrigin&gt;-100000&lt;/ZOrigin&gt;&lt;ZScale&gt;10000&lt;/ZScale&gt;&lt;MOrigin&gt;-100000&lt;/MOrigin&gt;&lt;MScale&gt;10000&lt;/MScale&gt;&lt;XYTolerance&gt;0.0032808398950131233&lt;/XYTolerance&gt;&lt;ZTolerance&gt;0.001&lt;/ZTolerance&gt;&lt;MTolerance&gt;0.001&lt;/MTolerance&gt;&lt;HighPrecision&gt;true&lt;/HighPrecision&gt;&lt;WKID&gt;2253&lt;/WKID&gt;&lt;LatestWKID&gt;2253&lt;/LatestWKID&gt;&lt;/ProjectedCoordinateSystem&gt;</peXml>
</coordRef>
<RasterProperties>
<General>
<PixelDepth Sync="TRUE">8</PixelDepth>
<HasColormap Sync="TRUE">FALSE</HasColormap>
<CompressionType Sync="TRUE">None</CompressionType>
<NumBands Sync="TRUE">4</NumBands>
<Format Sync="TRUE">AMD</Format>
<HasPyramids Sync="TRUE">TRUE</HasPyramids>
<SourceType Sync="TRUE">continuous</SourceType>
<PixelType Sync="TRUE">unsigned integer</PixelType>
<NoDataValue Sync="TRUE"/>
</General>
<Properties>
<MaxImageHeight Sync="TRUE">4100</MaxImageHeight>
<MaxImageWidth Sync="TRUE">15000</MaxImageWidth>
<MaxRecordCount Sync="TRUE">1000</MaxRecordCount>
<MaxDownloadImageCount Sync="TRUE">20</MaxDownloadImageCount>
<MaxDownloadSizeLimit Sync="TRUE">2048</MaxDownloadSizeLimit>
<MaxMosaicImageCount Sync="TRUE">20</MaxMosaicImageCount>
<DefaultCompressionQuality Sync="TRUE">75</DefaultCompressionQuality>
<DefaultCompressionTolerance Sync="TRUE">0.01</DefaultCompressionTolerance>
<BlendWidth Sync="TRUE">10</BlendWidth>
<ViewpointSpacingX Sync="TRUE">600</ViewpointSpacingX>
<ViewpointSpacingY Sync="TRUE">300</ViewpointSpacingY>
<AllowedItemMetadata Sync="TRUE">Basic</AllowedItemMetadata>
<DefaultResamplingMethod Sync="TRUE">1</DefaultResamplingMethod>
<AllowedMosaicMethods Sync="TRUE">NorthWest,Center,LockRaster,ByAttribute,Nadir,Viewpoint,Seamline,None</AllowedMosaicMethods>
<AllowedCompressions Sync="TRUE">None,JPEG,LZ77,LERC</AllowedCompressions>
<AllowedMensurationCapabilities Sync="TRUE">None</AllowedMensurationCapabilities>
<AvailableMensurationCapabilities Sync="TRUE">None,Basic,Base-Top Height,Top-Top Shadow Height,Base-Top Shadow Height,3D</AvailableMensurationCapabilities>
<ClipToBoundary Sync="TRUE">-1</ClipToBoundary>
<FootprintMayContainNoData Sync="TRUE">-1</FootprintMayContainNoData>
<CellSizeTolerance Sync="TRUE">0.8</CellSizeTolerance>
<MinimumPixelContribution Sync="TRUE">1</MinimumPixelContribution>
<AvailableMosaicMethods Sync="TRUE">NorthWest,Center,LockRaster,ByAttribute,Nadir,Viewpoint,Seamline,None</AvailableMosaicMethods>
<AvailableCompressionMethods Sync="TRUE">None,JPEG,LZ77,LERC</AvailableCompressionMethods>
<AvailableItemMetadataLevels Sync="TRUE">None,Basic,Full</AvailableItemMetadataLevels>
<BandDefinitionKeyword Sync="TRUE">NONE</BandDefinitionKeyword>
<_docversion_ Sync="TRUE">10</_docversion_>
<AllowedFields Sync="TRUE">Name,MinPS,MaxPS,LowPS,HighPS,Tag,GroupName,ProductName,CenterX,CenterY,ZOrder,Shape_Length,Shape_Area</AllowedFields>
<MaxCellSize Sync="TRUE">82012.5</MaxCellSize>
<LowCellSize Sync="TRUE">0.25</LowCellSize>
<HighCellSize Sync="TRUE">1640.25</HighCellSize>
<ApplyColorCorrection Sync="TRUE">0</ApplyColorCorrection>
</Properties>
<Functions Sync="TRUE">
<Function Description="Performs on-the-fly mosaic on a raster catalog." Name="Mosaic Function"/>
</Functions>
</RasterProperties>
</DataProperties>
<SyncDate>20210318</SyncDate>
<SyncTime>17314400</SyncTime>
<ModDate>20210318</ModDate>
<ModTime>17314400</ModTime>
</Esri>
<mdLang>
<languageCode value="eng"/>
<countryCode Sync="TRUE" value="USA"/>
</mdLang>
<mdChar>
<CharSetCd value="004"/>
</mdChar>
<mdHrLv>
<ScopeCd value="005"/>
</mdHrLv>
<mdContact>
<rpIndName>William Mayer</rpIndName>
<rpOrgName>Pictometry International Corp.</rpOrgName>
<rpPosName>Aerial Triangulation Technician</rpPosName>
<rpCntInfo>
<cntPhone>
<voiceNum>585-486-0093</voiceNum>
<faxNum>585-486-0098</faxNum>
</cntPhone>
<cntAddress addressType="both">
<delPoint>25 Methodist Hill Drive</delPoint>
<city>Rochester</city>
<adminArea>New York</adminArea>
<postCode>14623</postCode>
<country>US</country>
</cntAddress>
<cntHours>0900-1700 EST</cntHours>
</rpCntInfo>
<role>
<RoleCd value="007"/>
</role>
</mdContact>
<mdDateSt Sync="TRUE">20210318</mdDateSt>
<mdStanName>ArcGIS Metadata</mdStanName>
<mdStanVer>1.0</mdStanVer>
<distInfo>
<distributor>
<distorCont>
<rpIndName>Thom S. Salter</rpIndName>
<rpOrgName>Pictometry International Corp.</rpOrgName>
<rpPosName>Director, Photogrammetric Production</rpPosName>
<rpCntInfo>
<cntPhone>
<voiceNum>585-486-0093</voiceNum>
<faxNum>585-486-0098</faxNum>
</cntPhone>
<cntAddress addressType="both">
<delPoint>25 Methodist Hill Drive</delPoint>
<city>Rochester</city>
<adminArea>New York</adminArea>
<postCode>14623</postCode>
<country>US</country>
</cntAddress>
<cntHours>0900-1700 EST</cntHours>
</rpCntInfo>
<role>
<RoleCd value="005"/>
</role>
</distorCont>
<distorOrdPrc>
<resFees>$TBD</resFees>
</distorOrdPrc>
<distorFormat>
<formatName>TIFF</formatName>
</distorFormat>
<distorTran>
<transSize>0.097</transSize>
<offLineMed>
<medName>
<MedNameCd value="001"/>
</medName>
<medDensity>1</medDensity>
<medDenUnits>percent</medDenUnits>
</offLineMed>
</distorTran>
</distributor>
<distTranOps>
<onLineSrc>
<linkage>MIOAKL_3in_Delivery_Grid.shp</linkage>
</onLineSrc>
</distTranOps>
</distInfo>
<dataIdInfo>
<idCitation>
<resTitle Sync="TRUE">EnterpriseOrthoTC2020ImageService</resTitle>
<date>
<pubDate>2020-12-14</pubDate>
</date>
<citRespParty>
<rpOrgName>Oakland IR</rpOrgName>
<role>
<RoleCd value="006"/>
</role>
</citRespParty>
<citRespParty>
<rpOrgName>MI</rpOrgName>
<role>
<RoleCd value="006"/>
</role>
</citRespParty>
<presForm>
<PresFormCd value="005"/>
</presForm>
<presForm>
<fgdcGeoform>vector digital data</fgdcGeoform>
</presForm>
</idCitation>
<idAbs>The dataset consists of tiled orthogonal imagery produced from nadir images captured by Pictometry International. Automatic aerial triangulation (AAT) was performed. The triangulated frames were rectified to a LiDAR derived DEM. Mosaicking was performed using an automatic seaming algorithm and manually edited to eliminate seams through elevated features where possible.</idAbs>
<idPurp>Orthogonal image mosaic to support the needs of MI Oakland IR. Other uses expected.</idPurp>
<idStatus>
<ProgCd value="001"/>
</idStatus>
<idPoC>
<rpIndName>Thom S. Salter</rpIndName>
<rpOrgName>Pictometry International Corp.</rpOrgName>
<rpPosName>Director, Photogrammetric Production</rpPosName>
<rpCntInfo>
<cntPhone>
<voiceNum>585-486-0093</voiceNum>
<faxNum>585-486-0098</faxNum>
</cntPhone>
<cntAddress addressType="both">
<delPoint>25 Methodist Hill Drive</delPoint>
<city>Rochester</city>
<adminArea>New York</adminArea>
<postCode>14623</postCode>
<country>US</country>
</cntAddress>
<cntHours>0900-1700 EST</cntHours>
</rpCntInfo>
<role>
<RoleCd value="007"/>
</role>
</idPoC>
<resMaint>
<maintFreq>
<MaintFreqCd value="012"/>
</maintFreq>
</resMaint>
<placeKeys>
<keyword>Oakland IR</keyword>
<keyword>MI</keyword>
<thesaName>
<resTitle>Geographic Names Index Service</resTitle>
</thesaName>
</placeKeys>
<tempKeys>
<keyword>Current</keyword>
</tempKeys>
<themeKeys>
<keyword>Digital Orthophotography</keyword>
<thesaName>
<resTitle>EDI Thesaurus</resTitle>
</thesaName>
</themeKeys>
<searchKeys>
<keyword>Current</keyword>
<keyword>Oakland IR</keyword>
<keyword>Digital Orthophotography</keyword>
<keyword>MI</keyword>
</searchKeys>
<resConst>
<LegConsts>
<useLimit>Distribution of this dataset is constrained by the existing license agreement between the Pictometry International Corp. and MI Oakland IR.</useLimit>
<othConsts>Access to this data is constrained by the license agreements between Pictometry International and MI Oakland IR.</othConsts>
</LegConsts>
</resConst>
<resConst>
<Consts>
<useLimit>Use of this data is constrained by the license agreements between Pictometry International and MI Oakland IR.</useLimit>
</Consts>
</resConst>
<aggrInfo>
<aggrDSName>
<resTitle>MI Oakland IR 2020 Accuplus Project</resTitle>
<date>
<pubDate>2020-12-14</pubDate>
</date>
<citRespParty>
<rpOrgName>MI</rpOrgName>
<role>
<RoleCd value="006"/>
</role>
</citRespParty>
<citRespParty>
<rpOrgName>Oakland IR</rpOrgName>
<role>
<RoleCd value="006"/>
</role>
</citRespParty>
<presForm>
<PresFormCd value="005"/>
</presForm>
<presForm>
<fgdcGeoform>vector digital data</fgdcGeoform>
</presForm>
<citOnlineRes>
<linkage>MIOAKL_3in_Delivery_Grid.shp</linkage>
</citOnlineRes>
</aggrDSName>
<assocType>
<AscTypeCd value="001"/>
</assocType>
</aggrInfo>
<spatRpType>
<SpatRepTypCd value="001"/>
</spatRpType>
<dataLang>
<languageCode value="eng"/>
<countryCode Sync="TRUE" value="USA"/>
</dataLang>
<envirDesc Sync="TRUE"> Version 6.2 (Build 9200) ; Esri ArcGIS 10.7.1.11595</envirDesc>
<dataExt>
<geoEle>
<GeoBndBox>
<westBL>-83.711405</westBL>
<eastBL>-83.05665</eastBL>
<southBL>42.415365</southBL>
<northBL>42.906277</northBL>
</GeoBndBox>
</geoEle>
</dataExt>
<dataExt>
<exDesc>ground condition</exDesc>
<tempEle>
<TempExtent>
<exTemp>
<TM_Period>
<tmBegin>2020-04-06</tmBegin>
<tmEnd>2020-11-12</tmEnd>
</TM_Period>
</exTemp>
</TempExtent>
</tempEle>
<geoEle/>
</dataExt>
<dataExt>
<geoEle>
<GeoBndBox esriExtentType="search">
<exTypeCode Sync="TRUE">1</exTypeCode>
<westBL Sync="TRUE">-83.704214</westBL>
<eastBL Sync="TRUE">-83.058683</eastBL>
<northBL Sync="TRUE">42.902225</northBL>
<southBL Sync="TRUE">42.418635</southBL>
</GeoBndBox>
</geoEle>
</dataExt>
<idCredit/>
</dataIdInfo>
<dqInfo>
<dqScope>
<scpLvl>
<ScopeCd value="005"/>
</scpLvl>
</dqScope>
<report type="DQConcConsis">
<measDesc>Dataset is orthoimagery. Logical consistency is not applicable.</measDesc>
</report>
<report type="DQCompOm">
<measDesc>The 2020 MI Oakland IR Orthogonal data associated with this metadata file completely covers the project-specified boundary.</measDesc>
</report>
<dataLineage>
<prcStep>
<stepDesc>Mosaicking: Mosaicking was performed using Inpho's OrthoVista software and SeamEditor was employed for manual corrections.</stepDesc>
<stepDateTm date="unknown"/>
<stepProc>
<rpIndName>Thom S. Salter</rpIndName>
<rpOrgName>Pictometry International Corp.</rpOrgName>
<rpPosName>Director, Photogrammetric Production</rpPosName>
<rpCntInfo>
<cntPhone>
<voiceNum>585-486-0093</voiceNum>
<faxNum>585-486-0098</faxNum>
</cntPhone>
<cntAddress addressType="both">
<delPoint>25 Methodist Hill Drive</delPoint>
<city>Rochester</city>
<adminArea>New York</adminArea>
<postCode>14623</postCode>
<country>US</country>
</cntAddress>
<cntHours>0900-1700 EST</cntHours>
</rpCntInfo>
<role>
<RoleCd value="009"/>
</role>
</stepProc>
</prcStep>
<prcStep>
<stepDesc>AeroTriangulation: Imagery was aerotriangulated using Inpho's Match-AT software.</stepDesc>
<stepDateTm date="unknown"/>
<stepProc>
<rpIndName>Thom S. Salter</rpIndName>
<rpOrgName>Pictometry International Corp.</rpOrgName>
<rpPosName>Director, Photogrammetric Production</rpPosName>
<rpCntInfo>
<cntPhone>
<voiceNum>585-486-0093</voiceNum>
<faxNum>585-486-0098</faxNum>
</cntPhone>
<cntAddress addressType="both">
<delPoint>25 Methodist Hill Drive</delPoint>
<city>Rochester</city>
<adminArea>New York</adminArea>
<postCode>14623</postCode>
<country>US</country>
</cntAddress>
<cntHours>0900-1700 EST</cntHours>
</rpCntInfo>
<role>
<RoleCd value="009"/>
</role>
</stepProc>
</prcStep>
<prcStep>
<stepDesc>GPS/INS processing: Data was post-processed using NGS CORS base station data.</stepDesc>
<stepDateTm date="unknown"/>
<stepProc>
<rpIndName>Thom S. Salter</rpIndName>
<rpOrgName>Pictometry International Corp.</rpOrgName>
<rpPosName>Director, Photogrammetric Production</rpPosName>
<rpCntInfo>
<cntPhone>
<voiceNum>585-486-0093</voiceNum>
<faxNum>585-486-0098</faxNum>
</cntPhone>
<cntAddress addressType="both">
<delPoint>25 Methodist Hill Drive</delPoint>
<city>Rochester</city>
<adminArea>New York</adminArea>
<postCode>14623</postCode>
<country>US</country>
</cntAddress>
<cntHours>0900-1700 EST</cntHours>
</rpCntInfo>
<role>
<RoleCd value="009"/>
</role>
</stepProc>
</prcStep>
<prcStep>
<stepDesc>Rectification: Ortho-rectification was performed using Inpho's OrthoMaster software. A LiDAR based DEM was used as the rectification surface.</stepDesc>
<stepDateTm date="unknown"/>
<stepProc>
<rpIndName>Thom S. Salter</rpIndName>
<rpOrgName>Pictometry International Corp.</rpOrgName>
<rpPosName>Director, Photogrammetric Production</rpPosName>
<rpCntInfo>
<cntPhone>
<voiceNum>585-486-0093</voiceNum>
<faxNum>585-486-0098</faxNum>
</cntPhone>
<cntAddress addressType="both">
<delPoint>25 Methodist Hill Drive</delPoint>
<city>Rochester</city>
<adminArea>New York</adminArea>
<postCode>14623</postCode>
<country>US</country>
</cntAddress>
<cntHours>0900-1700 EST</cntHours>
</rpCntInfo>
<role>
<RoleCd value="009"/>
</role>
</stepProc>
</prcStep>
<dataSource>
<srcDesc>N/A</srcDesc>
<srcMedName>
<MedNameCd value="031"/>
</srcMedName>
<srcCitatn>
<resTitle>MI Oakland IR 2020 Accuplus Project</resTitle>
<resAltTitle>disc</resAltTitle>
<date>
<pubDate>2020-12-14</pubDate>
</date>
<citRespParty>
<rpOrgName>Oakland IR</rpOrgName>
<role>
<RoleCd value="006"/>
</role>
</citRespParty>
<citRespParty>
<rpOrgName>MI</rpOrgName>
<role>
<RoleCd value="006"/>
</role>
</citRespParty>
<presForm>
<PresFormCd value="005"/>
</presForm>
<presForm>
<fgdcGeoform>vector digital data</fgdcGeoform>
</presForm>
<citOnlineRes>
<linkage>MIOAKL_3in_Delivery_Grid.shp</linkage>
</citOnlineRes>
</srcCitatn>
<srcExt>
<exDesc>ground condition</exDesc>
<tempEle>
<TempExtent>
<exTemp>
<TM_Period>
<tmBegin>2020-04-06</tmBegin>
<tmEnd>2020-11-12</tmEnd>
</TM_Period>
</exTemp>
</TempExtent>
</tempEle>
</srcExt>
</dataSource>
</dataLineage>
</dqInfo>
<spatRepInfo>
<VectSpatRep>
<geometObjs>
<geoObjTyp>
<GeoObjTypCd value="001"/>
</geoObjTyp>
<geoObjCnt>3999</geoObjCnt>
</geometObjs>
</VectSpatRep>
<Georect>
<cellGeo>
<CellGeoCd Sync="TRUE" value="002"/>
</cellGeo>
<numDims Sync="TRUE">2</numDims>
<tranParaAv Sync="TRUE">1</tranParaAv>
<chkPtAv Sync="TRUE">0</chkPtAv>
<cornerPts>
<pos Sync="TRUE">13302214.000000 337478.000000</pos>
</cornerPts>
<cornerPts>
<pos Sync="TRUE">13302214.000000 511718.000000</pos>
</cornerPts>
<cornerPts>
<pos Sync="TRUE">13473814.000000 511718.000000</pos>
</cornerPts>
<cornerPts>
<pos Sync="TRUE">13473814.000000 337478.000000</pos>
</cornerPts>
<centerPt>
<pos Sync="TRUE">13388014.000000 424598.000000</pos>
</centerPt>
<axisDimension type="002">
<dimSize Sync="TRUE">686400</dimSize>
<dimResol>
<value Sync="TRUE" uom="ft">0.250000</value>
</dimResol>
</axisDimension>
<axisDimension type="001">
<dimSize Sync="TRUE">696960</dimSize>
<dimResol>
<value Sync="TRUE" uom="ft">0.250000</value>
</dimResol>
</axisDimension>
<ptInPixel>
<PixOrientCd Sync="TRUE" value="001"/>
</ptInPixel>
</Georect>
</spatRepInfo>
<eainfo>
<detailed>
<enttyp>
<enttypl>MIOAKL_3in_Delivery_Grid</enttypl>
<enttypd>MI Oakland IR Accuplus Flight Tiling Scheme</enttypd>
<enttypds>Pictometry International Corp.</enttypds>
</enttyp>
<attr>
<attrlabl>Shape</attrlabl>
<attrdef>Feature geometry.</attrdef>
<attrdefs>ESRI</attrdefs>
<attrdomv>
<udom>Coordinates defining the features.</udom>
</attrdomv>
</attr>
<attr>
<attrlabl>FID</attrlabl>
<attrdef>Internal feature number.</attrdef>
<attrdefs>ESRI</attrdefs>
<attrdomv>
<udom>Sequential unique whole numbers that are automatically generated.</udom>
</attrdomv>
</attr>
<attr>
<attrlabl>TILELABEL</attrlabl>
<attrdef>Tile Label</attrdef>
<attrdefs>Pictometry International Corp.</attrdefs>
<attrdomv>
<udom>Coordinates defining the features.</udom>
</attrdomv>
</attr>
</detailed>
</eainfo>
<refSysInfo>
<RefSystem>
<refSysID>
<identCode Sync="TRUE" code="2253"/>
<idCodeSpace Sync="TRUE">EPSG</idCodeSpace>
<idVersion Sync="TRUE">5.3(9.0.0)</idVersion>
</refSysID>
</RefSystem>
</refSysInfo>
<contInfo>
<ImgDesc>
<contentTyp>
<ContentTypCd Sync="TRUE" value="001"/>
</contentTyp>
<covDim>
<Band>
<dimDescrp Sync="TRUE">Band_1</dimDescrp>
<maxVal Sync="TRUE">254.000000</maxVal>
<minVal Sync="TRUE">1.000000</minVal>
<bitsPerVal Sync="TRUE">8</bitsPerVal>
<valUnit>
<UOM type="length"/>
</valUnit>
</Band>
<Band>
<dimDescrp Sync="TRUE">Band_2</dimDescrp>
<maxVal Sync="TRUE">255.000000</maxVal>
<minVal Sync="TRUE">3.000000</minVal>
<bitsPerVal Sync="TRUE">8</bitsPerVal>
<valUnit>
<UOM type="length"/>
</valUnit>
</Band>
<Band>
<dimDescrp Sync="TRUE">Band_3</dimDescrp>
<maxVal Sync="TRUE">255.000000</maxVal>
<minVal Sync="TRUE">2.000000</minVal>
<bitsPerVal Sync="TRUE">8</bitsPerVal>
<valUnit>
<UOM type="length"/>
</valUnit>
</Band>
<Band>
<dimDescrp Sync="TRUE">Band_4</dimDescrp>
<maxVal Sync="TRUE">253.000000</maxVal>
<minVal Sync="TRUE">1.000000</minVal>
<bitsPerVal Sync="TRUE">8</bitsPerVal>
<valUnit>
<UOM type="length"/>
</valUnit>
</Band>
</covDim>
</ImgDesc>
</contInfo>
</metadata>
