<?xml version="1.0" encoding="UTF-8" standalone="no"?>
<metadata xml:lang="en">
<Esri>
<CreaDate>20210115</CreaDate>
<CreaTime>12310100</CreaTime>
<ArcGISFormat>1.0</ArcGISFormat>
<SyncOnce>FALSE</SyncOnce>
<DataProperties>
<lineage>
<Process Date="20210115" Time="123101" ToolSource="c:\program files (x86)\arcgis\desktop10.7\ArcToolbox\Toolboxes\Data Management Tools.tbx\CreateMosaicDataset">CreateMosaicDataset \\gisfs1q\Orthos\Orthos_2015\Orthos2015.gdb Mosaic2015 "PROJCS['NAD_1983_StatePlane_Michigan_South_FIPS_2113_Feet_Intl',GEOGCS['GCS_North_American_1983',DATUM['D_North_American_1983',SPHEROID['GRS_1980',6378137.0,298.257222101]],PRIMEM['Greenwich',0.0],UNIT['Degree',0.0174532925199433]],PROJECTION['Lambert_Conformal_Conic'],PARAMETER['False_Easting',13123359.58005249],PARAMETER['False_Northing',0.0],PARAMETER['Central_Meridian',-84.36666666666666],PARAMETER['Standard_Parallel_1',42.1],PARAMETER['Standard_Parallel_2',43.66666666666666],PARAMETER['Latitude_Of_Origin',41.5],UNIT['Foot',0.3048]];-107138600 -97193800 3048;-100000 10000;-100000 10000;3.28083989501312E-03;0.001;0.001;IsHighPrecision" # # NONE #</Process>
<Process Date="20210115" Time="124513" ToolSource="c:\program files (x86)\arcgis\desktop10.7\ArcToolbox\Toolboxes\Data Management Tools.tbx\DefineOverviews">DefineOverviews \\gisfs1q\Orthos\Orthos_2015\Orthos2015.gdb\Mosaic2015 \\gisfs1q\Orthos\Orthos_2015\Overviews # "13302000 334000 13474500 511500" # # 5120 5120 3 NO_FORCE_OVERVIEW_TILES BILINEAR JPEG 80</Process>
</lineage>
<itemProps>
<itemName Sync="TRUE">Mosaic2015</itemName>
<itemLocation>
<linkage Sync="TRUE">file://\\gisfs1p\Orthos\Orthos_2015\Orthos2015.gdb</linkage>
<protocol Sync="TRUE">Local Area Network</protocol>
</itemLocation>
<nativeExtBox>
<westBL Sync="TRUE">13302000.000000</westBL>
<eastBL Sync="TRUE">13474500.000000</eastBL>
<southBL Sync="TRUE">334000.000000</southBL>
<northBL Sync="TRUE">511500.000000</northBL>
<exTypeCode Sync="TRUE">1</exTypeCode>
</nativeExtBox>
</itemProps>
<coordRef>
<type Sync="TRUE">Projected</type>
<geogcsn Sync="TRUE">GCS_North_American_1983</geogcsn>
<csUnits Sync="TRUE">Linear Unit: Foot (0.304800)</csUnits>
<projcsn Sync="TRUE">NAD_1983_StatePlane_Michigan_South_FIPS_2113_Feet_Intl</projcsn>
<peXml Sync="TRUE">&lt;ProjectedCoordinateSystem xsi:type='typens:ProjectedCoordinateSystem' xmlns:xsi='http://www.w3.org/2001/XMLSchema-instance' xmlns:xs='http://www.w3.org/2001/XMLSchema' xmlns:typens='http://www.esri.com/schemas/ArcGIS/10.7'&gt;&lt;WKT&gt;PROJCS[&amp;quot;NAD_1983_StatePlane_Michigan_South_FIPS_2113_Feet_Intl&amp;quot;,GEOGCS[&amp;quot;GCS_North_American_1983&amp;quot;,DATUM[&amp;quot;D_North_American_1983&amp;quot;,SPHEROID[&amp;quot;GRS_1980&amp;quot;,6378137.0,298.257222101]],PRIMEM[&amp;quot;Greenwich&amp;quot;,0.0],UNIT[&amp;quot;Degree&amp;quot;,0.0174532925199433]],PROJECTION[&amp;quot;Lambert_Conformal_Conic&amp;quot;],PARAMETER[&amp;quot;False_Easting&amp;quot;,13123359.58005249],PARAMETER[&amp;quot;False_Northing&amp;quot;,0.0],PARAMETER[&amp;quot;Central_Meridian&amp;quot;,-84.36666666666666],PARAMETER[&amp;quot;Standard_Parallel_1&amp;quot;,42.1],PARAMETER[&amp;quot;Standard_Parallel_2&amp;quot;,43.66666666666666],PARAMETER[&amp;quot;Latitude_Of_Origin&amp;quot;,41.5],UNIT[&amp;quot;Foot&amp;quot;,0.3048],AUTHORITY[&amp;quot;EPSG&amp;quot;,2253]]&lt;/WKT&gt;&lt;XOrigin&gt;-107138600&lt;/XOrigin&gt;&lt;YOrigin&gt;-97193800&lt;/YOrigin&gt;&lt;XYScale&gt;37448250.484633707&lt;/XYScale&gt;&lt;ZOrigin&gt;-100000&lt;/ZOrigin&gt;&lt;ZScale&gt;10000&lt;/ZScale&gt;&lt;MOrigin&gt;-100000&lt;/MOrigin&gt;&lt;MScale&gt;10000&lt;/MScale&gt;&lt;XYTolerance&gt;0.0032808398950131233&lt;/XYTolerance&gt;&lt;ZTolerance&gt;0.001&lt;/ZTolerance&gt;&lt;MTolerance&gt;0.001&lt;/MTolerance&gt;&lt;HighPrecision&gt;true&lt;/HighPrecision&gt;&lt;WKID&gt;2253&lt;/WKID&gt;&lt;LatestWKID&gt;2253&lt;/LatestWKID&gt;&lt;/ProjectedCoordinateSystem&gt;</peXml>
</coordRef>
<RasterProperties>
<General>
<PixelDepth Sync="TRUE">8</PixelDepth>
<HasColormap Sync="TRUE">FALSE</HasColormap>
<CompressionType Sync="TRUE">None</CompressionType>
<NumBands Sync="TRUE">4</NumBands>
<Format Sync="TRUE">AMD</Format>
<HasPyramids Sync="TRUE">TRUE</HasPyramids>
<SourceType Sync="TRUE">continuous</SourceType>
<PixelType Sync="TRUE">unsigned integer</PixelType>
<NoDataValue Sync="TRUE"/>
</General>
<Properties>
<MaxImageHeight Sync="TRUE">4100</MaxImageHeight>
<MaxImageWidth Sync="TRUE">15000</MaxImageWidth>
<MaxRecordCount Sync="TRUE">1000</MaxRecordCount>
<MaxDownloadImageCount Sync="TRUE">20</MaxDownloadImageCount>
<MaxDownloadSizeLimit Sync="TRUE">2048</MaxDownloadSizeLimit>
<MaxMosaicImageCount Sync="TRUE">20</MaxMosaicImageCount>
<DefaultCompressionQuality Sync="TRUE">75</DefaultCompressionQuality>
<DefaultCompressionTolerance Sync="TRUE">0.01</DefaultCompressionTolerance>
<BlendWidth Sync="TRUE">10</BlendWidth>
<ViewpointSpacingX Sync="TRUE">600</ViewpointSpacingX>
<ViewpointSpacingY Sync="TRUE">300</ViewpointSpacingY>
<AllowedItemMetadata Sync="TRUE">Basic</AllowedItemMetadata>
<DefaultResamplingMethod Sync="TRUE">1</DefaultResamplingMethod>
<AllowedMosaicMethods Sync="TRUE">NorthWest,Center,LockRaster,ByAttribute,Nadir,Viewpoint,Seamline,None</AllowedMosaicMethods>
<AllowedCompressions Sync="TRUE">None,JPEG,LZ77,LERC</AllowedCompressions>
<AllowedMensurationCapabilities Sync="TRUE">None</AllowedMensurationCapabilities>
<AvailableMensurationCapabilities Sync="TRUE">None,Basic,Base-Top Height,Top-Top Shadow Height,Base-Top Shadow Height,3D</AvailableMensurationCapabilities>
<ClipToBoundary Sync="TRUE">-1</ClipToBoundary>
<FootprintMayContainNoData Sync="TRUE">-1</FootprintMayContainNoData>
<CellSizeTolerance Sync="TRUE">0.8</CellSizeTolerance>
<MinimumPixelContribution Sync="TRUE">1</MinimumPixelContribution>
<AvailableMosaicMethods Sync="TRUE">NorthWest,Center,LockRaster,ByAttribute,Nadir,Viewpoint,Seamline,None</AvailableMosaicMethods>
<AvailableCompressionMethods Sync="TRUE">None,JPEG,LZ77,LERC</AvailableCompressionMethods>
<AvailableItemMetadataLevels Sync="TRUE">None,Basic,Full</AvailableItemMetadataLevels>
<BandDefinitionKeyword Sync="TRUE">NONE</BandDefinitionKeyword>
<_docversion_ Sync="TRUE">10</_docversion_>
<AllowedFields Sync="TRUE">Name,MinPS,MaxPS,LowPS,HighPS,Tag,GroupName,ProductName,CenterX,CenterY,ZOrder,Shape_Length,Shape_Area,Year</AllowedFields>
<LowCellSize Sync="TRUE">0.5</LowCellSize>
<HighCellSize Sync="TRUE">729</HighCellSize>
<MaxCellSize Sync="TRUE">36450</MaxCellSize>
<ApplyColorCorrection Sync="TRUE">0</ApplyColorCorrection>
</Properties>
<Functions Sync="TRUE">
<Function Description="Performs on-the-fly mosaic on a raster catalog." Name="Mosaic Function"/>
</Functions>
</RasterProperties>
</DataProperties>
<scaleRange>
<minScale>150000000</minScale>
<maxScale>5000</maxScale>
</scaleRange>
<SyncDate>20221116</SyncDate>
<SyncTime>10032300</SyncTime>
<ModDate>20221116</ModDate>
<ModTime>10032300</ModTime>
</Esri>
<mdLang>
<languageCode value="eng"/>
<countryCode Sync="TRUE" value="USA"/>
</mdLang>
<mdChar>
<CharSetCd value="004"/>
</mdChar>
<mdHrLv>
<ScopeCd value="005"/>
</mdHrLv>
<mdContact>
<rpIndName>Kris Andersen</rpIndName>
<rpOrgName>Sanborn Mapping Company, Inc</rpOrgName>
<rpPosName>Project Manager</rpPosName>
<rpCntInfo>
<cntPhone>
<voiceNum>719-593-0093</voiceNum>
<faxNum>719-528-5093</faxNum>
</cntPhone>
<cntAddress addressType="postal">
<delPoint>1935 Jamboree Drive, Suite 100</delPoint>
<city>Colorado Springs</city>
<adminArea>CO</adminArea>
<postCode>80920</postCode>
<country>US</country>
<eMailAdd>sagarwal@sanborn.com</eMailAdd>
<eMailAdd>kandersen@sanborn.com</eMailAdd>
</cntAddress>
<cntHours>8 - 5 Moutain Time</cntHours>
</rpCntInfo>
<role>
<RoleCd value="007"/>
</role>
</mdContact>
<mdStanName>ArcGIS Metadata</mdStanName>
<mdStanVer>1.0</mdStanVer>
<distInfo>
<distributor>
<distorCont>
<rpIndName>Everett Root</rpIndName>
<rpOrgName>Center for Shared Solutions</rpOrgName>
<rpPosName>Dept. of Technology, Management &amp; Budget (DTMB)</rpPosName>
<rpCntInfo>
<cntPhone>
<voiceNum>517-373-7910</voiceNum>
</cntPhone>
<cntAddress addressType="both">
<delPoint>111 S. Capitol Ave</delPoint>
<city>Lansing</city>
<adminArea>MI</adminArea>
<postCode>48933</postCode>
</cntAddress>
<cntHours>8:30am - 4:30pm EST</cntHours>
</rpCntInfo>
<role>
<RoleCd value="005"/>
</role>
</distorCont>
<distorFormat>
<formatName>TIFF</formatName>
</distorFormat>
</distributor>
<distTranOps>
<onLineSrc>
<linkage>\\conas\projects\312014473_Michigan\Ortho\6in\deliv\Final_Deliv\Oakland</linkage>
</onLineSrc>
</distTranOps>
</distInfo>
<dataIdInfo>
<idCitation>
<resTitle Sync="TRUE">EnterpriseOrthoTC2015ImageService</resTitle>
<citRespParty>
<rpOrgName>Oakland County, Michigan</rpOrgName>
<role>
<RoleCd value="006"/>
</role>
</citRespParty>
<presForm>
<PresFormCd value="005"/>
</presForm>
<presForm>
<fgdcGeoform>remote-sensing image</fgdcGeoform>
</presForm>
<otherCitDet>2015 OrthoImage</otherCitDet>
<date>
<createDate>2015-04-13T00:00:00</createDate>
<pubDate>2015-11-17T00:00:00</pubDate>
</date>
</idCitation>
<idAbs>&lt;DIV STYLE="text-align:Left;"&gt;&lt;DIV&gt;&lt;DIV&gt;&lt;P&gt;&lt;SPAN&gt;This 2015 raster dataset consists of 8-bit, 4-band (R, G, B, NIR) color orthoimagery. A digital orthoimage is a raster image processed from vertical aerial images in which displacement in the image due to sensor orientation and terrain relief have been removed. Orthoimagery combines the image characteristics of an image with the geometric qualities of a map. Unlike planimetric maps which depict natural and manmade features by means of lines, point symbols, texts and polygons, orthoimagery illustrates the actual images of features and are thus more easily interpreted than regular maps. The normal orientation of data in an orthoimage is by lines (rows) and samples (columns). Each line contains a series of pixels ordered from west to east with the order of the lines from north to south. Each image tile is stored in industry standard TIFF (tagged interchange file format) with an associated TIFF world file. Aerial imagery was acquired between April 12 and 15 2015 from flying heights of approximately 1400-1640 feet above ground level (AGL). Each orthoimage tile is 2500feet X 2500feet in dimension, edge-tied with the adjacent tiles (no gap and no overlap). This dataset is published in NAD_1983_HARN_StatePlane_Michigan_South_FIPS_2111_Feet_Intl_feet. &lt;/SPAN&gt;&lt;/P&gt;&lt;/DIV&gt;&lt;/DIV&gt;&lt;/DIV&gt;</idAbs>
<idPurp>An orthoimage is useful as a layer of any geographic information system (GIS). It can function as a cartographic base for displaying, generating, and modifying associated digital planimetric data. Other applications include environmental impact assessments, disaster management, emergency evacuation planning, flood analysis, soil erosion assessment, facility management, ground-water and watershed analysis, right of way and road alignment, transportation network inventory and analysis, preliminary design studies, vegetation classification detection of physical features or attributes not possible at ground level, and a myriad of additional applications.</idPurp>
<idStatus>
<ProgCd value="001"/>
</idStatus>
<idPoC>
<rpIndName>Everett Root</rpIndName>
<rpOrgName>Center for Shared Solutions</rpOrgName>
<rpPosName>Dept. of Technology, Management &amp; Budget (DTMB)</rpPosName>
<rpCntInfo>
<cntPhone>
<voiceNum>517-373-7910</voiceNum>
</cntPhone>
<cntAddress addressType="both">
<delPoint>111 S. Capitol Ave</delPoint>
<city>Lansing</city>
<adminArea>MI</adminArea>
<postCode>48933</postCode>
<country>US</country>
</cntAddress>
<cntHours>8:30am - 5:30pm EST</cntHours>
</rpCntInfo>
<role>
<RoleCd value="007"/>
</role>
</idPoC>
<resMaint>
<maintFreq>
<MaintFreqCd value="009"/>
</maintFreq>
</resMaint>
<placeKeys>
<thesaName>
<resTitle>Oakland County, Michigan</resTitle>
</thesaName>
<keyword>Oakland County, Michigan</keyword>
</placeKeys>
<tempKeys>
<keyword>2015</keyword>
<keyword>April 2015</keyword>
</tempKeys>
<themeKeys>
<thesaName>
<resTitle>Rectified Imagery</resTitle>
</thesaName>
<keyword>OrthoImage</keyword>
<keyword>OrthoImage 2015</keyword>
</themeKeys>
<searchKeys>
<keyword>2015</keyword>
<keyword>Oakland County</keyword>
<keyword>Michigan</keyword>
<keyword>OrthoImage</keyword>
<keyword>April 2015</keyword>
<keyword>OrthoImage 2015</keyword>
</searchKeys>
<resConst>
<LegConsts>
<othConsts>http://www.oakgov.com/it/gis/Documents/EnhancedAccessPolicy.pdf</othConsts>
</LegConsts>
<Consts>
<useLimit/>
</Consts>
</resConst>
<dataLang>
<languageCode value="eng"/>
<countryCode Sync="TRUE" value="USA"/>
</dataLang>
<dataExt>
<exDesc>publication date</exDesc>
<geoEle/>
</dataExt>
<dataExt>
<geoEle>
<GeoBndBox>
<westBL>13279500</westBL>
<eastBL>13449500</eastBL>
<southBL>79419.5</southBL>
<northBL>224000</northBL>
</GeoBndBox>
</geoEle>
</dataExt>
<dataChar>
<CharSetCd value="004"/>
</dataChar>
<resConst>
<LegConsts>
<useLimit>http://www.oakgov.com/it/gis/Documents/GISDataPolicies.pdf</useLimit>
</LegConsts>
<Consts>
<useLimit/>
</Consts>
</resConst>
<envirDesc Sync="TRUE"> Version 6.2 (Build 9200) ; Esri ArcGIS 10.7.1.11595</envirDesc>
<spatRpType>
<SpatRepTypCd Sync="TRUE" value="002"/>
</spatRpType>
<dataExt>
<geoEle>
<GeoBndBox esriExtentType="search">
<exTypeCode Sync="TRUE">1</exTypeCode>
<westBL Sync="TRUE">-83.705108</westBL>
<eastBL Sync="TRUE">-83.056136</eastBL>
<northBL Sync="TRUE">42.901631</northBL>
<southBL Sync="TRUE">42.409063</southBL>
</GeoBndBox>
</geoEle>
</dataExt>
<idCredit/>
</dataIdInfo>
<mdMaint>
<maintFreq>
<MaintFreqCd value="011"/>
</maintFreq>
</mdMaint>
<dqInfo>
<dqScope>
<scpLvl>
<ScopeCd value="005"/>
</scpLvl>
</dqScope>
<report type="DQConcConsis">
<measDesc>The digital imagery for each acquisition sortie is differentially rectified to produce orthophotography at a resolution of 1ft. Once the imagery has passed quality control review, final radiometric adjustments are performed to create a uniform overall appearance. The process is overseen by a ASPRS Certified Photogrammetrist (CP). The CP Overseeing production at Sanborn is Sanchit Agarwal.</measDesc>
</report>
<report type="DQCompOm">
<measDesc>Compliance with the accuracy standard was ensured by the collection of airborne GPS data and by referencing the ground control points.</measDesc>
</report>
<report dimension="horizontal" type="DQAbsExtPosAcc">
<measDesc>Horizontal accuracy is based on ground control and digital elevation model data provided by Sanborn Map Company that was used in the production of the digital orthoimagery.</measDesc>
<evalMethDesc>The digital orthoimagery accuracy requirement meets the Oakland County Requirement of ASPRS Class 1 of clearly identifiable features within the photography. The orthoimagery has been compared to the airborne GPS and surveyed locations to confirm the requirement has been met.</evalMethDesc>
<measResult>
<QuanResult>
<quanVal>1</quanVal>
</QuanResult>
</measResult>
</report>
<report dimension="vertical" type="DQAbsExtPosAcc">
<measDesc>For the orthophoto product, there is no vertical accuracy.</measDesc>
<evalMethDesc>For the orthophoto product, there is no vertical accuracy.</evalMethDesc>
<measResult>
<QuanResult>
<quanVal>1</quanVal>
</QuanResult>
</measResult>
</report>
<dataLineage>
<prcStep>
<stepDesc>Masspoint Autocorrelation: Sanborn will use autocorrelation to capture masspoints in areas not containing a DEM. This process uses SimActive Auto-Correlator 3D (SimActive) software. SimActive is a graphic processing unit (GPU) enabled software that can mass-produce the DEM surface at least five times more efficiently than the traditional auto-correlation engines. SimActive generates DEM points from digital aerial images and has a high overall accuracy. SimActive provides a large number of terrain points with medium accuracy by matching identical features in each of the stereo models. SimActive then filters these points to create a very precise masspoint grid for the entire model, or within a predefined collection boundary. SimActive will produce a grid of high density masspoints with an accuracy of approximately 1/10,000 of the flying height of aerial imagery obtained under optimal conditions. SimActive surface modeling parameters will be tailored to the terrain types in the project area to ensure high accuracy masspoints.</stepDesc>
</prcStep>
<prcStep>
<stepDesc>Softcopy (Digital) Aerotriangulation: This task involved the densification of ground control points, measurement of photo coordinates, computation and block adjustment to solve for exterior orientation parameters of individual photographs necessary for ortho-rectification. New ground control locations surveyed by the Sanborn map company; a combination of photo-identical points and targeted points were used. The ground control points were measured in a fully digital environment using softcopy stereoplotters and tie point and passpoints automatically generated. Analytical aerotriangulation computations and adjustment were done using ZI Imaging's ISAT software, which is capable of performing bundle block adjustments using a rigorous least squares analysis, and possesses error detection and removal facilities. Systematic error corrections for lens distortion, earth curvature, and atmospheric refraction. State-of-the-art software with highly sophisticated error-detection routines was used to perform the computation and bundle block adjustment. Trained aerial triangulation specialist analyzed both numerical printouts and graphical error vector output display to detect gaps or holes in the block due to missing tie points, pass points or ground control.</stepDesc>
</prcStep>
<prcStep>
<stepDesc>Orthorectification: This task involved orthorectification of the raw digital raster images that were created from processing of Micorsoft Ultracam Eagle digital camera data. A number of image processing techniques were used to maximize the quality of the deliverable images. All operations were performed using Sanborn's proprietary APS (METRO) software. The un-rectified raster images were georeferenced to the Oakland County Auto-Correlated Surface using the digital aerotriangulation result and aerial camera data. Digital orthoimagery was created by draping the un-rectified raster images over their corresponding digital terrain models. All relief displacement was removed from the raw image files at ground level on a pixel-by-pixel basis using mathamatical pixel manipulation and seams, yielding a set of orthorectified digital photo images. Mosaicking was performed to ensure a perfect edge match between all orthoimage tiles. Seam lines were generated automatically and manually manipulated where necessary to ensure that no image flaws result from seam lines passing through tall structures. Seamline calculations bring in radiometric values of the pixels that are used first and then the terrain is brought into the equation. The software uses the radiometric values to go around cars and buildings the best it can. If the software detects a substantial change in the surface (like steep hills to cliffs), the software will try to compensate with another image, to avoid smearing of the imagery. If the seams would not compensate for the surface change, it would create a smear or the hillside would be more stretched than it should be. There will be on occasion patches of seams hiding these terrain changes. All orthoimagery tiles were generated butt joints, no overlaps nor gaps. Radiometric adjustment was performed to balance and match color tones, brightness and contrast of the imagery over the whole project. Color orthoimagery were produced 8-bit per channel, resulting in 8-bit RGB, .tif/.tfw format with a pixel size of 0.5ft. Ortho tiles were generated according to the pre-approved County orthoimagery tile layout, with tiles 2500'X 2500'.</stepDesc>
</prcStep>
<prcStep>
<stepDesc>The digital aerial imagery was transferred from the UCEcamera to a Mass Storage Unit (MSU) and shipped to Sanborn's main facility in Colorado Springs. Once downloaded, Data is processed via Micorsoft ultramap software from the raw camera format to a 4-band unsharpened color image and a pan image. An application is executed that outputs the mid-exposure pulse for each image. At this point a POS file is processed photo files as input to the Aerial Triangulation process. Raw camera data files are archived on LTO3 tapes. The imagery is processed using Intergraph PPS processing software to create a 3-band color image in natural color (RGB) format. The images are archived (on LTO3 tapes) and removed from system when orthophotography production has been completed.</stepDesc>
</prcStep>
<prcStep>
<stepDesc>Several major processes were done before the Oakland County orthophotos were produced namely: digital aerial photography, imagery processing and QC, softcopy aerial triangulation and QC, ortho-rectification and QC. Aerial Photography: Aerial Photography was acquired with 100 mm focal length, Micorsoft Utltracam Eagle precision digital aerial mapping camera on April 12th and 15th, 2015. Aerial photography was flown at 14500 feet AGL. Planes were deployed with gyro-stabilized mount and equipped with forward motion compensation, Ariborne GPS and Intertial Measurement Unit.The photo mission was conducted under optimal atmospheric conditions and greater than 30 degree sun angle.</stepDesc>
</prcStep>
<prcStep>
<stepDesc>Quality Control All orthophoto tiles were thoroughly inspected according to Sanborn QA/QC quality control procedures. Comprehensive visual inspection included looking for mosaicking, image smearing and color balancing across the entire project. The process is overseen by a ASPRS Certified Photogrammetrist. The CP Overseeing production at Sanborn is Sanchit Agarwal.</stepDesc>
</prcStep>
</dataLineage>
</dqInfo>
<spatRepInfo>
<Georect>
<axisDimension type="001">
<dimSize Sync="TRUE">355000</dimSize>
<dimResol>
<value Sync="TRUE" uom="ft">0.500000</value>
</dimResol>
</axisDimension>
<axisDimension type="002">
<dimSize Sync="TRUE">345000</dimSize>
<dimResol>
<value Sync="TRUE" uom="ft">0.500000</value>
</dimResol>
</axisDimension>
<axisDimension type="003">
<dimSize>0.5</dimSize>
</axisDimension>
<cellGeo>
<CellGeoCd Sync="TRUE" value="002"/>
</cellGeo>
<numDims Sync="TRUE">2</numDims>
<tranParaAv Sync="TRUE">1</tranParaAv>
<chkPtAv Sync="TRUE">0</chkPtAv>
<cornerPts>
<pos Sync="TRUE">13302000.000000 334000.000000</pos>
</cornerPts>
<cornerPts>
<pos Sync="TRUE">13302000.000000 511500.000000</pos>
</cornerPts>
<cornerPts>
<pos Sync="TRUE">13474500.000000 511500.000000</pos>
</cornerPts>
<cornerPts>
<pos Sync="TRUE">13474500.000000 334000.000000</pos>
</cornerPts>
<centerPt>
<pos Sync="TRUE">13388250.000000 422750.000000</pos>
</centerPt>
<ptInPixel>
<PixOrientCd Sync="TRUE" value="001"/>
</ptInPixel>
</Georect>
</spatRepInfo>
<contInfo>
<ImgDesc>
<covDim>
<Band>
<valUnit>
<UOM type="length"/>
</valUnit>
<dimDescrp Sync="TRUE">Band_1</dimDescrp>
<bitsPerVal Sync="TRUE">8</bitsPerVal>
</Band>
<Band>
<valUnit>
<UOM type="length"/>
</valUnit>
<dimDescrp Sync="TRUE">Band_2</dimDescrp>
<bitsPerVal Sync="TRUE">8</bitsPerVal>
</Band>
<Band>
<valUnit>
<UOM type="length"/>
</valUnit>
<dimDescrp Sync="TRUE">Band_3</dimDescrp>
<bitsPerVal Sync="TRUE">8</bitsPerVal>
</Band>
<Band>
<valUnit>
<UOM type="length"/>
</valUnit>
<dimDescrp Sync="TRUE">Band_4</dimDescrp>
<bitsPerVal Sync="TRUE">8</bitsPerVal>
</Band>
</covDim>
<contentTyp>
<ContentTypCd Sync="TRUE" value="001"/>
</contentTyp>
