<?xml version="1.0" encoding="UTF-8" standalone="no"?>
<metadata xml:lang="en">
<Esri>
<CreaDate>20201123</CreaDate>
<CreaTime>12563200</CreaTime>
<ArcGISFormat>1.0</ArcGISFormat>
<SyncOnce>FALSE</SyncOnce>
<DataProperties>
<lineage>
<Process Date="20201123" Time="125632" ToolSource="c:\program files (x86)\arcgis\desktop10.7\ArcToolbox\Toolboxes\Data Management Tools.tbx\CreateMosaicDataset">CreateMosaicDataset \\gisfs1p\Orthos\Orthos_2010\Orthos2010Mosaic.gdb Mosaic2010 "PROJCS['NAD_1983_StatePlane_Michigan_South_FIPS_2113_Feet_Intl',GEOGCS['GCS_North_American_1983',DATUM['D_North_American_1983',SPHEROID['GRS_1980',6378137.0,298.257222101]],PRIMEM['Greenwich',0.0],UNIT['Degree',0.0174532925199433]],PROJECTION['Lambert_Conformal_Conic'],PARAMETER['False_Easting',13123359.58005249],PARAMETER['False_Northing',0.0],PARAMETER['Central_Meridian',-84.36666666666666],PARAMETER['Standard_Parallel_1',42.1],PARAMETER['Standard_Parallel_2',43.66666666666666],PARAMETER['Latitude_Of_Origin',41.5],UNIT['Foot',0.3048]];-107138600 -97193800 3048;-100000 10000;-100000 10000;3.28083989501312E-03;0.001;0.001;IsHighPrecision" # # NONE #</Process>
<Process Date="20201123" Time="130136" ToolSource="c:\program files (x86)\arcgis\desktop10.7\ArcToolbox\Toolboxes\Data Management Tools.tbx\DefineOverviews">DefineOverviews \\gisfs1p\Orthos\Orthos_2010\Orthos2010Mosaic.gdb\Mosaic2010 \\gisfs1p\Orthos\Orthos_2010\Orthos2010Mosaic.Overviews\Mosaic2010.Overviews # # # # 5120 5120 3 NO_FORCE_OVERVIEW_TILES BILINEAR JPEG 80</Process>
<Process Date="20201123" Time="131612" ToolSource="c:\program files (x86)\arcgis\desktop10.7\ArcToolbox\Toolboxes\Data Management Tools.tbx\DefineOverviews">DefineOverviews \\gisfs1p\Orthos\Orthos_2010\Orthos2010Mosaic.gdb\Mosaic2010 \\gisfs1p\Orthos\Orthos_2010\Orthos2010Mosaic.Overviews\Mosaic2010.Overviews # # # # 5120 5120 3 NO_FORCE_OVERVIEW_TILES BILINEAR JPEG 80</Process>
<Process Date="20201123" Time="131728" ToolSource="c:\program files (x86)\arcgis\desktop10.7\ArcToolbox\Toolboxes\Data Management Tools.tbx\BuildOverviews">BuildOverviews \\gisfs1p\Orthos\Orthos_2010\Orthos2010Mosaic.gdb\Mosaic2010 # DEFINE_MISSING_TILES GENERATE_OVERVIEWS GENERATE_MISSING_IMAGES REGENERATE_STALE_IMAGES</Process>
<Process Date="20201123" Time="140528" ToolSource="c:\program files (x86)\arcgis\desktop10.7\ArcToolbox\Toolboxes\Data Management Tools.tbx\DefineOverviews">DefineOverviews \\gisfs1p\orthos\Orthos_2010\Orthos2010Mosaic.gdb\Mosaic2010 \\gisfs1p\orthos\Orthos_2010\Orthos2010Mosaic.Overviews\Mosaic2010.Overviews # # # # 5120 5120 3 NO_FORCE_OVERVIEW_TILES BILINEAR JPEG 80</Process>
<Process Date="20201123" Time="140754" ToolSource="c:\program files (x86)\arcgis\desktop10.7\ArcToolbox\Toolboxes\Data Management Tools.tbx\DefineOverviews">DefineOverviews \\gisfs1p\orthos\Orthos_2010\Orthos2010Mosaic.gdb\Mosaic2010 \\gisfs1p\orthos\Orthos_2010\Overviews # # # # 5120 5120 3 NO_FORCE_OVERVIEW_TILES BILINEAR JPEG 80</Process>
<Process Date="20201123" Time="155425" ToolSource="c:\program files (x86)\arcgis\desktop10.7\ArcToolbox\Toolboxes\Data Management Tools.tbx\BuildOverviews">BuildOverviews \\gisfs1p\orthos\Orthos_2010\Orthos2010Mosaic.gdb\Mosaic2010 # DEFINE_MISSING_TILES GENERATE_OVERVIEWS GENERATE_MISSING_IMAGES REGENERATE_STALE_IMAGES</Process>
</lineage>
<itemProps>
<itemName Sync="TRUE">Mosaic2010</itemName>
<itemLocation>
<linkage Sync="TRUE">file://\\gisfs1p\Orthos\Orthos_2010\Orthos2010Mosaic.gdb</linkage>
<protocol Sync="TRUE">Local Area Network</protocol>
</itemLocation>
<nativeExtBox>
<westBL Sync="TRUE">13300000.000000</westBL>
<eastBL Sync="TRUE">13472500.000000</eastBL>
<southBL Sync="TRUE">335000.000000</southBL>
<northBL Sync="TRUE">512500.000000</northBL>
<exTypeCode Sync="TRUE">1</exTypeCode>
</nativeExtBox>
</itemProps>
<coordRef>
<type Sync="TRUE">Projected</type>
<geogcsn Sync="TRUE">GCS_North_American_1983</geogcsn>
<csUnits Sync="TRUE">Linear Unit: Foot (0.304800)</csUnits>
<projcsn Sync="TRUE">NAD_1983_StatePlane_Michigan_South_FIPS_2113_Feet_Intl</projcsn>
<peXml Sync="TRUE">&lt;ProjectedCoordinateSystem xsi:type='typens:ProjectedCoordinateSystem' xmlns:xsi='http://www.w3.org/2001/XMLSchema-instance' xmlns:xs='http://www.w3.org/2001/XMLSchema' xmlns:typens='http://www.esri.com/schemas/ArcGIS/10.7'&gt;&lt;WKT&gt;PROJCS[&amp;quot;NAD_1983_StatePlane_Michigan_South_FIPS_2113_Feet_Intl&amp;quot;,GEOGCS[&amp;quot;GCS_North_American_1983&amp;quot;,DATUM[&amp;quot;D_North_American_1983&amp;quot;,SPHEROID[&amp;quot;GRS_1980&amp;quot;,6378137.0,298.257222101]],PRIMEM[&amp;quot;Greenwich&amp;quot;,0.0],UNIT[&amp;quot;Degree&amp;quot;,0.0174532925199433]],PROJECTION[&amp;quot;Lambert_Conformal_Conic&amp;quot;],PARAMETER[&amp;quot;False_Easting&amp;quot;,13123359.58005249],PARAMETER[&amp;quot;False_Northing&amp;quot;,0.0],PARAMETER[&amp;quot;Central_Meridian&amp;quot;,-84.36666666666666],PARAMETER[&amp;quot;Standard_Parallel_1&amp;quot;,42.1],PARAMETER[&amp;quot;Standard_Parallel_2&amp;quot;,43.66666666666666],PARAMETER[&amp;quot;Latitude_Of_Origin&amp;quot;,41.5],UNIT[&amp;quot;Foot&amp;quot;,0.3048],AUTHORITY[&amp;quot;EPSG&amp;quot;,2253]]&lt;/WKT&gt;&lt;XOrigin&gt;-107138600&lt;/XOrigin&gt;&lt;YOrigin&gt;-97193800&lt;/YOrigin&gt;&lt;XYScale&gt;37448250.484633707&lt;/XYScale&gt;&lt;ZOrigin&gt;-100000&lt;/ZOrigin&gt;&lt;ZScale&gt;10000&lt;/ZScale&gt;&lt;MOrigin&gt;-100000&lt;/MOrigin&gt;&lt;MScale&gt;10000&lt;/MScale&gt;&lt;XYTolerance&gt;0.0032808398950131233&lt;/XYTolerance&gt;&lt;ZTolerance&gt;0.001&lt;/ZTolerance&gt;&lt;MTolerance&gt;0.001&lt;/MTolerance&gt;&lt;HighPrecision&gt;true&lt;/HighPrecision&gt;&lt;WKID&gt;2253&lt;/WKID&gt;&lt;LatestWKID&gt;2253&lt;/LatestWKID&gt;&lt;/ProjectedCoordinateSystem&gt;</peXml>
</coordRef>
<RasterProperties>
<General>
<PixelDepth Sync="TRUE">8</PixelDepth>
<HasColormap Sync="TRUE">FALSE</HasColormap>
<CompressionType Sync="TRUE">None</CompressionType>
<NumBands Sync="TRUE">4</NumBands>
<Format Sync="TRUE">AMD</Format>
<HasPyramids Sync="TRUE">TRUE</HasPyramids>
<SourceType Sync="TRUE">continuous</SourceType>
<PixelType Sync="TRUE">unsigned integer</PixelType>
<NoDataValue Sync="TRUE"/>
</General>
<Properties>
<MaxImageHeight Sync="TRUE">4100</MaxImageHeight>
<MaxImageWidth Sync="TRUE">15000</MaxImageWidth>
<MaxRecordCount Sync="TRUE">1000</MaxRecordCount>
<MaxDownloadImageCount Sync="TRUE">20</MaxDownloadImageCount>
<MaxDownloadSizeLimit Sync="TRUE">2048</MaxDownloadSizeLimit>
<MaxMosaicImageCount Sync="TRUE">20</MaxMosaicImageCount>
<DefaultCompressionQuality Sync="TRUE">75</DefaultCompressionQuality>
<DefaultCompressionTolerance Sync="TRUE">0.01</DefaultCompressionTolerance>
<BlendWidth Sync="TRUE">10</BlendWidth>
<ViewpointSpacingX Sync="TRUE">600</ViewpointSpacingX>
<ViewpointSpacingY Sync="TRUE">300</ViewpointSpacingY>
<AllowedItemMetadata Sync="TRUE">Basic</AllowedItemMetadata>
<DefaultResamplingMethod Sync="TRUE">1</DefaultResamplingMethod>
<AllowedMosaicMethods Sync="TRUE">NorthWest,Center,LockRaster,ByAttribute,Nadir,Viewpoint,Seamline,None</AllowedMosaicMethods>
<AllowedCompressions Sync="TRUE">None,JPEG,LZ77,LERC</AllowedCompressions>
<AllowedMensurationCapabilities Sync="TRUE">None</AllowedMensurationCapabilities>
<AvailableMensurationCapabilities Sync="TRUE">None,Basic,Base-Top Height,Top-Top Shadow Height,Base-Top Shadow Height,3D</AvailableMensurationCapabilities>
<ClipToBoundary Sync="TRUE">-1</ClipToBoundary>
<FootprintMayContainNoData Sync="TRUE">-1</FootprintMayContainNoData>
<CellSizeTolerance Sync="TRUE">0.8</CellSizeTolerance>
<MinimumPixelContribution Sync="TRUE">1</MinimumPixelContribution>
<AvailableMosaicMethods Sync="TRUE">NorthWest,Center,LockRaster,ByAttribute,Nadir,Viewpoint,Seamline,None</AvailableMosaicMethods>
<AvailableCompressionMethods Sync="TRUE">None,JPEG,LZ77,LERC</AvailableCompressionMethods>
<AvailableItemMetadataLevels Sync="TRUE">None,Basic,Full</AvailableItemMetadataLevels>
<BandDefinitionKeyword Sync="TRUE">NONE</BandDefinitionKeyword>
<_docversion_ Sync="TRUE">10</_docversion_>
<AllowedFields Sync="TRUE">Name,MinPS,MaxPS,LowPS,HighPS,Tag,GroupName,ProductName,CenterX,CenterY,ZOrder,Shape_Length,Shape_Area,Year</AllowedFields>
<ApplyColorCorrection Sync="TRUE">0</ApplyColorCorrection>
<MaxCellSize Sync="TRUE">54675</MaxCellSize>
<LowCellSize Sync="TRUE">0.5</LowCellSize>
<HighCellSize Sync="TRUE">1093.5</HighCellSize>
</Properties>
<Functions Sync="TRUE">
<Function Description="Performs on-the-fly mosaic on a raster catalog." Name="Mosaic Function"/>
</Functions>
</RasterProperties>
</DataProperties>
<scaleRange>
<minScale>50000</minScale>
<maxScale>5000</maxScale>
</scaleRange>
<SyncDate>20210312</SyncDate>
<SyncTime>15083500</SyncTime>
<ModDate>20210312</ModDate>
<ModTime>15083500</ModTime>
</Esri>
<mdLang>
<languageCode value="eng"/>
<countryCode Sync="TRUE" value="USA"/>
</mdLang>
<mdChar>
<CharSetCd value="004"/>
</mdChar>
<mdHrLv>
<ScopeCd value="005"/>
</mdHrLv>
<mdContact>
<rpIndName>Anita Campbell</rpIndName>
<rpOrgName>Oakland County Application Services</rpOrgName>
<rpPosName>GIS Data Services Supervisor</rpPosName>
<rpCntInfo>
<cntPhone>
<voiceNum>248.858.2388</voiceNum>
<faxNum>248.452.9128</faxNum>
</cntPhone>
<cntAddress addressType="postal">
<delPoint>1200 N Telegraph Rd, 49W</delPoint>
<city>Pontiac</city>
<adminArea>MI</adminArea>
<postCode>48341</postCode>
<country>US</country>
<eMailAdd>campbella@oakgov.com</eMailAdd>
</cntAddress>
<cntHours>8:30 a.m. to 5:00 p.m.</cntHours>
</rpCntInfo>
<role>
<RoleCd value="007"/>
</role>
</mdContact>
<mdStanName>ArcGIS Metadata</mdStanName>
<mdStanVer>1.0</mdStanVer>
<distInfo>
<distributor>
<distorCont>
<rpIndName>Erick Phillips</rpIndName>
<rpOrgName>Oakland County One Stop Shop</rpOrgName>
<rpPosName>Supervisor</rpPosName>
<rpCntInfo>
<cntPhone>
<voiceNum>248.858.4070</voiceNum>
<faxNum>248.858.1080</faxNum>
</cntPhone>
<cntAddress addressType="both">
<delPoint>2100 Pontiac Lake Rd, Bldg 41W</delPoint>
<city>Waterford</city>
<adminArea>MI</adminArea>
<postCode>48328-0412</postCode>
<country>US</country>
<eMailAdd>phillipse@oakgov.com</eMailAdd>
</cntAddress>
<cntHours>9:00 a.m. to 4:00 p.m.</cntHours>
</rpCntInfo>
<role>
<RoleCd value="005"/>
</role>
</distorCont>
<distorOrdPrc>
<resFees>Varies by data type and agent.</resFees>
<ordInstr>Contact Erick Phillips of the One Stop Shop by phone.</ordInstr>
<ordTurn>24 hrs.</ordTurn>
</distorOrdPrc>
<distorFormat>
<formatName>Shapefiles, .tiff and MrSID</formatName>
</distorFormat>
<distorTran>
<offLineMed>
<medName>
<MedNameCd value="001"/>
</medName>
</offLineMed>
</distorTran>
</distributor>
<distTranOps>
<onLineSrc>
<linkage>unavailable</linkage>
</onLineSrc>
</distTranOps>
</distInfo>
<dataIdInfo>
<idCitation>
<citRespParty>
<rpOrgName>Oakland County</rpOrgName>
<role>
<RoleCd value="006"/>
</role>
</citRespParty>
<resTitle Sync="TRUE">EnterpriseOrthoTC2010ImageService</resTitle>
<presForm>
<PresFormCd Sync="TRUE" value="005"/>
</presForm>
</idCitation>
<idAbs>In the Spring of 2010, Southeast Michigan Council of Government (SEMCOG) obtained new orthoimagery for all seven of the membership counties - Livingston, Macomb, Monroe, Oakland, Washtenaw, Wayne, and St. Clair. This metadata is for Oakland County, Michigan.</idAbs>
<idPurp>The project consisted of color digital aerial imagery acquisition and color digital orthophoto production at 0.5-foot ground sample distance (GSD) for Oakland County (approximately 907 square miles). The aerial photography plan and the 2, 500 foot x 2, 500 foot digital orthophoto tiles were based on the SEMCOG approved Tile system, based upon the State Plane Grid.</idPurp>
<idStatus>
<ProgCd value="001"/>
</idStatus>
<idPoC>
<rpIndName>Anita Campbell</rpIndName>
<rpOrgName>Oakland County Application Services</rpOrgName>
<rpPosName>GIS Data Services Supervisor</rpPosName>
<rpCntInfo>
<cntPhone>
<voiceNum>248.858.2388</voiceNum>
<faxNum>248.452.9128</faxNum>
</cntPhone>
<cntAddress addressType="postal">
<delPoint>1200 N Telegraph Rd, Bldg 49W</delPoint>
<city>Pontiac</city>
<adminArea>MI</adminArea>
<postCode>48341</postCode>
<country>US</country>
<eMailAdd>campbella@oakgov.com</eMailAdd>
</cntAddress>
<cntHours>8:30 a.m. to 5:00 p.m. EST</cntHours>
</rpCntInfo>
<role>
<RoleCd value="007"/>
</role>
</idPoC>
<resMaint>
<maintFreq>
<MaintFreqCd value="011"/>
</maintFreq>
</resMaint>
<themeKeys>
<keyword>Orthophoto</keyword>
<thesaName>
<resTitle>raster</resTitle>
</thesaName>
</themeKeys>
<searchKeys>
<keyword>Orthophoto</keyword>
</searchKeys>
<resConst>
<LegConsts>
<othConsts>http://www.oakgov.com/it/gis/Documents/EnhancedAccessPolicy.pdf</othConsts>
</LegConsts>
</resConst>
<resConst>
<SecConsts>
<class>
<ClasscationCd value="001"/>
</class>
<classSys>Unclassified</classSys>
<handDesc>Unclassified</handDesc>
</SecConsts>
</resConst>
<resConst>
<Consts>
<useLimit>http://www.oakgov.com/it/gis/Documents/GISDataPolicies.pdf</useLimit>
</Consts>
</resConst>
<dataLang>
<languageCode value="eng"/>
<countryCode Sync="TRUE" value="USA"/>
</dataLang>
<dataExt>
<geoEle>
<GeoBndBox>
<westBL>-83.712269</westBL>
<eastBL>-83.072727</eastBL>
<southBL>42.437945</southBL>
<northBL>42.905866</northBL>
</GeoBndBox>
</geoEle>
</dataExt>
<dataExt>
<exDesc>ground condition</exDesc>
<tempEle>
<TempExtent>
<exTemp>
<TM_Instant>
<tmPosition time="unknown">2010-04-12</tmPosition>
</TM_Instant>
</exTemp>
</TempExtent>
</tempEle>
<geoEle/>
</dataExt>
<suppInfo>The vendor for this project was Woolpert, Inc.</suppInfo>
<envirDesc Sync="TRUE"> Version 6.2 (Build 9200) ; Esri ArcGIS 10.7.1.11595</envirDesc>
<spatRpType>
<SpatRepTypCd Sync="TRUE" value="002"/>
</spatRpType>
<dataExt>
<geoEle>
<GeoBndBox esriExtentType="search">
<exTypeCode Sync="TRUE">1</exTypeCode>
<westBL Sync="TRUE">-83.712486</westBL>
<eastBL Sync="TRUE">-83.063541</eastBL>
<northBL Sync="TRUE">42.904418</northBL>
<southBL Sync="TRUE">42.411892</southBL>
</GeoBndBox>
</geoEle>
</dataExt>
<idCredit/>
</dataIdInfo>
<dqInfo>
<dqScope>
<scpLvl>
<ScopeCd value="005"/>
</scpLvl>
</dqScope>
<report type="DQConcConsis">
<measDesc>Unknown</measDesc>
</report>
<report type="DQCompOm">
<measDesc>Unknown</measDesc>
</report>
<report type="DQQuanAttAcc">
<measDesc>Digital orthophoto image horizontal positional accuracy shall not exceed 2.12 feet Root Mean Squared (RMSE)</measDesc>
<evalMethDesc>Points measured will produce an error less than 2.12 feet RMSE.</evalMethDesc>
<measResult>
<QuanResult>
<quanVal>2.12 feet RMSE</quanVal>
</QuanResult>
</measResult>
</report>
<report dimension="horizontal" type="DQAbsExtPosAcc">
<measDesc>The horizontal accuracy requirement meets the FGDC Geospatial Positioning Accuracy Standards, Part 3: National Standard for Spatial Data Accuracy (http://www.fgdc.gov/standards/projects/FGDC-standards-projects/accuracy/part3/index_html).</measDesc>
<evalMethDesc>All control points and test points that are visible on the aerial photography are visited on screen and the X, Y coordinates are displayed. This information is cross-referenced with the X, Y information provided by the ground survey.</evalMethDesc>
<measResult>
<QuanResult>
<quanVal>0.353 feet RMSE</quanVal>
</QuanResult>
</measResult>
</report>
<dataLineage>
<prcStep>
<stepDesc>The Leica ADS80-SH81/82 Airborne Digital Sensor acquires all digital, 12-bit data with the swath width and coverage area of a traditional film camera with up to a 5-centimeter spatial resolution. The sensor is capable of simultaneous acquisition of seven bands of imagery: three panchromatic CCD lines capture information in the forward, nadir and backward views from the aircraft, while four multispectral lines capture data in the red, green, blue, and near color infrared band. The imagery for the SEMCOG 2010 Ortho task order was acquired using the Leica ADS80-SH81/82 multispectral scanner. The fundamental resolution of the imagery was 0.5 foot. The ADS80-SH81/82 utilizes the Applanix POSAV direct positioning and orientation system that is based on airborne GPS and inertial measurement unit (IMU) technology. POSAV data were reduced using the Applanix POSPAC software package (V5.3). All of the source imagery was processed using the Leica XPRO (V4.3) software package. This package provides the capability to perform digital image processing, aerial triangulation, and image rectification. The strips of imagery were ortho rectified to existing digtial elevation model (DEM) data. The individual rectified strips of ortho rectified imagery were then mosaicked together to form a seamless imagery database over the entire task order area using the OrthoVista software (V4.4) by Inpho GmbH. The final digital orthophoto imagery (DOI) 2500 x 2500 feet tiles based on the State Plane coordinates, were extracted using OrthoVista.</stepDesc>
<stepDateTm date="unknown"/>
<stepProc>
<rpOrgName>Woolpert, Inc</rpOrgName>
<rpCntInfo>
<cntPhone>
<voiceNum>(937) 461-5660</voiceNum>
<faxNum>(937) 461-0743</faxNum>
</cntPhone>
<cntAddress addressType="both">
<delPoint>4454 Idea Center Boulevard</delPoint>
<city>Dayton</city>
<adminArea>OH</adminArea>
<postCode>45430</postCode>
<country>US</country>
</cntAddress>
<cntHours>8:00 a.m. to 5:00 p.m. Eastern Time</cntHours>
</rpCntInfo>
<role>
<RoleCd value="009"/>
</role>
</stepProc>
</prcStep>
<dataSource>
<srcDesc>Digital aerial imagery was acquired to produce 4-band, 8-bit ortho-imagery. This imagery was orthorectified to the terrain data and the ground control survey.</srcDesc>
<srcMedName>
<MedNameCd value="031"/>
</srcMedName>
<srcScale>
<rfDenom>4800</rfDenom>
</srcScale>
<srcCitatn>
<resTitle>SEMCOG</resTitle>
<resAltTitle>Orthophoto</resAltTitle>
<date>
<pubDate time="unknown">2010-01-01</pubDate>
</date>
<citRespParty>
<rpOrgName>SEMCOG</rpOrgName>
<role>
<RoleCd value="006"/>
</role>
</citRespParty>
<presForm>
<PresFormCd value="005"/>
</presForm>
<presForm>
<fgdcGeoform>raster digital data</fgdcGeoform>
</presForm>
</srcCitatn>
<srcExt>
<exDesc>ground condition</exDesc>
<tempEle>
<TempExtent>
<exTemp>
<TM_Instant>
<tmPosition time="unknown">2010-04-12</tmPosition>
</TM_Instant>
</exTemp>
</TempExtent>
</tempEle>
</srcExt>
</dataSource>
</dataLineage>
</dqInfo>
<spatRepInfo>
<Georect>
<numDims Sync="TRUE">2</numDims>
<axisDimension type="001">
<dimSize Sync="TRUE">355000</dimSize>
<dimResol>
<value Sync="TRUE" uom="ft">0.500000</value>
</dimResol>
</axisDimension>
<axisDimension type="002">
<dimSize Sync="TRUE">345000</dimSize>
<dimResol>
<value Sync="TRUE" uom="ft">0.500000</value>
</dimResol>
</axisDimension>
<axisDimension type="003">
<dimSize>1</dimSize>
</axisDimension>
<cellGeo>
<CellGeoCd Sync="TRUE" value="002"/>
</cellGeo>
<tranParaAv Sync="TRUE">1</tranParaAv>
<chkPtAv Sync="TRUE">0</chkPtAv>
<cornerPts>
<pos Sync="TRUE">13300000.000000 335000.000000</pos>
</cornerPts>
<cornerPts>
<pos Sync="TRUE">13300000.000000 512500.000000</pos>
</cornerPts>
<cornerPts>
<pos Sync="TRUE">13472500.000000 512500.000000</pos>
</cornerPts>
<cornerPts>
<pos Sync="TRUE">13472500.000000 335000.000000</pos>
</cornerPts>
<centerPt>
<pos Sync="TRUE">13386250.000000 423750.000000</pos>
</centerPt>
<ptInPixel>
<PixOrientCd Sync="TRUE" value="001"/>
</ptInPixel>
</Georect>
</spatRepInfo>
<eainfo>
<detailed>
<enttyp>
<enttypl>delivery_tiles</enttypl>
<enttypd>Orthophoto image tiles</enttypd>
<enttypds>ESRI</enttypds>
</enttyp>
</detailed>
</eainfo>
<refSysInfo>
<RefSystem>
<refSysID>
<identCode Sync="TRUE" code="2253"/>
<idCodeSpace Sync="TRUE">EPSG</idCodeSpace>
<idVersion Sync="TRUE">5.3(9.0.0)</idVersion>
</refSysID>
</RefSystem>
</refSysInfo>
<contInfo>
<ImgDesc>
<contentTyp>
<ContentTypCd Sync="TRUE" value="001"/>
</contentTyp>
<covDim>
<Band>
<dimDescrp Sync="TRUE">Band_1</dimDescrp>
<maxVal Sync="TRUE">242.000000</maxVal>
<minVal Sync="TRUE">5.000000</minVal>
<bitsPerVal Sync="TRUE">8</bitsPerVal>
<valUnit>
<UOM type="length"/>
</valUnit>
</Band>
<Band>
<dimDescrp Sync="TRUE">Band_2</dimDescrp>
<maxVal Sync="TRUE">242.000000</maxVal>
<minVal Sync="TRUE">6.000000</minVal>
<bitsPerVal Sync="TRUE">8</bitsPerVal>
<valUnit>
<UOM type="length"/>
</valUnit>
</Band>
<Band>
<dimDescrp Sync="TRUE">Band_3</dimDescrp>
<maxVal Sync="TRUE">226.000000</maxVal>
<minVal Sync="TRUE">7.000000</minVal>
<bitsPerVal Sync="TRUE">8</bitsPerVal>
<valUnit>
<UOM type="length"/>
</valUnit>
</Band>
<Band>
<dimDescrp Sync="TRUE">Band_4</dimDescrp>
<maxVal Sync="TRUE">238.000000</maxVal>
<minVal Sync="TRUE">8.000000</minVal>
<bitsPerVal Sync="TRUE">8</bitsPerVal>
<valUnit>
<UOM type="length"/>
</valUnit>
</Band>
</covDim>
</ImgDesc>
</contInfo>
<mdDateSt Sync="TRUE">20210312</mdDateSt>
</metadata>
