<?xml version="1.0" encoding="UTF-8" standalone="no"?>
<metadata xml:lang="en">
<Esri>
<CreaDate>20210105</CreaDate>
<CreaTime>15435900</CreaTime>
<ArcGISFormat>1.0</ArcGISFormat>
<SyncOnce>FALSE</SyncOnce>
<DataProperties>
<lineage>
<Process Date="20210105" Time="154359" ToolSource="c:\program files (x86)\arcgis\desktop10.7\ArcToolbox\Toolboxes\Data Management Tools.tbx\CreateMosaicDataset">CreateMosaicDataset \\gisfs1q\Orthos\Orthos_1940\Orthos1940.gdb Mosaic1940 "PROJCS['NAD_1983_StatePlane_Michigan_South_FIPS_2113_Feet_Intl',GEOGCS['GCS_North_American_1983',DATUM['D_North_American_1983',SPHEROID['GRS_1980',6378137.0,298.257222101]],PRIMEM['Greenwich',0.0],UNIT['Degree',0.0174532925199433]],PROJECTION['Lambert_Conformal_Conic'],PARAMETER['False_Easting',13123359.58005249],PARAMETER['False_Northing',0.0],PARAMETER['Central_Meridian',-84.36666666666666],PARAMETER['Standard_Parallel_1',42.1],PARAMETER['Standard_Parallel_2',43.66666666666666],PARAMETER['Latitude_Of_Origin',41.5],UNIT['Foot',0.3048]];-107138600 -97193800 3048;-100000 10000;-100000 10000;3.28083989501312E-03;0.001;0.001;IsHighPrecision" # # NONE #</Process>
<Process Date="20210105" Time="155753" ToolSource="c:\program files (x86)\arcgis\desktop10.7\ArcToolbox\Toolboxes\Data Management Tools.tbx\DefineOverviews">DefineOverviews \\gisfs1q\Orthos\Orthos_1940\Orthos1940.gdb\Mosaic1940 \\gisfs1q\Orthos\Orthos_1940\Orthos1940.Overviews\Mosaic1940.Overviews # "13300000 335000 13477838.67126 510358.054462" # # 5120 5120 3 NO_FORCE_OVERVIEW_TILES BILINEAR JPEG 80</Process>
<Process Date="20210105" Time="160149" ToolSource="c:\program files (x86)\arcgis\desktop10.7\ArcToolbox\Toolboxes\Data Management Tools.tbx\BuildOverviews">BuildOverviews \\gisfs1q\Orthos\Orthos_1940\Orthos1940.gdb\Mosaic1940 # DEFINE_MISSING_TILES GENERATE_OVERVIEWS GENERATE_MISSING_IMAGES REGENERATE_STALE_IMAGES</Process>
<Process Date="20210113" Time="151221" ToolSource="c:\program files (x86)\arcgis\desktop10.7\ArcToolbox\Toolboxes\Data Management Tools.tbx\RemoveRastersFromMosaicDataset">RemoveRastersFromMosaicDataset \\gisfs1q\Orthos\Orthos_1940\Orthos1940.gdb\Mosaic1940 "OBJECTID = 69" UPDATE_BOUNDARY MARK_OVERVIEW_ITEMS DELETE_OVERVIEW_IMAGES DELETE_ITEM_CACHE REMOVE_MOSAICDATASET_ITEMS UPDATE_CELL_SIZES</Process>
<Process Date="20210113" Time="154037" ToolSource="c:\program files (x86)\arcgis\desktop10.7\ArcToolbox\Toolboxes\Data Management Tools.tbx\DefineOverviews">DefineOverviews \\gisfs1q\Orthos\Orthos_1940\Orthos1940.gdb\Mosaic1940 \\gisfs1q\Orthos\Orthos_1940\Orthos1940.Overviews\Mosaic1940.Overviews # "13298324.5285433 324452.724409446 13477838.6712598 510358.05446194" # # 5120 5120 3 NO_FORCE_OVERVIEW_TILES BILINEAR JPEG 80</Process>
<Process Date="20210113" Time="154423" ToolSource="c:\program files (x86)\arcgis\desktop10.7\ArcToolbox\Toolboxes\Data Management Tools.tbx\BuildOverviews">BuildOverviews \\gisfs1q\Orthos\Orthos_1940\Orthos1940.gdb\Mosaic1940 # DEFINE_MISSING_TILES GENERATE_OVERVIEWS GENERATE_MISSING_IMAGES REGENERATE_STALE_IMAGES</Process>
</lineage>
<itemProps>
<itemName Sync="TRUE">Mosaic1940</itemName>
<itemLocation>
<linkage Sync="TRUE">file://\\gisfs1p\Orthos\Orthos_1940\Orthos1940.gdb</linkage>
<protocol Sync="TRUE">Local Area Network</protocol>
</itemLocation>
<nativeExtBox>
<westBL Sync="TRUE">13298324.409910</westBL>
<eastBL Sync="TRUE">13477839.274636</eastBL>
<southBL Sync="TRUE">324452.498197</southBL>
<northBL Sync="TRUE">510357.921607</northBL>
<exTypeCode Sync="TRUE">1</exTypeCode>
</nativeExtBox>
</itemProps>
<coordRef>
<type Sync="TRUE">Projected</type>
<geogcsn Sync="TRUE">GCS_North_American_1983</geogcsn>
<csUnits Sync="TRUE">Linear Unit: Foot (0.304800)</csUnits>
<projcsn Sync="TRUE">NAD_1983_StatePlane_Michigan_South_FIPS_2113_Feet_Intl</projcsn>
<peXml Sync="TRUE">&lt;ProjectedCoordinateSystem xsi:type='typens:ProjectedCoordinateSystem' xmlns:xsi='http://www.w3.org/2001/XMLSchema-instance' xmlns:xs='http://www.w3.org/2001/XMLSchema' xmlns:typens='http://www.esri.com/schemas/ArcGIS/10.7'&gt;&lt;WKT&gt;PROJCS[&amp;quot;NAD_1983_StatePlane_Michigan_South_FIPS_2113_Feet_Intl&amp;quot;,GEOGCS[&amp;quot;GCS_North_American_1983&amp;quot;,DATUM[&amp;quot;D_North_American_1983&amp;quot;,SPHEROID[&amp;quot;GRS_1980&amp;quot;,6378137.0,298.257222101]],PRIMEM[&amp;quot;Greenwich&amp;quot;,0.0],UNIT[&amp;quot;Degree&amp;quot;,0.0174532925199433]],PROJECTION[&amp;quot;Lambert_Conformal_Conic&amp;quot;],PARAMETER[&amp;quot;False_Easting&amp;quot;,13123359.58005249],PARAMETER[&amp;quot;False_Northing&amp;quot;,0.0],PARAMETER[&amp;quot;Central_Meridian&amp;quot;,-84.36666666666666],PARAMETER[&amp;quot;Standard_Parallel_1&amp;quot;,42.1],PARAMETER[&amp;quot;Standard_Parallel_2&amp;quot;,43.66666666666666],PARAMETER[&amp;quot;Latitude_Of_Origin&amp;quot;,41.5],UNIT[&amp;quot;Foot&amp;quot;,0.3048],AUTHORITY[&amp;quot;EPSG&amp;quot;,2253]]&lt;/WKT&gt;&lt;XOrigin&gt;-107138600&lt;/XOrigin&gt;&lt;YOrigin&gt;-97193800&lt;/YOrigin&gt;&lt;XYScale&gt;37448250.484633707&lt;/XYScale&gt;&lt;ZOrigin&gt;-100000&lt;/ZOrigin&gt;&lt;ZScale&gt;10000&lt;/ZScale&gt;&lt;MOrigin&gt;-100000&lt;/MOrigin&gt;&lt;MScale&gt;10000&lt;/MScale&gt;&lt;XYTolerance&gt;0.0032808398950131233&lt;/XYTolerance&gt;&lt;ZTolerance&gt;0.001&lt;/ZTolerance&gt;&lt;MTolerance&gt;0.001&lt;/MTolerance&gt;&lt;HighPrecision&gt;true&lt;/HighPrecision&gt;&lt;WKID&gt;2253&lt;/WKID&gt;&lt;LatestWKID&gt;2253&lt;/LatestWKID&gt;&lt;/ProjectedCoordinateSystem&gt;</peXml>
</coordRef>
<RasterProperties>
<General>
<PixelDepth Sync="TRUE">8</PixelDepth>
<HasColormap Sync="TRUE">FALSE</HasColormap>
<CompressionType Sync="TRUE">None</CompressionType>
<NumBands Sync="TRUE">3</NumBands>
<Format Sync="TRUE">AMD</Format>
<HasPyramids Sync="TRUE">TRUE</HasPyramids>
<SourceType Sync="TRUE">continuous</SourceType>
<PixelType Sync="TRUE">unsigned integer</PixelType>
<NoDataValue Sync="TRUE"/>
</General>
<Properties>
<MaxImageHeight Sync="TRUE">4100</MaxImageHeight>
<MaxImageWidth Sync="TRUE">15000</MaxImageWidth>
<MaxRecordCount Sync="TRUE">1000</MaxRecordCount>
<MaxDownloadImageCount Sync="TRUE">20</MaxDownloadImageCount>
<MaxDownloadSizeLimit Sync="TRUE">2048</MaxDownloadSizeLimit>
<MaxMosaicImageCount Sync="TRUE">20</MaxMosaicImageCount>
<DefaultCompressionQuality Sync="TRUE">75</DefaultCompressionQuality>
<DefaultCompressionTolerance Sync="TRUE">0.01</DefaultCompressionTolerance>
<BlendWidth Sync="TRUE">10</BlendWidth>
<ViewpointSpacingX Sync="TRUE">600</ViewpointSpacingX>
<ViewpointSpacingY Sync="TRUE">300</ViewpointSpacingY>
<AllowedItemMetadata Sync="TRUE">Basic</AllowedItemMetadata>
<DefaultResamplingMethod Sync="TRUE">1</DefaultResamplingMethod>
<AllowedMosaicMethods Sync="TRUE">NorthWest,Center,LockRaster,ByAttribute,Nadir,Viewpoint,Seamline,None</AllowedMosaicMethods>
<AllowedCompressions Sync="TRUE">None,JPEG,LZ77,LERC</AllowedCompressions>
<AllowedMensurationCapabilities Sync="TRUE">None</AllowedMensurationCapabilities>
<AvailableMensurationCapabilities Sync="TRUE">None,Basic,Base-Top Height,Top-Top Shadow Height,Base-Top Shadow Height,3D</AvailableMensurationCapabilities>
<ClipToBoundary Sync="TRUE">-1</ClipToBoundary>
<FootprintMayContainNoData Sync="TRUE">-1</FootprintMayContainNoData>
<CellSizeTolerance Sync="TRUE">0.8</CellSizeTolerance>
<MinimumPixelContribution Sync="TRUE">1</MinimumPixelContribution>
<AvailableMosaicMethods Sync="TRUE">NorthWest,Center,LockRaster,ByAttribute,Nadir,Viewpoint,Seamline,None</AvailableMosaicMethods>
<AvailableCompressionMethods Sync="TRUE">None,JPEG,LZ77,LERC</AvailableCompressionMethods>
<AvailableItemMetadataLevels Sync="TRUE">None,Basic,Full</AvailableItemMetadataLevels>
<BandDefinitionKeyword Sync="TRUE">NONE</BandDefinitionKeyword>
<_docversion_ Sync="TRUE">10</_docversion_>
<AllowedFields Sync="TRUE">Name,MinPS,MaxPS,LowPS,HighPS,Tag,GroupName,ProductName,CenterX,CenterY,ZOrder,Shape_Length,Shape_Area,Year</AllowedFields>
<MaxCellSize Sync="TRUE">87122.2531022548</MaxCellSize>
<LowCellSize Sync="TRUE">0.796728423431457</LowCellSize>
<HighCellSize Sync="TRUE">1742.4450620451</HighCellSize>
<ApplyColorCorrection Sync="TRUE">0</ApplyColorCorrection>
<TimeStamp.RemoveItems Sync="TRUE">44209.8418500116</TimeStamp.RemoveItems>
<TimeStamp.UpdateExtent Sync="TRUE">44209.8418992708</TimeStamp.UpdateExtent>
</Properties>
<Functions Sync="TRUE">
<Function Description="Performs on-the-fly mosaic on a raster catalog." Name="Mosaic Function"/>
</Functions>
</RasterProperties>
</DataProperties>
<SyncDate>20210312</SyncDate>
<SyncTime>14311500</SyncTime>
<ModDate>20210312</ModDate>
<ModTime>14311500</ModTime>
</Esri>
<mdLang>
<languageCode value="eng"/>
<countryCode Sync="TRUE" value="USA"/>
</mdLang>
<mdChar>
<CharSetCd value="004"/>
</mdChar>
<mdHrLv>
<ScopeCd value="005"/>
</mdHrLv>
<mdContact>
<rpIndName>Anita Campbell</rpIndName>
<rpOrgName>Oakland County Application Services</rpOrgName>
<rpPosName>GIS Data Services Supervisor</rpPosName>
<rpCntInfo>
<cntPhone>
<voiceNum>248.858.2388</voiceNum>
<faxNum>248.452.9128</faxNum>
</cntPhone>
<cntAddress addressType="postal">
<delPoint>1200 N Telegraph Rd, 49W</delPoint>
<city>Pontiac</city>
<adminArea>MI</adminArea>
<postCode>48341</postCode>
<country>US</country>
<eMailAdd>campbella@oakgov.com</eMailAdd>
</cntAddress>
<cntHours>8:30 a.m. to 5:00 p.m.</cntHours>
</rpCntInfo>
<role>
<RoleCd value="007"/>
</role>
</mdContact>
<mdStanName>ArcGIS Metadata</mdStanName>
<mdStanVer>1.0</mdStanVer>
<distInfo>
<distributor>
<distorCont>
<rpIndName>Erick Phillips</rpIndName>
<rpOrgName>Oakland County One Stop Shop</rpOrgName>
<rpPosName>Supervisor</rpPosName>
<rpCntInfo>
<cntPhone>
<voiceNum>248.858.4070</voiceNum>
<faxNum>248.858.1080</faxNum>
</cntPhone>
<cntAddress addressType="both">
<delPoint>2100 Pontiac Lake Rd, Bldg 41W</delPoint>
<city>Waterford</city>
<adminArea>MI</adminArea>
<postCode>48328-0412</postCode>
<country>US</country>
<eMailAdd>phillipse@oakgov.com</eMailAdd>
</cntAddress>
<cntHours>9:00 a.m. to 4:00 p.m.</cntHours>
</rpCntInfo>
<role>
<RoleCd value="005"/>
</role>
</distorCont>
<distorOrdPrc>
<resFees>Varies by data type and agent.</resFees>
<ordInstr>Contact Erick Phillips of the One Stop Shop by phone.</ordInstr>
<ordTurn>24 hrs.</ordTurn>
</distorOrdPrc>
<distorFormat>
<formatName>Shapefiles, .tiff and MrSID</formatName>
</distorFormat>
<distorTran>
<offLineMed>
<medName>
<MedNameCd value="001"/>
</medName>
</offLineMed>
</distorTran>
</distributor>
<distTranOps>
<onLineSrc>
<linkage>Unavailable</linkage>
</onLineSrc>
</distTranOps>
</distInfo>
<dataIdInfo>
<idCitation>
<citRespParty>
<rpOrgName>Oakland County GIS Data Services</rpOrgName>
<role>
<RoleCd value="006"/>
</role>
</citRespParty>
<citRespParty>
<rpOrgName>Oakland County</rpOrgName>
<role>
<RoleCd value="010"/>
</role>
</citRespParty>
<presForm>
<PresFormCd value="005"/>
</presForm>
<presForm>
<fgdcGeoform>raster digital data</fgdcGeoform>
</presForm>
<resTitle Sync="TRUE">EnterpriseOrthoBW1940ImageService</resTitle>
</idCitation>
<idAbs>The 1940 Historic Orthoimagery was derived from traditional orthophotography taken of Oakland County, Michigan. Original film negatives were cleaned, scanned, and raster digital files were created as TIF images. It is not known how the orthorectification, conversion or reprojection processes took place. This mosaic was created from a series of tiles stored in ERDAS Imagine format (IMG) in a Michigan State Plane South NAD83 International Feet projected coordinate system. Some tiles were missing from the IMG files used to create this mosaic, and one tile (XR-1A-109) did not have its respective world file. Therefore, some small gaps are present within the final dataset. The initial scale of the orthophotography is not known.</idAbs>
<idPurp>The 1940 historic digital imagery serves as a highly accurate base map. Many GIS data layers such as surface hydrography or road edges can be used in conjuction with the imagery. Historic imagery can be used in environmental assessments and to visually communicate changes in development patterns and the implications of those changes on land use.</idPurp>
<idStatus>
<ProgCd value="001"/>
</idStatus>
<idPoC>
<rpIndName>Anita Campbell</rpIndName>
<rpOrgName>Oakland County Application Services</rpOrgName>
<rpPosName>GIS Data Services Supervisor</rpPosName>
<rpCntInfo>
<cntPhone>
<voiceNum>248.858.2388</voiceNum>
<faxNum>248.452.9128</faxNum>
</cntPhone>
<cntAddress addressType="postal">
<delPoint>1200 N Telegraph Rd, Bldg 49W</delPoint>
<city>Pontiac</city>
<adminArea>MI</adminArea>
<postCode>48341</postCode>
<country>US</country>
<eMailAdd>campbella@oakgov.com</eMailAdd>
</cntAddress>
<cntHours>8:30 a.m. to 5:00 p.m.</cntHours>
</rpCntInfo>
<role>
<RoleCd value="007"/>
</role>
</idPoC>
<resMaint>
<maintFreq>
<MaintFreqCd value="011"/>
</maintFreq>
</resMaint>
<themeKeys>
<keyword>digital orthoimagery</keyword>
<keyword>imageryBaseMapsEarthCover</keyword>
<keyword>aerial imagery</keyword>
<keyword>historic</keyword>
<keyword>digital orthophotography</keyword>
<thesaName>
<resTitle>TBD</resTitle>
</thesaName>
</themeKeys>
<searchKeys>
<keyword>digital orthoimagery</keyword>
<keyword>imageryBaseMapsEarthCover</keyword>
<keyword>aerial imagery</keyword>
<keyword>historic</keyword>
<keyword>digital orthophotography</keyword>
</searchKeys>
<resConst>
<LegConsts>
<othConsts>http://www.oakgov.com/it/gis/Documents/EnhancedAccessPolicy.pdf</othConsts>
</LegConsts>
</resConst>
<resConst>
<Consts>
<useLimit>http://www.oakgov.com/it/gis/Documents/GISDataPolicies.pdf</useLimit>
</Consts>
</resConst>
<dataLang>
<languageCode value="eng"/>
<countryCode Sync="TRUE" value="USA"/>
</dataLang>
<tpCat>
<TopicCatCd value="010"/>
</tpCat>
<dataExt>
<exDesc>publication date</exDesc>
<geoEle/>
</dataExt>
<suppInfo>The source TIF and IMG files are from an unknown origin and no information is available to describe its creation process.</suppInfo>
<envirDesc Sync="TRUE"> Version 6.2 (Build 9200) ; Esri ArcGIS 10.7.1.11595</envirDesc>
<spatRpType>
<SpatRepTypCd Sync="TRUE" value="002"/>
</spatRpType>
<dataExt>
<geoEle>
<GeoBndBox esriExtentType="search">
<exTypeCode Sync="TRUE">1</exTypeCode>
<westBL Sync="TRUE">-83.718991</westBL>
<eastBL Sync="TRUE">-83.043742</eastBL>
<northBL Sync="TRUE">42.898576</northBL>
<southBL Sync="TRUE">42.382725</southBL>
</GeoBndBox>
</geoEle>
</dataExt>
<idCredit/>
</dataIdInfo>
<dqInfo>
<dqScope>
<scpLvl>
<ScopeCd value="005"/>
</scpLvl>
</dqScope>
<dataLineage>
<prcStep>
<stepDesc>ESRI ArcCatalog 9.3 was used to perform geoprocessing in order to create this mosaic dataset. Within ArcToolbox, a new empty raster dataset was created within an empty file geodatabase. From there, the Mosaic tool was employed to combine all of the IMG tiles (excluding the XR-1A-109 tile which did not contain a world file) into the empty raster dataset. In terms of Mosaic parameters, the Mosaic Operator was set to "Last"; the Mosaic Colormap Mode was set to "First"; the Ignore Background Value was set to "0"; the NoData Value was set to "0"; the Convert 1 bit data to 8 bit box was not checked; the Mosaicking Tolerance was set to "0"; and the Color Matching Method was set to "None". Upon creation of the new mosaic dataset from that process, the raster was subsequently loaded into ArcSDE.</stepDesc>
</prcStep>
</dataLineage>
</dqInfo>
<eainfo>
<detailed Name="GISRAS1.OC.SDE_VAT_5">
<enttyp>
<enttypl Sync="TRUE">GISRAS1.OC.SDE_VAT_5</enttypl>
<enttypt Sync="TRUE">Table</enttypt>
<enttypc Sync="TRUE">227</enttypc>
</enttyp>
<attr>
<attrlabl>COUNT_</attrlabl>
<attalias Sync="TRUE">COUNT_</attalias>
<attrtype Sync="TRUE">Integer</attrtype>
<attwidth Sync="TRUE">4</attwidth>
<atprecis Sync="TRUE">10</atprecis>
<attscale Sync="TRUE">0</attscale>
</attr>
<attr>
<attrlabl>OBJECTID</attrlabl>
<attrdef>ESRI internal ID.</attrdef>
<attrdefs>ESRI</attrdefs>
<attrdomv>
<udom>Sequential unique whole numbers that are automatically generated.</udom>
</attrdomv>
<attalias Sync="TRUE">OBJECTID</attalias>
<attrtype Sync="TRUE">OID</attrtype>
<attwidth Sync="TRUE">4</attwidth>
<atprecis Sync="TRUE">10</atprecis>
<attscale Sync="TRUE">0</attscale>
</attr>
<attr>
<attrlabl>VALUE</attrlabl>
<attrdef>Pixel value of a cell from 0 to 255.</attrdef>
<attalias Sync="TRUE">VALUE</attalias>
<attrtype Sync="TRUE">Integer</attrtype>
<attwidth Sync="TRUE">4</attwidth>
<atprecis Sync="TRUE">10</atprecis>
<attscale Sync="TRUE">0</attscale>
</attr>
</detailed>
</eainfo>
<refSysInfo>
<RefSystem>
<refSysID>
<identCode Sync="TRUE" code="2253"/>
<idCodeSpace Sync="TRUE">EPSG</idCodeSpace>
<idVersion Sync="TRUE">5.3(9.0.0)</idVersion>
</refSysID>
</RefSystem>
</refSysInfo>
<spatRepInfo>
<Georect>
<cellGeo>
<CellGeoCd Sync="TRUE" value="002"/>
</cellGeo>
<numDims Sync="TRUE">2</numDims>
<tranParaAv Sync="TRUE">1</tranParaAv>
<chkPtAv Sync="TRUE">0</chkPtAv>
<cornerPts>
<pos Sync="TRUE">13298324.409910 324452.498197</pos>
</cornerPts>
<cornerPts>
<pos Sync="TRUE">13298324.409910 510357.921607</pos>
</cornerPts>
<cornerPts>
<pos Sync="TRUE">13477839.274636 510357.921607</pos>
</cornerPts>
<cornerPts>
<pos Sync="TRUE">13477839.274636 324452.498197</pos>
</cornerPts>
<centerPt>
<pos Sync="TRUE">13388081.842273 417405.209902</pos>
</centerPt>
<axisDimension type="002">
<dimSize Sync="TRUE">225315</dimSize>
<dimResol>
<value Sync="TRUE" uom="ft">0.796728</value>
</dimResol>
</axisDimension>
<axisDimension type="001">
<dimSize Sync="TRUE">233336</dimSize>
<dimResol>
<value Sync="TRUE" uom="ft">0.796728</value>
</dimResol>
</axisDimension>
<ptInPixel>
<PixOrientCd Sync="TRUE" value="001"/>
</ptInPixel>
</Georect>
</spatRepInfo>
<contInfo>
<ImgDesc>
<contentTyp>
<ContentTypCd Sync="TRUE" value="001"/>
</contentTyp>
<covDim>
<Band>
<dimDescrp Sync="TRUE">Band_1</dimDescrp>
<maxVal Sync="TRUE">255.000000</maxVal>
<minVal Sync="TRUE">4.000000</minVal>
<bitsPerVal Sync="TRUE">8</bitsPerVal>
<valUnit>
<UOM type="length"/>
</valUnit>
</Band>
<Band>
<dimDescrp Sync="TRUE">Band_2</dimDescrp>
<maxVal Sync="TRUE">255.000000</maxVal>
<minVal Sync="TRUE">4.000000</minVal>
<bitsPerVal Sync="TRUE">8</bitsPerVal>
<valUnit>
<UOM type="length"/>
</valUnit>
</Band>
<Band>
<dimDescrp Sync="TRUE">Band_3</dimDescrp>
<maxVal Sync="TRUE">255.000000</maxVal>
<minVal Sync="TRUE">4.000000</minVal>
<bitsPerVal Sync="TRUE">8</bitsPerVal>
<valUnit>
<UOM type="length"/>
</valUnit>
</Band>
</covDim>
</ImgDesc>
</contInfo>
<mdDateSt Sync="TRUE">20210312</mdDateSt>
</metadata>
