<?xml version="1.0" encoding="UTF-8" standalone="no"?>
<metadata xml:lang="en">
<Esri>
<CreaDate>20210402</CreaDate>
<CreaTime>09492700</CreaTime>
<ArcGISFormat>1.0</ArcGISFormat>
<SyncOnce>FALSE</SyncOnce>
<DataProperties>
<lineage>
<Process Date="20210402" Time="095217" ToolSource="c:\program files (x86)\arcgis\desktop10.7\ArcToolbox\Toolboxes\Data Management Tools.tbx\CopyRaster">CopyRaster D:\DBConnections103\DEV_QA_DBConnections\QAGISPublishing_gisras1_ro.sde\gisras1.OC.LandCover2010 D:\LandCover2010.tif # # 255 NONE ColormapToRGB # NONE NONE TIFF NONE</Process>
</lineage>
<itemProps>
<itemName Sync="TRUE">LandCover2010.tif</itemName>
<itemLocation>
<linkage Sync="TRUE">file://D:\LandCover2010.tif</linkage>
<protocol Sync="TRUE">Local Area Network</protocol>
</itemLocation>
<nativeExtBox>
<westBL Sync="TRUE">13304893.861130</westBL>
<eastBL Sync="TRUE">13469697.016017</eastBL>
<southBL Sync="TRUE">340130.169570</southBL>
<northBL Sync="TRUE">508604.584412</northBL>
<exTypeCode Sync="TRUE">1</exTypeCode>
</nativeExtBox>
<imsContentType Sync="TRUE">002</imsContentType>
</itemProps>
<coordRef>
<type Sync="TRUE">Projected</type>
<geogcsn Sync="TRUE">GCS_North_American_1983</geogcsn>
<csUnits Sync="TRUE">Linear Unit: Foot (0.304800)</csUnits>
<projcsn Sync="TRUE">NAD_1983_StatePlane_Michigan_South_FIPS_2113_Feet_Intl</projcsn>
<peXml Sync="TRUE">&lt;ProjectedCoordinateSystem xsi:type='typens:ProjectedCoordinateSystem' xmlns:xsi='http://www.w3.org/2001/XMLSchema-instance' xmlns:xs='http://www.w3.org/2001/XMLSchema' xmlns:typens='http://www.esri.com/schemas/ArcGIS/10.7'&gt;&lt;WKT&gt;PROJCS[&amp;quot;NAD_1983_StatePlane_Michigan_South_FIPS_2113_Feet_Intl&amp;quot;,GEOGCS[&amp;quot;GCS_North_American_1983&amp;quot;,DATUM[&amp;quot;D_North_American_1983&amp;quot;,SPHEROID[&amp;quot;GRS_1980&amp;quot;,6378137.0,298.257222101]],PRIMEM[&amp;quot;Greenwich&amp;quot;,0.0],UNIT[&amp;quot;Degree&amp;quot;,0.0174532925199433]],PROJECTION[&amp;quot;Lambert_Conformal_Conic&amp;quot;],PARAMETER[&amp;quot;False_Easting&amp;quot;,13123359.58005249],PARAMETER[&amp;quot;False_Northing&amp;quot;,0.0],PARAMETER[&amp;quot;Central_Meridian&amp;quot;,-84.36666666666666],PARAMETER[&amp;quot;Standard_Parallel_1&amp;quot;,42.1],PARAMETER[&amp;quot;Standard_Parallel_2&amp;quot;,43.66666666666666],PARAMETER[&amp;quot;Latitude_Of_Origin&amp;quot;,41.5],UNIT[&amp;quot;Foot&amp;quot;,0.3048],AUTHORITY[&amp;quot;EPSG&amp;quot;,2253]]&lt;/WKT&gt;&lt;XOrigin&gt;-107138600&lt;/XOrigin&gt;&lt;YOrigin&gt;-97193800&lt;/YOrigin&gt;&lt;XYScale&gt;37448250.484633707&lt;/XYScale&gt;&lt;ZOrigin&gt;-100000&lt;/ZOrigin&gt;&lt;ZScale&gt;10000&lt;/ZScale&gt;&lt;MOrigin&gt;-100000&lt;/MOrigin&gt;&lt;MScale&gt;10000&lt;/MScale&gt;&lt;XYTolerance&gt;0.0032808398950131233&lt;/XYTolerance&gt;&lt;ZTolerance&gt;0.001&lt;/ZTolerance&gt;&lt;MTolerance&gt;0.001&lt;/MTolerance&gt;&lt;HighPrecision&gt;true&lt;/HighPrecision&gt;&lt;WKID&gt;2253&lt;/WKID&gt;&lt;LatestWKID&gt;2253&lt;/LatestWKID&gt;&lt;/ProjectedCoordinateSystem&gt;</peXml>
</coordRef>
<RasterProperties>
<General>
<PixelDepth Sync="TRUE">8</PixelDepth>
<HasColormap Sync="TRUE">FALSE</HasColormap>
<CompressionType Sync="TRUE">LZW</CompressionType>
<NumBands Sync="TRUE">3</NumBands>
<Format Sync="TRUE">TIFF</Format>
<HasPyramids Sync="TRUE">TRUE</HasPyramids>
<SourceType Sync="TRUE">continuous</SourceType>
<PixelType Sync="TRUE">unsigned integer</PixelType>
<NoDataValue Sync="TRUE">255</NoDataValue>
</General>
</RasterProperties>
</DataProperties>
<SyncDate>20210402</SyncDate>
<SyncTime>13390200</SyncTime>
<ModDate>20210402</ModDate>
<ModTime>13390200</ModTime>
</Esri>
<mdLang>
<languageCode value="eng"/>
<countryCode Sync="TRUE" value="USA"/>
</mdLang>
<mdChar>
<CharSetCd value="004"/>
</mdChar>
<mdHrLv>
<ScopeCd value="005"/>
</mdHrLv>
<mdContact>
<rpIndName>Please see document listed in Supplemental Information section for details.</rpIndName>
<rpCntInfo>
<cntAddress addressType="both">
<delPoint>535 Griswold Street</delPoint>
</cntAddress>
</rpCntInfo>
<role>
<RoleCd value="007"/>
</role>
</mdContact>
<mdDateSt Sync="TRUE">20210402</mdDateSt>
<mdStanName>ArcGIS Metadata</mdStanName>
<mdStanVer>1.0</mdStanVer>
<distInfo>
<distributor>
<distorCont>
<rpIndName>Please see document listed in Supplemental Information section for details.</rpIndName>
<role>
<RoleCd value="005"/>
</role>
</distorCont>
<distorTran>
<onLineSrc>
<orDesc>Offline</orDesc>
</onLineSrc>
</distorTran>
</distributor>
<distFormat>
<formatName Sync="TRUE">Raster Dataset</formatName>
</distFormat>
</distInfo>
<dataIdInfo>
<idCitation>
<resTitle Sync="TRUE">EnterpriseLandCover2010ImageService</resTitle>
<citRespParty>
<rpOrgName>Southeast Michigan Council of Governments</rpOrgName>
<role>
<RoleCd value="006"/>
</role>
</citRespParty>
<presForm>
<PresFormCd value="005"/>
</presForm>
<presForm>
<fgdcGeoform>raster digital data</fgdcGeoform>
</presForm>
</idCitation>
<idAbs>This dataset is a composite of the 5-class Green Infrastructure Land Cover, Building Footprints, and the 2-class Full Canopy datasets. The model to compile them accounts for features below the canopy by overlaying the GI classification with the Full Canopy. This dataset will enable the user to know where buildings, pavement, or open space exist beneath canopy. It is designed to be ingested into American Forests' CITYgreen software.A Green Infrastructure map for the 7-county SEMCOG region in southeastern Michigan was developed to support land cover and land use modeling. 4-band ADS-80 digital aerial imagery at 1-meter resolution was classified to a Green Infrastructure Level 1 classification scheme with the following classes: 1) Impervious Surface, 2) Open Space, 3) Trees, 4) Urban: Bare and 5) Water. The image was classified using Classification and Regression Tree techniques (CART analysis) and raster modeling.A standard accuracy assessment was performed on the final land cover. The overall accuracy statistic is 97.45%. Adjusted from the SEMCOG composite raster file, the data was reprojected to the Oakland County projection.</idAbs>
<idPurp>These data were developed in order to perform landcover and canopy assessments of the project area, and to provide the Southeast Michigan Council of Governments (SEMCOG) and adjacent communties with a current synopsis of the landscape. Please see document listed in Supplemental Information section for details.</idPurp>
<idCredit>Southeast Michigan Council of Governments (SEMCOG) 2011</idCredit>
<idStatus>
<ProgCd value="001"/>
</idStatus>
<idPoC>
<rpIndName>Please see document listed in Supplemental Information section for details.</rpIndName>
<rpCntInfo>
<cntAddress addressType="both">
<delPoint>Suite 300</delPoint>
</cntAddress>
</rpCntInfo>
<role>
<RoleCd value="007"/>
</role>
</idPoC>
<resMaint>
<maintFreq>
<MaintFreqCd value="009"/>
</maintFreq>
</resMaint>
<placeKeys>
<keyword>Michigan</keyword>
<keyword>Oakland County</keyword>
<keyword>USA</keyword>
</placeKeys>
<themeKeys>
<keyword>Full Canopy</keyword>
<keyword>Tree Canopy</keyword>
<keyword>Green Infrastructure</keyword>
<keyword>Level 1</keyword>
<keyword>Landcover</keyword>
<keyword>CityGREEN</keyword>
<keyword>Composite</keyword>
</themeKeys>
<themeKeys>
<keyword>transportation</keyword>
<keyword>climatologyMeteorologyAtmosphere</keyword>
<keyword>environment</keyword>
<keyword>structure</keyword>
<keyword>farming</keyword>
<keyword>imageryBaseMapsEarthCover</keyword>
<thesaName>
<resTitle>ISO 19115 Topic Categories</resTitle>
</thesaName>
</themeKeys>
<searchKeys>
<keyword>transportation</keyword>
<keyword>Michigan</keyword>
<keyword>Full Canopy</keyword>
<keyword>Oakland County</keyword>
<keyword>Tree Canopy</keyword>
<keyword>climatologyMeteorologyAtmosphere</keyword>
<keyword>environment</keyword>
<keyword>structure</keyword>
<keyword>Green Infrastructure</keyword>
<keyword>Level 1</keyword>
<keyword>Landcover</keyword>
<keyword>USA</keyword>
<keyword>CityGREEN</keyword>
<keyword>farming</keyword>
<keyword>Composite</keyword>
<keyword>imageryBaseMapsEarthCover</keyword>
</searchKeys>
<resConst>
<LegConsts>
<othConsts>This data has enhanced access or data sharing restrictions according to the Enhanced Access Policy (http://www.oakgov.com/it/gis/documents/EnhancedAccessPolicy.pdf). Please contact the One Stop Shop at 248.858.0720 for more information.</othConsts>
</LegConsts>
</resConst>
<resConst>
<Consts>
<useLimit>This data has enhanced access or data sharing restrictions according to the Geospatial Data Access, Distribution, and Use Policy (http://www.oakgov.com/it/gis/documents/GISDataPolicies.pdf). Please contact the One Stop Shop at 248.858.0720 for more information.</useLimit>
</Consts>
</resConst>
<dataLang>
<languageCode value="eng"/>
<countryCode Sync="TRUE" value="USA"/>
</dataLang>
<tpCat>
<TopicCatCd value="018"/>
</tpCat>
<tpCat>
<TopicCatCd value="010"/>
</tpCat>
<tpCat>
<TopicCatCd value="007"/>
</tpCat>
<tpCat>
<TopicCatCd value="017"/>
</tpCat>
<tpCat>
<TopicCatCd value="001"/>
</tpCat>
<tpCat>
<TopicCatCd value="004"/>
</tpCat>
<envirDesc Sync="TRUE"> Version 6.2 (Build 9200) ; Esri ArcGIS 10.7.1.11595</envirDesc>
<dataExt>
<geoEle>
<GeoBndBox>
<westBL>-83.557492</westBL>
<eastBL>-82.868996</eastBL>
<southBL>42.026149</southBL>
<northBL>42.458209</northBL>
</GeoBndBox>
</geoEle>
</dataExt>
<suppInfo>For supplemental metadata information look on the web at: http://www.oakgov.com/it/gis/documents/metadata/SEMCOG_composite_raster.pdf.</suppInfo>
<spatRpType>
<SpatRepTypCd Sync="TRUE" value="002"/>
</spatRpType>
<dataExt>
<geoEle>
<GeoBndBox esriExtentType="search">
<exTypeCode Sync="TRUE">1</exTypeCode>
<westBL Sync="TRUE">-83.694211</westBL>
<eastBL Sync="TRUE">-83.074225</eastBL>
<northBL Sync="TRUE">42.893623</northBL>
<southBL Sync="TRUE">42.426085</southBL>
</GeoBndBox>
</geoEle>
</dataExt>
</dataIdInfo>
<mdMaint>
<maintFreq>
<MaintFreqCd value="012"/>
</maintFreq>
<maintNote>Last metadata review date: 20121031</maintNote>
</mdMaint>
<dqInfo>
<dqScope>
<scpLvl>
<ScopeCd value="005"/>
</scpLvl>
</dqScope>
<report type="DQConcConsis">
<measDesc>Data have been independently reviewed with respect to the SEMCOG 2010 imagery, and corrections made as a result of that review.</measDesc>
</report>
<report type="DQQuanAttAcc">
<measDesc>Overall Map Accuracy: 97.45% Minimum Mapping Unit for Assessment: 0.025 acres User's Accuracy: Impervious Surface: 100% Open Space: 99.35% Trees: 98.51% Urban: Bare: 79.45% Water: 100% Producer's Accuracy: Impervious Surface: 93.28% Open Space: 96.84% Trees: 100% Urban: Bare: 96.67% Water: 100%</measDesc>
</report>
<dataLineage>
<prcStep>
<stepDesc>Sanborn's experience tells us that no single software tool can do all the things that are required to create a good automated classification. We have a methodology that incorporates the most appropriate tools for the right output. We have written procedures that combine these tools effectively so that the output from one can be input into the other properly. We use a combination of statistical and remote sensing software packages, such as Feature Analyst, Erdas Imagine, See5, and Definiens Professional and other tools as necessary. Sanborn will classify the imagery into impervious and pervious classes, and segment the imagery into image objects that are then classified into the selected classification scheme. The See5 software creates a classification algorithm that ingests training samples of the land cover, creates a hierarchical classification ruleset, and can be applied to the entire project area. Once the classification ruleset is developed it is fairly simple to apply it at little cost to a much larger area. The SEMCOG 2010 imagery was captured during substantially leaf-off conditions, therefore if the classification were done purely using this imagery, the full extent of the canopy would be underestimated. The LiDAR data will help to mitigate this effect, as it will show a larger canopy extent when processed to create a Digital Canopy Model. The LiDAR data were also captured during leaf-off conditions, so even though the use of the LiDAR DCM will help give a fuller picture of the canopy, there will remain some underestimation. To mitigate this problem, Sanborn proposes an option to add an additional canopy/non-canopy classification derived from leaf-on National Agricultural Imagery Program (NAIP) imagery. This classification, when used in conjunction with the classification specified by the RFP, will give users a true picture of the state of the region’s Green Infrastructure. There is always a degree of confusion in the spectral classification; hence spatial models will be used to clean up misclassifications based on adjacency and ancillary datasets. These models are most effective when working with misclassification of shadows. When classifying using 8-bit imagery, shadows are often confused with water and woody vegetation, and these can be corrected based on surrounding pixels. Sanborn uses spatial models which account for a feature’s context when deciding whether or not to reclassify it. In this dataset, the tree canopy is prioritized over impervious. This is the most straightforward way to classify an aerial image, since the aerial sensor “sees” the tree crown rather than what is beneath. Most of the previous land cover datasets were mapped in this manner with the exception of the Alliance of Downriver Watersheds classification. In that case, impervious surfaces were prioritized over canopy. Sanborn has retained from previous production a version in which tree canopy was prioritized, and this can be used to create a more consistent classification.</stepDesc>
</prcStep>
<prcStep>
<stepDesc>To detect change in the landscape, Sanborn used the GeoCDX software application, developed by the University of Missouri. Using this methodology, spectral signatures and other features were compared between the two dates of imagery under consideration to create a potential change map. The change detection methodology compares several different aspects of both sets of imagery, 2008 and 2010. These attributes include, but are not limited to, spectral value, as well as spatial-spectral features, such as texture and linear correlation (good for finding roads, sidewalks, etc.). Data driven window parameters allow GeoCDX to consider pixel neighborhoods, which can aid in the discrimination of false change and true change, which most often occurs in larger, contiguous patches. Once the potential change map is complete, the area is broken into tiles, each tile is ranked according to the amount of potential change it contains, and the change-signatures are analyzed to group similar types of land cover change patterns. The change data are then ready for review by an imagery analyst and labeling of the change. The GeoCDX leverages an efficient and simple software web interface that allows an imagery analyst to cycle through the tiles according to the types of change and the amount of change detected by the routine. During this process, the analyst labels the type of change present in the tile for later use in creating the new classification. The amount of change can be customized and can be set for various minimum mapping units. Once the change labels are complete, Sanborn will use them to refine the potential change map, removing any “false positives” and classifying the true change to its proper 2010 class. This process is guided by the streamlined output provided by the GeoCDX system. The labels and delineation created in this step was thoroughly checked for quality and consistency by the project’s QC analyst.</stepDesc>
</prcStep>
<prcStep>
<stepDesc>Full - Canopy Dataset 1) Initial canopy processing was performed using training data from land cover classification described above. To enhance the coverage of the canopy data regionally, additional training sites were selected where needed (where there were inconsistencies in NAIP imagery across areas) and these were processed separately. The resulting canopy was modeled into the baseline canopy map. These models were saved and used on nearby areas with similar imagery characteristics. 2) Digital canopy models based on LIDAR data were used to better define canopy from non-canopy and particularly for distinguishing large trees from shrubs. 3) Individual production areas were edgematched. 4) QC was performed and any issues were resolved 5) Data was provided to SEMCOG for review and any valid issues identified by SEMCOG were also addressed. 6) All counties were edgematched into a SEMCOG coverage and then clipped to the various boundaries as needed.</stepDesc>
</prcStep>
<prcStep>
<stepDesc>Approximately 18% of the SEMCOG project area had been previously mapped using 2008 USGS imagery. The following process was used for the 2008 classification. 2008 ADS-40 imagery at 1 meter resolution was acquired for the area and imported into ERDAS Imagine for mosaicking and tiling. Image derivatives were made, including band ratios and texture of the NIR band. 6 of 18 mosaicked areas were selected for their diversity of cover types and training samples for each of the target cover types were delineated. These samples were then used to train the CART classifier (See5, Rulequest 2001), which resulted in a regression model that was applied to the mosaicked tiles. A preliminary classification was the result of this first step. Several spatial models were then created in AML and applied to the output of the CART classification. The output was a final automated classification that was ready for manual editing. At this point the classification was visually assessed against the imagery and errors were manually edited. An accuracy assessment protocol was run on the image to assess total and per class accuracy.</stepDesc>
<stepProc>
<rpIndName>Matt Vernier</rpIndName>
<rpOrgName>Sanborn</rpOrgName>
<rpPosName>Senior Remote Sensing Analyst</rpPosName>
<rpCntInfo>
<cntPhone>
<voiceNum>734.213.1060</voiceNum>
<faxNum>734.213.1085</faxNum>
</cntPhone>
<cntAddress addressType="both">
<delPoint>Suite 80</delPoint>
<delPoint>320 Miller Ave.</delPoint>
<city>Ann Arbor</city>
<adminArea>MI</adminArea>
<postCode>48103</postCode>
<country>US</country>
<eMailAdd>mvernier@sanborn.com</eMailAdd>
</cntAddress>
<cntHours>M-F 9-5</cntHours>
</rpCntInfo>
<role>
<RoleCd value="009"/>
</role>
</stepProc>
</prcStep>
<prcStep>
<stepDesc>Compilation: 1. Since the land cover and full canopy datasets originated in raster format, building footprints had to be converted to raster prior to incorporation into the model. This was accomplished in ArcMap through Vector to Raster Conversion with a raster resolution of 3.28084 feet (1 meter). 2. A raster model was constructed with the following rules: 1. If Full Canopy = “Canopy” a. If BFP = “Building” then Output = “Trees: Impervious Understory” b. If LC = “Impervious” then Output = “Trees: Impervious Understory” c. If LC = “Open Space” then Output = “Trees: Grass Understory, Grass 50- 75%” d. If LC = “Trees” then Output = “Trees: Grass Understory, Grass &gt; 75%” e. If LC = “Urban: Bare” then Output = “Trees: Grass Understory, Grass 50- 75%” f. If LC = “Water” then Output = “Trees: Impervious Understory” 2. If BFP = “Building” then Output = “Impervious: Buildings/Structures” 3. If LC = “Trees” then Output = “Trees: Grass Understory, Grass 50- 75%” 4. If LC = “Impervious” then Output = “Impervious: Paved: Drain to sewer” 5. If LC = “Open Space” then Output = “Open Space: Grass/Scattered Trees” 6. If LC = “Urban: Bare” then Output = “Urban: Bare” 7. If LC = “Water” then Output = “Water Area” The result of the model was the 8-class raster in ESRI GRID format</stepDesc>
</prcStep>
<prcStep>
<stepDesc>Building Footprints 1) Vector building polygons were digitized heads up in a 2D environment using the following rules: 2) Buildings for all counties were captured even if there were existing datasets with building footprints for counties. For example, building footprints derived from LiDAR data were available for Washtenaw County but these were not used for this dataset due to the difference in methodology for this project. 3) Small residential buildings were digitized at the eve of the building roof whereas larger buildings with substantial height and offset from ground were captured at the base or footprint of the building structure. 4) Buildings were captured as an envelope delineating the periphery of the buildings and did not show different polygons for different heights. This was not possible due to the 2D data compilation and out of the scope. 5) Estimated building height was calculated using LiDAR data for each county – because LiDAR data vintage and specifications differed by counties, the building height attribution was done by county. 6) In order to estimate building heights, building footprint vectors were used to summarize a Digital Surface Model, or DSM. The DSM was created from the 2009-2010 LiDAR provided by SEMCOG by differencing the ground and non-ground points from each laser pulse, thereby deriving the height of the feature encountered by the pulse. Since those features would very often be trees, rather than structures underneath trees, high vegetation points were classified and removed from the LiDAR data prior to height derivation. 7) The summary routine returned the median height for a building, which was found to be a more robust measure of height than mean – the mean is usually influenced by large outliers, such as misclassified tree pixels. 8) Some buildings were not visible at all in the LiDAR, meaning the height could not be directly obtained from the DSM. This was particularly the case for buildings that were completely covered by high density trees or structures that were small enough to get few LiDAR points. Those buildings were assigned the median height of all buildings within their census block. If a census block contained too few buildings that were free of canopy cover, buildings without heights were assigned a global median height for the county. 9) Unusual building heights were flagged and reviewed. 10) All buildings where heights were calculated through interpolation using averages of census blocks, etc. were flagged for greater level of uncertainly and such information is captured in the data. For example, if a height extracted from the LIDAR data was incorrect based on the its’ ratio against the footprint shape area or if building seemed abnormally tall or it has a limited number of non-canopy LiDAR returns, the FLAG field was assigned a value of 1. This allowed the flagged buildings to be easily singled out for future improvements in the data for those buildings using other datasets such as tax and assessment databases, etc. 11) Both Sanborn and SEMCOG QCed the data and any identified issues were addressed. 12) Once all revisions were complete, the numbering system requested by SEMCOG was incorporated into the “IDLong” field in the building footprints attribute table. This field was populated using a model that insured that every object received a unique value while maintaining the requested numbering format. 1,000,000 range – Wayne County – not including Detroit 2,000,000 range – Oakland County 3,000,000 range – Macomb County 4,000,000 range – Washtenaw County 5,000,000 range – Monroe County 6,000,000 range – St. Clair County 7,000,000 range – Livingston County 8,000,000 range – Detroit</stepDesc>
</prcStep>
</dataLineage>
</dqInfo>
<spatRepInfo>
<Georect>
<numDims Sync="TRUE">2</numDims>
<axisDimension type="001">
<dimSize Sync="TRUE">51351</dimSize>
<dimResol>
<value Sync="TRUE" uom="ft">3.280840</value>
</dimResol>
</axisDimension>
