<?xml version="1.0" encoding="UTF-8" standalone="no"?>
<metadata xml:lang="en">
<Esri>
<CreaDate>20100923</CreaDate>
<CreaTime>23075400</CreaTime>
<ArcGISFormat>1.0</ArcGISFormat>
<SyncOnce>FALSE</SyncOnce>
<DataProperties>
<lineage>
<Process Date="20100923" Time="230754" ToolSource="D:\ArcGIS\Desktop10.0\ArcToolbox\Toolboxes\Data Management Tools.tbx\ChangePrivileges">ChangePrivileges 'Database Connections/OC@5151 gisras1 oakgisdb01.sde\GISRAS1.OC.INTENSITY' GISRAS1_SDE_RL GRANT GRANT</Process>
<Process Date="20100923" Time="230754" ToolSource="D:\ArcGIS\Desktop10.0\ArcToolbox\Toolboxes\Data Management Tools.tbx\ChangePrivileges">ChangePrivileges 'Database Connections/OC@5151 gisras1 oakgisdb01.sde\GISRAS1.OC.INTENSITY' GISRAS1_USER_RL GRANT AS_IS</Process>
<Process Date="20100923" Time="230755" ToolSource="D:\ArcGIS\Desktop10.0\ArcToolbox\Toolboxes\Data Management Tools.tbx\ChangePrivileges">ChangePrivileges 'Database Connections/OC@5151 gisras1 oakgisdb01.sde\GISRAS1.OC.INTENSITY' GISRAS1_CVT_RL GRANT AS_IS</Process>
<Process Date="20100923" Time="230755" ToolSource="D:\ArcGIS\Desktop10.0\ArcToolbox\Toolboxes\Data Management Tools.tbx\ChangePrivileges">ChangePrivileges 'Database Connections/OC@5151 gisras1 oakgisdb01.sde\GISRAS1.OC.INTENSITY' SDE GRANT AS_IS</Process>
<Process Date="20100923" Time="230756" ToolSource="D:\ArcGIS\Desktop10.0\ArcToolbox\Toolboxes\Data Management Tools.tbx\ChangePrivileges">ChangePrivileges 'Database Connections/OC@5151 gisras1 oakgisdb01.sde\GISRAS1.OC.INTENSITY' GISRAS1_COUNTY_RL GRANT AS_IS</Process>
<Process Date="20100926" Time="055820" ToolSource="D:\ArcGIS\Desktop10.0\ArcToolbox\Toolboxes\Data Management Tools.tbx\ChangePrivileges">ChangePrivileges 'Database Connections/OC@5151 gisras1 oakgisdb01.sde\GISRAS1.OC.INTENSITY' GISRAS1_SDE_RL GRANT GRANT</Process>
<Process Date="20100926" Time="055821" ToolSource="D:\ArcGIS\Desktop10.0\ArcToolbox\Toolboxes\Data Management Tools.tbx\ChangePrivileges">ChangePrivileges 'Database Connections/OC@5151 gisras1 oakgisdb01.sde\GISRAS1.OC.INTENSITY' GISRAS1_USER_RL GRANT AS_IS</Process>
<Process Date="20100926" Time="055821" ToolSource="D:\ArcGIS\Desktop10.0\ArcToolbox\Toolboxes\Data Management Tools.tbx\ChangePrivileges">ChangePrivileges 'Database Connections/OC@5151 gisras1 oakgisdb01.sde\GISRAS1.OC.INTENSITY' GISRAS1_CVT_RL GRANT AS_IS</Process>
<Process Date="20100926" Time="055822" ToolSource="D:\ArcGIS\Desktop10.0\ArcToolbox\Toolboxes\Data Management Tools.tbx\ChangePrivileges">ChangePrivileges 'Database Connections/OC@5151 gisras1 oakgisdb01.sde\GISRAS1.OC.INTENSITY' SDE GRANT AS_IS</Process>
<Process Date="20100926" Time="055823" ToolSource="D:\ArcGIS\Desktop10.0\ArcToolbox\Toolboxes\Data Management Tools.tbx\ChangePrivileges">ChangePrivileges 'Database Connections/OC@5151 gisras1 oakgisdb01.sde\GISRAS1.OC.INTENSITY' GISRAS1_COUNTY_RL GRANT AS_IS</Process>
<Process Date="20210402" Time="093241" ToolSource="c:\program files (x86)\arcgis\desktop10.7\ArcToolbox\Toolboxes\Data Management Tools.tbx\CopyRaster">CopyRaster D:\DBConnections103\DEV_QA_DBConnections\QAGISPublishing_gisras1_ro.sde\GISRAS1.OC.INTENSITY D:\Intensity.tif # # 256 NONE NONE # NONE NONE TIFF NONE</Process>
</lineage>
<itemProps>
<itemName Sync="TRUE">Intensity2008.tif</itemName>
<nativeExtBox>
<westBL Sync="TRUE">13299996.560000</westBL>
<eastBL Sync="TRUE">13475004.239964</eastBL>
<southBL Sync="TRUE">334996.239999</southBL>
<northBL Sync="TRUE">515005.920001</northBL>
<exTypeCode Sync="TRUE">1</exTypeCode>
</nativeExtBox>
<itemLocation>
<linkage Sync="TRUE">file://\\gisfs1q\Orthos\Orthos_2010\MiscImages\Intensity2008.tif</linkage>
<protocol Sync="TRUE">Local Area Network</protocol>
</itemLocation>
<imsContentType Sync="TRUE">002</imsContentType>
</itemProps>
<coordRef>
<type Sync="TRUE">Projected</type>
<geogcsn Sync="TRUE">GCS_North_American_1983</geogcsn>
<csUnits Sync="TRUE">Linear Unit: Foot (0.304800)</csUnits>
<projcsn Sync="TRUE">NAD_1983_StatePlane_Michigan_South_FIPS_2113_Feet_Intl</projcsn>
<peXml Sync="TRUE">&lt;ProjectedCoordinateSystem xsi:type='typens:ProjectedCoordinateSystem' xmlns:xsi='http://www.w3.org/2001/XMLSchema-instance' xmlns:xs='http://www.w3.org/2001/XMLSchema' xmlns:typens='http://www.esri.com/schemas/ArcGIS/10.7'&gt;&lt;WKT&gt;PROJCS[&amp;quot;NAD_1983_StatePlane_Michigan_South_FIPS_2113_Feet_Intl&amp;quot;,GEOGCS[&amp;quot;GCS_North_American_1983&amp;quot;,DATUM[&amp;quot;D_North_American_1983&amp;quot;,SPHEROID[&amp;quot;GRS_1980&amp;quot;,6378137.0,298.257222101]],PRIMEM[&amp;quot;Greenwich&amp;quot;,0.0],UNIT[&amp;quot;Degree&amp;quot;,0.0174532925199433]],PROJECTION[&amp;quot;Lambert_Conformal_Conic&amp;quot;],PARAMETER[&amp;quot;False_Easting&amp;quot;,13123359.58005249],PARAMETER[&amp;quot;False_Northing&amp;quot;,0.0],PARAMETER[&amp;quot;Central_Meridian&amp;quot;,-84.36666666666666],PARAMETER[&amp;quot;Standard_Parallel_1&amp;quot;,42.1],PARAMETER[&amp;quot;Standard_Parallel_2&amp;quot;,43.66666666666666],PARAMETER[&amp;quot;Latitude_Of_Origin&amp;quot;,41.5],UNIT[&amp;quot;Foot&amp;quot;,0.3048],AUTHORITY[&amp;quot;EPSG&amp;quot;,2253]]&lt;/WKT&gt;&lt;XOrigin&gt;-107138600&lt;/XOrigin&gt;&lt;YOrigin&gt;-97193800&lt;/YOrigin&gt;&lt;XYScale&gt;37448250.484633707&lt;/XYScale&gt;&lt;ZOrigin&gt;-100000&lt;/ZOrigin&gt;&lt;ZScale&gt;10000&lt;/ZScale&gt;&lt;MOrigin&gt;-100000&lt;/MOrigin&gt;&lt;MScale&gt;10000&lt;/MScale&gt;&lt;XYTolerance&gt;0.0032808398950131233&lt;/XYTolerance&gt;&lt;ZTolerance&gt;0.001&lt;/ZTolerance&gt;&lt;MTolerance&gt;0.001&lt;/MTolerance&gt;&lt;HighPrecision&gt;true&lt;/HighPrecision&gt;&lt;WKID&gt;2253&lt;/WKID&gt;&lt;LatestWKID&gt;2253&lt;/LatestWKID&gt;&lt;/ProjectedCoordinateSystem&gt;</peXml>
</coordRef>
<RasterProperties>
<General>
<PixelDepth Sync="TRUE">8</PixelDepth>
<HasColormap Sync="TRUE">FALSE</HasColormap>
<CompressionType Sync="TRUE">LZW</CompressionType>
<NumBands Sync="TRUE">1</NumBands>
<Format Sync="TRUE">TIFF</Format>
<HasPyramids Sync="TRUE">TRUE</HasPyramids>
<SourceType Sync="TRUE">continuous</SourceType>
<PixelType Sync="TRUE">unsigned integer</PixelType>
<NoDataValue Sync="TRUE">256</NoDataValue>
</General>
</RasterProperties>
</DataProperties>
<SyncDate>20210402</SyncDate>
<SyncTime>14065700</SyncTime>
<ModDate>20210402</ModDate>
<ModTime>14065700</ModTime>
</Esri>
<mdLang>
<languageCode value="eng"/>
<countryCode Sync="TRUE" value="USA"/>
</mdLang>
<mdChar>
<CharSetCd value="004"/>
</mdChar>
<mdHrLv>
<ScopeCd value="005"/>
</mdHrLv>
<mdContact>
<rpIndName>Josh Nimetz</rpIndName>
<rpOrgName>Sanborn Map Company, Inc.</rpOrgName>
<rpPosName>Production Manager - LiDAR Services</rpPosName>
<rpCntInfo>
<cntPhone>
<voiceNum>(719) 264-5513</voiceNum>
<faxNum>(719) 528-5093</faxNum>
</cntPhone>
<cntAddress addressType="both">
<delPoint>1935 Jamboree Drive Suite 100</delPoint>
<city>Colorado Springs</city>
<adminArea>CO</adminArea>
<postCode>80920</postCode>
<country>US</country>
<eMailAdd>jnimetz@sanborn.com</eMailAdd>
</cntAddress>
<cntHours>8:00 A.M. - 5:00 P.M. MST</cntHours>
</rpCntInfo>
<role>
<RoleCd value="007"/>
</role>
</mdContact>
<mdDateSt>20090826</mdDateSt>
<mdStanName>ArcGIS Metadata</mdStanName>
<mdStanVer>1.0</mdStanVer>
<distInfo>
<distributor>
<distorCont>
<rpIndName>Erick Phillips</rpIndName>
<rpOrgName>Oakland County One Stop Shop</rpOrgName>
<rpPosName>Supervisor</rpPosName>
<rpCntInfo>
<cntPhone>
<voiceNum>248.858.4070</voiceNum>
<faxNum>248.858.1080</faxNum>
</cntPhone>
<cntAddress addressType="both">
<delPoint>2100 Pontiac Lake Rd. Bldg. 41W</delPoint>
<city>Waterford</city>
<adminArea>MI</adminArea>
<postCode>48328-0412</postCode>
<country>US</country>
<eMailAdd>phillipse@oakgov.com</eMailAdd>
</cntAddress>
<cntHours>9:00 a.m. to 4:00 p.m.</cntHours>
</rpCntInfo>
<role>
<RoleCd value="005"/>
</role>
</distorCont>
<distorOrdPrc>
<resFees>Varies by data type and agent.</resFees>
<ordInstr>Contact Erick Phillips of the One Stop Shop by phone.</ordInstr>
<ordTurn>24 hrs.</ordTurn>
</distorOrdPrc>
<distorFormat>
<formatName>Shapefiles, .tiff and MrSID</formatName>
</distorFormat>
<distorTran>
<offLineMed>
<medName>
<MedNameCd value="001"/>
</medName>
</offLineMed>
</distorTran>
<distorTran>
<onLineSrc>
<orDesc>Offline data</orDesc>
</onLineSrc>
</distorTran>
</distributor>
<distTranOps>
<onLineSrc>
<linkage>unavailable</linkage>
</onLineSrc>
</distTranOps>
<distFormat>
<formatName Sync="TRUE">Raster Dataset</formatName>
</distFormat>
</distInfo>
<dataIdInfo>
<idCitation>
<resTitle>EnterpriseIntensity2008ImageService</resTitle>
<citRespParty>
<rpOrgName>Oakland County</rpOrgName>
<role>
<RoleCd value="010"/>
</role>
</citRespParty>
<citRespParty>
<rpOrgName>Sanborn Map Company, Inc.</rpOrgName>
<role>
<RoleCd value="006"/>
</role>
</citRespParty>
<presForm>
<fgdcGeoform>SDE raster digital data</fgdcGeoform>
<PresFormCd Sync="TRUE" value="005"/>
</presForm>
</idCitation>
<idAbs>This metadata supports the intensity raster product derived from the 2008 LiDAR data set. The average intensity value (range 0-255) within each raster cell is calculated and assigned as the pixel value. The resultant rasters are 1-byte, single-band with a pixel size of 1 meter (3.28 ft). Each raster was clipped to the LiDAR production tile index with a 1-pixel over-edge. LIDAR data is remotely sensed high-resolution elevation data collected by an airborne collection platform. Using a combination of laser range finding, GPS positioning and inertial measurement technologies; LIDAR instruments are able to make highly detailed Digital Elevation Models (DEM) of the earth's terrain, man-made structures and vegetation. This data was collected at a resolution to aid in flood plain analysis and mapping.</idAbs>
<idPurp>LIDAR data is used for 3D visualization, elevation based analysis and for feature extraction.</idPurp>
<idStatus>
<ProgCd value="001"/>
</idStatus>
<idPoC>
<rpIndName>Anita Campbell</rpIndName>
<rpOrgName>Oakland County Application Services</rpOrgName>
<rpPosName>GIS Data Services Supervisor</rpPosName>
<rpCntInfo>
<cntPhone>
<voiceNum>248.858.2388</voiceNum>
<faxNum>248.452.9128</faxNum>
</cntPhone>
<cntAddress addressType="postal">
<delPoint>1200 N Telegraph Rd, Bldg 49W</delPoint>
<city>Pontiac</city>
<adminArea>MI</adminArea>
<postCode>48341</postCode>
<country>US</country>
<eMailAdd>campbella@oakgov.com</eMailAdd>
</cntAddress>
<cntHours>8:30 a.m. to 5:00 p.m.</cntHours>
</rpCntInfo>
<role>
<RoleCd value="007"/>
</role>
</idPoC>
<resMaint>
<maintFreq>
<MaintFreqCd value="011"/>
</maintFreq>
</resMaint>
<placeKeys>
<keyword>Oakland County</keyword>
<keyword>Michigan</keyword>
<keyword>US</keyword>
</placeKeys>
<themeKeys>
<keyword>Topography</keyword>
<keyword>Intensity</keyword>
<keyword>Digital Elevation Model</keyword>
<keyword>LAS</keyword>
<keyword>Elevation</keyword>
<keyword>Surface Model</keyword>
<keyword>LiDAR</keyword>
<keyword>DEM</keyword>
<thesaName>
<resTitle>TBD</resTitle>
</thesaName>
</themeKeys>
<searchKeys>
<keyword>Topography</keyword>
<keyword>Intensity</keyword>
<keyword>Digital Elevation Model</keyword>
<keyword>LAS</keyword>
<keyword>Oakland County</keyword>
<keyword>Michigan</keyword>
<keyword>Elevation</keyword>
<keyword>Surface Model</keyword>
<keyword>LiDAR</keyword>
<keyword>US</keyword>
<keyword>DEM</keyword>
</searchKeys>
<resConst>
<LegConsts>
<othConsts>http://www.oakgov.com/it/gis/Documents/EnhancedAccessPolicy.pdf</othConsts>
</LegConsts>
</resConst>
<resConst>
<SecConsts>
<class>
<ClasscationCd value="001"/>
</class>
</SecConsts>
</resConst>
<resConst>
<Consts>
<useLimit>http://www.oakgov.com/it/gis/Documents/GISDataPolicies.pdf</useLimit>
</Consts>
</resConst>
<dataLang>
<languageCode value="eng"/>
<countryCode Sync="TRUE" value="USA"/>
</dataLang>
<tpCat>
<TopicCatCd value="006"/>
</tpCat>
<envirDesc>Microsoft Windows XP Version 5.1 (Build 2600) Service Pack 3; ESRI ArcCatalog 9.3.1.1850</envirDesc>
<dataExt>
<geoEle>
<GeoBndBox>
<westBL>-83.712499</westBL>
<eastBL>-83.05405</eastBL>
<southBL>42.411776</southBL>
<northBL>42.911294</northBL>
</GeoBndBox>
</geoEle>
</dataExt>
<dataExt>
<exDesc>ground condition</exDesc>
<tempEle>
<TempExtent>
<exTemp>
<TM_Period>
<tmBegin>2008-04-22</tmBegin>
<tmEnd>2008-04-30</tmEnd>
</TM_Period>
</exTemp>
</TempExtent>
</tempEle>
<geoEle/>
</dataExt>
<suppInfo>These data represent the individual surface returns created by laser energy from the LiDAR sensor reflected from the first surface encountered by the laser pulse. Some energy may continue beyond this initial surface to be reflected by a subsequent surface as represented by the Last Return data. Intensity information is captured from the Reflective Surface pulse and indicates the relative energy returned to the sensor as compared to the energy transmitted. The Intensity image is not calibrated or normalized but indicates differences in energy absorption due to the interaction of the surface materials with laser energy at the wavelength transmitted by the sensor. Points are classified as water, bare ground or not bare ground to support creation of a bare earth model from the data.</suppInfo>
<spatRpType>
<SpatRepTypCd Sync="TRUE" value="002"/>
</spatRpType>
<dataExt>
<geoEle>
<GeoBndBox esriExtentType="search">
<exTypeCode Sync="TRUE">1</exTypeCode>
<westBL Sync="TRUE">-83.712499</westBL>
<eastBL Sync="TRUE">-83.054050</eastBL>
<northBL Sync="TRUE">42.911294</northBL>
<southBL Sync="TRUE">42.411776</southBL>
</GeoBndBox>
</geoEle>
</dataExt>
<idCredit/>
</dataIdInfo>
<dqInfo>
<dqScope>
<scpLvl>
<ScopeCd value="005"/>
</scpLvl>
</dqScope>
<report type="DQConcConsis">
<measDesc>All LIDAR data are validated using commercial GIS software to ensure proper formatting and loading before delivery. This validation procedure ensures that data on delivery media is in correct physical format and is readable.</measDesc>
</report>
<report type="DQCompOm">
<measDesc>LIDAR raster data is visually inspected for completeness to ensure that any gaps between flight lines or loss of signal represents less than 5% of required collection area. LIDAR is self-illuminating and has minimal cloud penetration capability. Water vapor, steam plumes or particulates in smoke may cause reflection of LIDAR signals and loss of elevation information beneath these plumes. Glass structures and roofs may appear transparent to the LIDAR signal and therefore may not register on the reflective surface or if reflected, may cause multi-path ranging errors. Some asphalt formulations have been shown to absorb topographic LIDAR wavelength energy resulting in "pitting" of roof surfaces using this material.</measDesc>
</report>
<report dimension="horizontal" type="DQAbsExtPosAcc">
<measDesc>Data collected is at a horzontal accuracy of 1 meter (RMSE) or better.</measDesc>
</report>
<report dimension="vertical" type="DQAbsExtPosAcc">
<measDesc>LiDAR data accuracy determination shall employ the National Standard for Spatial Data Accuracy (NSSDA). Contracted to meet 18.5cm (RMSE) on open bare terrain and 37.0 cm (RMSE) in obscured "vetetative" areas at the 95 percent confidence level for data tested by an independent source of higher accuracy.</measDesc>
</report>
<dataLineage>
<prcStep>
<stepDesc>LIDAR Ground Point Classification: The classification and quality control (QC) of LiDAR Ground point class is carried out using TerraScan software by Terrasolid Limited of Helsinki, Finland. In the filtering process points are classified as Default (1), Ground (2), Outlier, Noise or Low Point (7), Overlap (12)</stepDesc>
<stepDateTm>2008-07-01</stepDateTm>
<stepProc>
<rpIndName>Josh Nimetz</rpIndName>
<rpOrgName>Sanborn Map Company, Inc.</rpOrgName>
<rpPosName>Production Manager - LiDAR Services</rpPosName>
<rpCntInfo>
<cntPhone>
<voiceNum>(719) 264-5513</voiceNum>
<faxNum>(719) 528-5093</faxNum>
</cntPhone>
<cntAddress addressType="both">
<delPoint>1935 Jamboree Drive Suite 100</delPoint>
<city>Colorado Springs</city>
<adminArea>Colorado Springs</adminArea>
<postCode>80920</postCode>
<country>US</country>
<eMailAdd>jnimetz@sanborn.com</eMailAdd>
</cntAddress>
<cntHours>8:00 A.M. - 5:00 P.M. MST</cntHours>
</rpCntInfo>
<role>
<RoleCd value="009"/>
</role>
</stepProc>
</prcStep>
<prcStep>
<stepDesc>Vendor process steps: Airborne GPS Processing: Airborne GPS data was differentially processed and integrated with the post processed IMU data to derive a smoothed best estimate of trajectory (SBET). The SBET was used to reduce the LiDAR slant range measurements to a raw reflective surface for each flight line. The overlap between flight lines was removed to provide a homogeneous coverage, and the coverage was classified to extract a bare earth digital elevation model (DEM). Airborne GPS is differentially processed using the GrafNAV V7.50 software by Waypoint Consulting of Calgary, Alberta, Canada. The PDOP and distance separation is as follows: IMU data is processed using the PosPac V4.2 software by Applanix Corporation of Richmond Hill, Ontario, Canada. The reflective surface is derived using the post processing software by Optech of Toronto, ON Canada. The classification and quality control (QC) of LiDAR data is carried out using TerraScan software by Terrasolid Limited of Helsinki, Finland. Oakland County process steps occurred post delivery: Oakland County appended 1,153 GeoTiff images into a single raster dataset. Compression quality was set to 75 with a JPEG format. Pyramids and statistic were calculated using a script provided by ESRI after the raster dataset was created.</stepDesc>
<stepDateTm>2008-01-01</stepDateTm>
<stepProc>
<rpIndName>Anita Campbell</rpIndName>
<rpOrgName>Oakland County Application Services</rpOrgName>
<rpPosName>GIS Data Services Supervisor</rpPosName>
<rpCntInfo>
<cntPhone>
<voiceNum>248.858.2388</voiceNum>
<faxNum>248.452.9128</faxNum>
</cntPhone>
<cntAddress addressType="postal">
<delPoint>1200 N Telegraph Rd, Bldg 49W</delPoint>
<city>Pontiac</city>
<adminArea>MI</adminArea>
<postCode>48341</postCode>
<country>US</country>
<eMailAdd>campbella@oakgov.com</eMailAdd>
</cntAddress>
<cntHours>8:30 a.m. to 5:00 p.m.</cntHours>
</rpCntInfo>
<role>
<RoleCd value="009"/>
</role>
</stepProc>
</prcStep>
<prcStep>
<stepDesc>Intensity rasters were created using GeoCue (v. 5.0.18.0) of GeoCue Corporation, Madison AL 35758 USA. The average intensity value (range 0-255) within each raster cell is calculated and assigned as the pixel value. The resultant rasters are 1-byte, single-band with a pixel size of 1 meter (3.28 ft). Each raster was clipped to the LiDAR production tile index with a 1-pixel over-edge.</stepDesc>
<stepDateTm>2008-07-01</stepDateTm>
<stepProc>
<rpIndName>Josh Nimetz</rpIndName>
<rpOrgName>Sanborn Map Company, Inc.</rpOrgName>
<rpPosName>Production Manager - LiDAR Services</rpPosName>
<rpCntInfo>
<cntPhone>
<voiceNum>(719) 264-5513</voiceNum>
<faxNum>(719) 528-5093</faxNum>
</cntPhone>
<cntAddress addressType="both">
<delPoint>1935 Jamboree Drive Suite 100</delPoint>
<city>Colorado Springs</city>
<adminArea>CO</adminArea>
<postCode>80920</postCode>
<country>US</country>
<eMailAdd>jnimetz@sanborn.com</eMailAdd>
</cntAddress>
<cntHours>8:00 A.M. - 5:00 P.M. MST</cntHours>
</rpCntInfo>
<role>
<RoleCd value="009"/>
</role>
</stepProc>
</prcStep>
<prcStep>
<stepDesc>Output: LAS Files LIDAR points in 1.1 format</stepDesc>
<stepDateTm>2008-07-01</stepDateTm>
<stepProc>
<rpIndName>Josh Nimetz</rpIndName>
<rpOrgName>Sanborn Map Company, Inc.</rpOrgName>
<rpPosName>Production Manager - LiDAR Services</rpPosName>
<rpCntInfo>
<cntPhone>
<voiceNum>(719) 264-5513</voiceNum>
<faxNum>(719) 528-5093</faxNum>
</cntPhone>
<cntAddress addressType="both">
<delPoint>1935 Jamboree Drive Suite 100</delPoint>
<city>Colorado Springs</city>
<adminArea>CO</adminArea>
<postCode>80920</postCode>
<country>US</country>
<eMailAdd>jnimetz@sanborn.com</eMailAdd>
</cntAddress>
<cntHours>8:00 A.M. - 5:00 P.M. MST</cntHours>
</rpCntInfo>
<role>
<RoleCd value="009"/>
</role>
</stepProc>
</prcStep>
</dataLineage>
</dqInfo>
<spatRepInfo>
<Georect>
<numDims>2</numDims>
<axisDimension type="001">
<dimSize>54881</dimSize>
<dimResol>
<value Sync="TRUE" uom="ft">3.280000</value>
</dimResol>
</axisDimension>
<axisDimension type="002">
<dimSize>53356</dimSize>
<dimResol>
<value Sync="TRUE" uom="ft">3.280000</value>
</dimResol>
</axisDimension>
<axisDimension type="003">
<dimSize>1</dimSize>
</axisDimension>
<cellGeo>
<CellGeoCd Sync="TRUE" value="002"/>
</cellGeo>
<tranParaAv Sync="TRUE">1</tranParaAv>
<chkPtAv Sync="TRUE">0</chkPtAv>
<cornerPts>
<pos Sync="TRUE">13299996.560000 334996.239999</pos>
</cornerPts>
<cornerPts>
<pos Sync="TRUE">13299996.560000 515005.920001</pos>
</cornerPts>
<cornerPts>
<pos Sync="TRUE">13475004.239964 515005.920001</pos>
</cornerPts>
<cornerPts>
<pos Sync="TRUE">13475004.239964 334996.239999</pos>
</cornerPts>
<centerPt>
<pos Sync="TRUE">13387500.399982 425001.080000</pos>
</centerPt>
<ptInPixel>
<PixOrientCd Sync="TRUE" value="001"/>
</ptInPixel>
</Georect>
</spatRepInfo>
<spatRepInfo>
<VectSpatRep>
<geometObjs>
<geoObjTyp>
<GeoObjTypCd value="004"/>
</geoObjTyp>
</geometObjs>
</VectSpatRep>
<Georect>
<tranParaAv Sync="TRUE">1</tranParaAv>
<chkPtAv Sync="TRUE">0</chkPtAv>
<cornerPts>
<pos Sync="TRUE">13299996.560000 334996.239999</pos>
</cornerPts>
<cornerPts>
<pos Sync="TRUE">13299996.560000 515005.920001</pos>
</cornerPts>
<cornerPts>
<pos Sync="TRUE">13475004.239964 515005.920001</pos>
</cornerPts>
<cornerPts>
<pos Sync="TRUE">13475004.239964 334996.239999</pos>
</cornerPts>
<centerPt>
<pos Sync="TRUE">13387500.399982 425001.080000</pos>
</centerPt>
<axisDimension>
<dimResol>
<value/>
</dimResol>
</axisDimension>
<axisDimension>
<dimResol>
<value/>
</dimResol>
</axisDimension>
<ptInPixel>
<PixOrientCd Sync="TRUE" value="001"/>
</ptInPixel>
</Georect>
</spatRepInfo>
<eainfo/>
<mdHrLvName Sync="TRUE">dataset</mdHrLvName>
<refSysInfo>
<RefSystem>
<refSysID>
<identCode Sync="TRUE" code="2253"/>
<idCodeSpace Sync="TRUE">EPSG</idCodeSpace>
<idVersion Sync="TRUE">5.3(9.0.0)</idVersion>
</refSysID>
</RefSystem>
</refSysInfo>
<spdoinfo>
<rastinfo>
<rasttype Sync="TRUE">Pixel</rasttype>
<rowcount Sync="TRUE">54881</rowcount>
<colcount Sync="TRUE">53356</colcount>
<rastxsz Sync="TRUE">3.280000</rastxsz>
<rastysz Sync="TRUE">3.280000</rastysz>
<rastbpp Sync="TRUE">8</rastbpp>
<vrtcount Sync="TRUE">1</vrtcount>
<rastorig Sync="TRUE">Upper Left</rastorig>
<rastcmap Sync="TRUE">FALSE</rastcmap>
<rastcomp Sync="TRUE">JPEG</rastcomp>
<rastband Sync="TRUE">1</rastband>
<rastdtyp Sync="TRUE">pixel codes</rastdtyp>
<rastifor Sync="TRUE">SDR</rastifor>
<rastplyr Sync="TRUE">TRUE</rastplyr>
</rastinfo>
</spdoinfo>
<spref>
<horizsys>
<planar>
<planci>
<plance Sync="TRUE">row and column</plance>
<coordrep>
<absres Sync="TRUE">3.280000</absres>
<ordres Sync="TRUE">3.280000</ordres>
</coordrep>
</planci>
</planar>
</horizsys>
</spref>
<contInfo>
<ImgDesc>
<contentTyp>
<ContentTypCd Sync="TRUE" value="001"/>
</contentTyp>
<covDim>
<Band>
<dimDescrp Sync="TRUE">Band_1</dimDescrp>
<maxVal Sync="TRUE">255.000000</maxVal>
<minVal Sync="TRUE">0.000000</minVal>
<bitsPerVal Sync="TRUE">8</bitsPerVal>
<valUnit>
<UOM type="length"/>
</valUnit>
</Band>
</covDim>
</ImgDesc>
</contInfo>
</metadata>
