{
 "currentVersion": 11.2,
 "cimVersion": "3.2.0",
 "serviceDescription": "Production Tile Cache for Oakland County Parks",
 "mapName": "Layers",
 "description": "Production Tile Cache for Oakland County Parks",
 "copyrightText": "",
 "supportsDynamicLayers": false,
 "layers": [
  {
   "id": 111,
   "name": "ParkFacility_Labels (10k-70k)",
   "parentLayerId": -1,
   "defaultVisibility": true,
   "subLayerIds": [
    1
   ],
   "minScale": 70000,
   "maxScale": 10000,
   "type": "Annotation Layer",
   "geometryType": "esriGeometryPolygon",
   "supportsDynamicLegends": false
  },
  {
   "id": 1,
   "name": "Default",
   "parentLayerId": 111,
   "defaultVisibility": true,
   "subLayerIds": null,
   "minScale": 0,
   "maxScale": 0,
   "supportsDynamicLegends": false
  },
  {
   "id": 2,
   "name": "Park_Labels19k_70k",
   "parentLayerId": -1,
   "defaultVisibility": true,
   "subLayerIds": [
    3
   ],
   "minScale": 70000,
   "maxScale": 19000,
   "type": "Annotation Layer",
   "geometryType": "esriGeometryPolygon",
   "supportsDynamicLegends": false
  },
  {
   "id": 3,
   "name": "Medium Scale",
   "parentLayerId": 2,
   "defaultVisibility": true,
   "subLayerIds": null,
   "minScale": 0,
   "maxScale": 0,
   "supportsDynamicLegends": false
  },
  {
   "id": 4,
   "name": "Park_Labels70k_200k",
   "parentLayerId": -1,
   "defaultVisibility": true,
   "subLayerIds": [
    5
   ],
   "minScale": 200000,
   "maxScale": 70000,
   "type": "Annotation Layer",
   "geometryType": "esriGeometryPolygon",
   "supportsDynamicLegends": false
  },
  {
   "id": 5,
   "name": "Small Scale",
   "parentLayerId": 4,
   "defaultVisibility": true,
   "subLayerIds": null,
   "minScale": 0,
   "maxScale": 0,
   "supportsDynamicLegends": false
  },
  {
   "id": 6,
   "name": "Park_Labels200k_500k",
   "parentLayerId": -1,
   "defaultVisibility": true,
   "subLayerIds": [
    7
   ],
   "minScale": 500000,
   "maxScale": 200000,
   "type": "Annotation Layer",
   "geometryType": "esriGeometryPolygon",
   "supportsDynamicLegends": false
  },
  {
   "id": 7,
   "name": "Smallest Scale",
   "parentLayerId": 6,
   "defaultVisibility": true,
   "subLayerIds": null,
   "minScale": 0,
   "maxScale": 0,
   "supportsDynamicLegends": false
  },
  {
   "id": 8,
   "name": "Amenity",
   "parentLayerId": -1,
   "defaultVisibility": true,
   "subLayerIds": null,
   "minScale": 36000,
   "maxScale": 0,
   "type": "Feature Layer",
   "geometryType": "esriGeometryPoint",
   "supportsDynamicLegends": true
  },
  {
   "id": 9,
   "name": "Activity",
   "parentLayerId": -1,
   "defaultVisibility": true,
   "subLayerIds": null,
   "minScale": 18000,
   "maxScale": 4000,
   "type": "Feature Layer",
   "geometryType": "esriGeometryPoint",
   "supportsDynamicLegends": true
  },
  {
   "id": 10,
   "name": "Golf Hole Label",
   "parentLayerId": -1,
   "defaultVisibility": true,
   "subLayerIds": null,
   "minScale": 18000,
   "maxScale": 0,
   "type": "Feature Layer",
   "geometryType": "esriGeometryPolygon",
   "supportsDynamicLegends": true
  },
  {
   "id": 11,
   "name": "Road Label",
   "parentLayerId": -1,
   "defaultVisibility": true,
   "subLayerIds": null,
   "minScale": 18000,
   "maxScale": 0,
   "type": "Feature Layer",
   "geometryType": "esriGeometryPolyline",
   "supportsDynamicLegends": true
  },
  {
   "id": 12,
   "name": "Parking Lot Icon",
   "parentLayerId": -1,
   "defaultVisibility": true,
   "subLayerIds": null,
   "minScale": 36000,
   "maxScale": 0,
   "type": "Feature Layer",
   "geometryType": "esriGeometryPolygon",
   "supportsDynamicLegends": true
  },
  {
   "id": 13,
   "name": "Playground Icon",
   "parentLayerId": -1,
   "defaultVisibility": true,
   "subLayerIds": null,
   "minScale": 19000,
   "maxScale": 4000,
   "type": "Feature Layer",
   "geometryType": "esriGeometryPolygon",
   "supportsDynamicLegends": true
  },
  {
   "id": 14,
   "name": "Playing Court Icon",
   "parentLayerId": -1,
   "defaultVisibility": true,
   "subLayerIds": null,
   "minScale": 18000,
   "maxScale": 4000,
   "type": "Feature Layer",
   "geometryType": "esriGeometryPolygon",
   "supportsDynamicLegends": true
  },
  {
   "id": 15,
   "name": "Playing Field Icon",
   "parentLayerId": -1,
   "defaultVisibility": true,
   "subLayerIds": null,
   "minScale": 18000,
   "maxScale": 4000,
   "type": "Feature Layer",
   "geometryType": "esriGeometryPolygon",
   "supportsDynamicLegends": true
  },
  {
   "id": 16,
   "name": "Building (18k-9k)",
   "parentLayerId": -1,
   "defaultVisibility": true,
   "subLayerIds": null,
   "minScale": 18000,
   "maxScale": 9000,
   "type": "Feature Layer",
   "geometryType": "esriGeometryPolygon",
   "supportsDynamicLegends": true
  },
  {
   "id": 17,
   "name": "Building (9k-4k)",
   "parentLayerId": -1,
   "defaultVisibility": true,
   "subLayerIds": null,
   "minScale": 9000,
   "maxScale": 4000,
   "type": "Feature Layer",
   "geometryType": "esriGeometryPolygon",
   "supportsDynamicLegends": true
  },
  {
   "id": 18,
   "name": "Building (<4k)",
   "parentLayerId": -1,
   "defaultVisibility": true,
   "subLayerIds": null,
   "minScale": 4000,
   "maxScale": 0,
   "type": "Feature Layer",
   "geometryType": "esriGeometryPolygon",
   "supportsDynamicLegends": true
  },
  {
   "id": 19,
   "name": "Trails (37k-19k)",
   "parentLayerId": -1,
   "defaultVisibility": true,
   "subLayerIds": null,
   "minScale": 37000,
   "maxScale": 19000,
   "type": "Feature Layer",
   "geometryType": "esriGeometryPolyline",
   "supportsDynamicLegends": true
  },
  {
   "id": 20,
   "name": "Trails (19k-10k)",
   "parentLayerId": -1,
   "defaultVisibility": true,
   "subLayerIds": null,
   "minScale": 19000,
   "maxScale": 10000,
   "type": "Feature Layer",
   "geometryType": "esriGeometryPolyline",
   "supportsDynamicLegends": true
  },
  {
   "id": 21,
   "name": "Trails (<10k)",
   "parentLayerId": -1,
   "defaultVisibility": true,
   "subLayerIds": null,
   "minScale": 10000,
   "maxScale": 0,
   "type": "Feature Layer",
   "geometryType": "esriGeometryPolyline",
   "supportsDynamicLegends": true
  },
  {
   "id": 22,
   "name": "Campsite",
   "parentLayerId": -1,
   "defaultVisibility": true,
   "subLayerIds": null,
   "minScale": 18000,
   "maxScale": 0,
   "type": "Feature Layer",
   "geometryType": "esriGeometryPolygon",
   "supportsDynamicLegends": true
  },
  {
   "id": 23,
   "name": "Playground Area",
   "parentLayerId": -1,
   "defaultVisibility": true,
   "subLayerIds": null,
   "minScale": 4000,
   "maxScale": 0,
   "type": "Feature Layer",
   "geometryType": "esriGeometryPolygon",
   "supportsDynamicLegends": true
  },
  {
   "id": 24,
   "name": "Playing Court Area",
   "parentLayerId": -1,
   "defaultVisibility": true,
   "subLayerIds": null,
   "minScale": 4000,
   "maxScale": 0,
   "type": "Feature Layer",
   "geometryType": "esriGeometryPolygon",
   "supportsDynamicLegends": true
  },
  {
   "id": 25,
   "name": "Playing Field Area",
   "parentLayerId": -1,
   "defaultVisibility": true,
   "subLayerIds": null,
   "minScale": 4000,
   "maxScale": 0,
   "type": "Feature Layer",
   "geometryType": "esriGeometryPolygon",
   "supportsDynamicLegends": true
  },
  {
   "id": 26,
   "name": "Pool Deck",
   "parentLayerId": -1,
   "defaultVisibility": true,
   "subLayerIds": null,
   "minScale": 18000,
   "maxScale": 0,
   "type": "Feature Layer",
   "geometryType": "esriGeometryPolygon",
   "supportsDynamicLegends": true
  },
  {
   "id": 27,
   "name": "Park Boundary (Sm Scale)",
   "parentLayerId": -1,
   "defaultVisibility": true,
   "subLayerIds": null,
   "minScale": 570000,
   "maxScale": 70000,
   "type": "Feature Layer",
   "geometryType": "esriGeometryPolygon",
   "supportsDynamicLegends": true
  },
  {
   "id": 28,
   "name": "Park Boundary (Lg Scale)",
   "parentLayerId": -1,
   "defaultVisibility": true,
   "subLayerIds": null,
   "minScale": 70000,
   "maxScale": 0,
   "type": "Feature Layer",
   "geometryType": "esriGeometryPolygon",
   "supportsDynamicLegends": true
  },
  {
   "id": 29,
   "name": "Road And Parking Striping",
   "parentLayerId": -1,
   "defaultVisibility": true,
   "subLayerIds": null,
   "minScale": 4600,
   "maxScale": 0,
   "type": "Feature Layer",
   "geometryType": "esriGeometryPolyline",
   "supportsDynamicLegends": true
  },
  {
   "id": 30,
   "name": "Hardscape",
   "parentLayerId": -1,
   "defaultVisibility": true,
   "subLayerIds": null,
   "minScale": 37000,
   "maxScale": 0,
   "type": "Feature Layer",
   "geometryType": "esriGeometryPolygon",
   "supportsDynamicLegends": true
  },
  {
   "id": 31,
   "name": "Ornamental Landscape",
   "parentLayerId": -1,
   "defaultVisibility": true,
   "subLayerIds": null,
   "minScale": 18000,
   "maxScale": 0,
   "type": "Feature Layer",
   "geometryType": "esriGeometryPolygon",
   "supportsDynamicLegends": true
  },
  {
   "id": 32,
   "name": "Water Area",
   "parentLayerId": -1,
   "defaultVisibility": true,
   "subLayerIds": null,
   "minScale": 73000,
   "maxScale": 0,
   "type": "Feature Layer",
   "geometryType": "esriGeometryPolygon",
   "supportsDynamicLegends": true
  },
  {
   "id": 33,
   "name": "Water Course",
   "parentLayerId": -1,
   "defaultVisibility": true,
   "subLayerIds": null,
   "minScale": 72223.819286,
   "maxScale": 0,
   "type": "Feature Layer",
   "geometryType": "esriGeometryPolyline",
   "supportsDynamicLegends": true
  },
  {
   "id": 34,
   "name": "Hillshade / Elevation",
   "parentLayerId": -1,
   "defaultVisibility": true,
   "subLayerIds": [
    35,
    36,
    37
   ],
   "minScale": 0,
   "maxScale": 0,
   "type": "Group Layer",
   "supportsDynamicLegends": false
  },
  {
   "id": 35,
   "name": "DEM_MDOWHillshade",
   "parentLayerId": 34,
   "defaultVisibility": true,
   "subLayerIds": null,
   "minScale": 11000,
   "maxScale": 0,
   "type": "Raster Layer",
   "supportsDynamicLegends": true
  },
  {
   "id": 36,
   "name": "Hillshade 10",
   "parentLayerId": 34,
   "defaultVisibility": true,
   "subLayerIds": null,
   "minScale": 73000,
   "maxScale": 11000,
   "type": "Raster Layer",
   "supportsDynamicLegends": true
  },
  {
   "id": 37,
   "name": "Hillshade Resample 300",
   "parentLayerId": 34,
   "defaultVisibility": true,
   "subLayerIds": null,
   "minScale": 300000,
   "maxScale": 73000,
   "type": "Raster Layer",
   "supportsDynamicLegends": true
  },
  {
   "id": 38,
   "name": "Cart Path",
   "parentLayerId": -1,
   "defaultVisibility": true,
   "subLayerIds": null,
   "minScale": 18000,
   "maxScale": 0,
   "type": "Feature Layer",
   "geometryType": "esriGeometryPolyline",
   "supportsDynamicLegends": true
  },
  {
   "id": 39,
   "name": "Golf Course",
   "parentLayerId": -1,
   "defaultVisibility": true,
   "subLayerIds": null,
   "minScale": 18000,
   "maxScale": 0,
   "type": "Feature Layer",
   "geometryType": "esriGeometryPolygon",
   "supportsDynamicLegends": true
  },
  {
   "id": 40,
   "name": "Park Background",
   "parentLayerId": -1,
   "defaultVisibility": true,
   "subLayerIds": null,
   "minScale": 0,
   "maxScale": 0,
   "type": "Feature Layer",
   "geometryType": "esriGeometryPolygon",
   "supportsDynamicLegends": true
  },
  {
   "id": 41,
   "name": "ParkEnvelopes",
   "parentLayerId": -1,
   "defaultVisibility": true,
   "subLayerIds": null,
   "minScale": 0,
   "maxScale": 0,
   "type": "Feature Layer",
   "geometryType": "esriGeometryPolygon",
   "supportsDynamicLegends": true
  }
 ],
 "tables": [],
 "spatialReference": {
  "wkid": 102100,
  "latestWkid": 3857,
  "xyTolerance": 0.001,
  "zTolerance": 0.001,
  "mTolerance": 0.001,
  "falseX": -20037700,
  "falseY": -30241100,
  "xyUnits": 10000,
  "falseZ": -100000,
  "zUnits": 10000,
  "falseM": -100000,
  "mUnits": 10000
 },
 "singleFusedMapCache": true,
 "tileInfo": {
  "rows": 512,
  "cols": 512,
  "dpi": 96,
  "format": "PNG32",
  "compressionQuality": 0,
  "origin": {
   "x": -2.0037508342787E7,
   "y": 2.0037508342787E7
  },
  "spatialReference": {
   "wkid": 102100,
   "latestWkid": 3857,
   "xyTolerance": 0.001,
   "zTolerance": 0.001,
   "mTolerance": 0.001,
   "falseX": -20037700,
   "falseY": -30241100,
   "xyUnits": 1.4892314192838538E8,
   "falseZ": -100000,
   "zUnits": 10000,
   "falseM": -100000,
   "mUnits": 10000
  },
  "lods": [
   {
    "level": 0,
    "resolution": 152.87405657041106,
    "scale": 577790.554289
   },
   {
    "level": 1,
    "resolution": 76.43702828507324,
    "scale": 288895.277144
   },
   {
    "level": 2,
    "resolution": 38.21851414253662,
    "scale": 144447.638572
   },
   {
    "level": 3,
    "resolution": 19.10925707126831,
    "scale": 72223.819286
   },
   {
    "level": 4,
    "resolution": 9.554628535634155,
    "scale": 36111.909643
   },
   {
    "level": 5,
    "resolution": 4.77731426794937,
    "scale": 18055.954822
   },
   {
    "level": 6,
    "resolution": 2.388657133974685,
    "scale": 9027.977411
   },
   {
    "level": 7,
    "resolution": 1.1943285668550503,
    "scale": 4513.988705
   },
   {
    "level": 8,
    "resolution": 0.5971642835598172,
    "scale": 2256.994353
   },
   {
    "level": 9,
    "resolution": 0.29858214164761665,
    "scale": 1128.497176
   },
   {
    "level": 10,
    "resolution": 0.1492252984505969,
    "scale": 564
   }
  ]
 },
 "storageInfo": {
  "storageFormat": "esriMapCacheStorageModeCompactV2",
  "packetSize": 128
 },
 "initialExtent": {
  "xmin": -9329361.068309853,
  "ymin": 5253775.832189638,
  "xmax": -9246197.581535691,
  "ymax": 5292682.27958674,
  "spatialReference": {
   "wkid": 102100,
   "latestWkid": 3857,
   "xyTolerance": 0.001,
   "zTolerance": 0.001,
   "mTolerance": 0.001,
   "falseX": -20037700,
   "falseY": -30241100,
   "xyUnits": 10000,
   "falseZ": -100000,
   "zUnits": 10000,
   "falseM": -100000,
   "mUnits": 10000
  }
 },
 "fullExtent": {
  "xmin": -9316810.952804418,
  "ymin": 5225020.52321353,
  "xmax": -9247786.722284928,
  "ymax": 5295790.444827486,
  "spatialReference": {
   "wkid": 102100,
   "latestWkid": 3857,
   "xyTolerance": 0.001,
   "zTolerance": 0.001,
   "mTolerance": 0.001,
   "falseX": -20037700,
   "falseY": -30241100,
   "xyUnits": 10000,
   "falseZ": -100000,
   "zUnits": 10000,
   "falseM": -100000,
   "mUnits": 10000
  }
 },
 "datesInUnknownTimezone": false,
 "minScale": 577790.554289,
 "maxScale": 564,
 "minLOD": 0,
 "maxLOD": 10,
 "units": "esriMeters",
 "supportedImageFormatTypes": "PNG32,PNG24,PNG,JPG,DIB,TIFF,EMF,PS,PDF,GIF,SVG,SVGZ,BMP",
 "documentInfo": {
  "Title": "OC Parks Tile Cache",
  "Author": "",
  "Comments": "Production Tile Cache for Oakland County Parks",
  "Subject": "Production Tile Cache for Oakland County Parks",
  "Category": "",
  "Version": "3.1.0",
  "AntialiasingMode": "Fast",
  "TextAntialiasingMode": "Force",
  "Keywords": "Parks,Tile Cache"
 },
 "supportsQueryDomains": true,
 "capabilities": "Map,Query,Data",
 "supportedQueryFormats": "JSON, geoJSON, PBF",
 "hasVersionedData": true,
 "exportTilesAllowed": false,
 "referenceScale": 0.0,
 "datumTransformations": [
  {
   "geoTransforms": [
    {
     "wkid": 1188,
     "latestWkid": 1188,
     "transformForward": true,
     "name": "NAD_1983_To_WGS_1984_1"
    }
   ]
  },
  {
   "geoTransforms": [
    {
     "wkid": 1188,
     "latestWkid": 1188,
     "transformForward": false,
     "name": "NAD_1983_To_WGS_1984_1"
    }
   ]
  }
 ],
 "supportsDatumTransformation": true,
 "archivingInfo": {
  "supportsHistoricMoment": false
 },
 "supportsClipping": true,
 "supportsSpatialFilter": true,
 "supportsTimeRelation": true,
 "supportsQueryDataElements": true,
 "mapUnits": {
  "uwkid": 9001
 },
 "maxRecordCount": 2000,
 "maxImageHeight": 4096,
 "maxImageWidth": 4096,
 "supportedExtensions": "",
 "resampling": true
}
