<?xml version="1.0" encoding="UTF-8"?>
<Capabilities xmlns="http://www.opengis.net/wmts/1.0"
xmlns:ows="http://www.opengis.net/ows/1.1"
xmlns:xlink="http://www.w3.org/1999/xlink"
xmlns:xsi="http://www.w3.org/2001/XMLSchema-instance"
xmlns:gml="http://www.opengis.net/gml"
xsi:schemaLocation="http://www.opengis.net/wmts/1.0 http://schemas.opengis.net/wmts/1.0/wmtsGetCapabilities_response.xsd"
version="1.0.0">
<!-- Service Identification --> <ows:ServiceIdentification>
<ows:Title>BaseMap_EnterpriseOrthoTC2020BasemapMap</ows:Title>
<ows:ServiceType>OGC WMTS</ows:ServiceType>
<ows:ServiceTypeVersion>1.0.0</ows:ServiceTypeVersion>
</ows:ServiceIdentification> <!-- Operations Metadata --> <ows:OperationsMetadata>
<ows:Operation name="GetCapabilities">
<ows:DCP>
<ows:HTTP>
<ows:Get xlink:href="https://qagisservices.oakgov.com/arcgis/rest/services/BaseMap/EnterpriseOrthoTC2020BasemapMap/MapServer/WMTS/1.0.0/WMTSCapabilities.xml">
<ows:Constraint name="GetEncoding">
<ows:AllowedValues>
<ows:Value>RESTful</ows:Value>
</ows:AllowedValues>
</ows:Constraint>
</ows:Get>
<!-- add KVP binding in 10.1 -->
<ows:Get xlink:href="https://qagisservices.oakgov.com/arcgis/rest/services/BaseMap/EnterpriseOrthoTC2020BasemapMap/MapServer/WMTS?">
<ows:Constraint name="GetEncoding">
<ows:AllowedValues>
<ows:Value>KVP</ows:Value>
</ows:AllowedValues>
</ows:Constraint>
</ows:Get>
</ows:HTTP>
</ows:DCP>
</ows:Operation>
<ows:Operation name="GetTile">
<ows:DCP>
<ows:HTTP>
<ows:Get xlink:href="https://qagisservices.oakgov.com/arcgis/rest/services/BaseMap/EnterpriseOrthoTC2020BasemapMap/MapServer/WMTS/tile/1.0.0/">
<ows:Constraint name="GetEncoding">
<ows:AllowedValues>
<ows:Value>RESTful</ows:Value>
</ows:AllowedValues>
</ows:Constraint>
</ows:Get>
<ows:Get xlink:href="https://qagisservices.oakgov.com/arcgis/rest/services/BaseMap/EnterpriseOrthoTC2020BasemapMap/MapServer/WMTS?">
<ows:Constraint name="GetEncoding">
<ows:AllowedValues>
<ows:Value>KVP</ows:Value>
</ows:AllowedValues>
</ows:Constraint>
</ows:Get>
</ows:HTTP>
</ows:DCP>
</ows:Operation>
</ows:OperationsMetadata> <Contents>
<!--Layer--> <Layer>
<ows:Title>BaseMap_EnterpriseOrthoTC2020BasemapMap</ows:Title> <ows:Identifier>BaseMap_EnterpriseOrthoTC2020BasemapMap</ows:Identifier>
<ows:BoundingBox crs="urn:ogc:def:crs:EPSG::3857">
<ows:LowerCorner>-9350525.08264891 5205324.660768461</ows:LowerCorner>
<ows:UpperCorner>-9214073.522662457 5315488.782138371</ows:UpperCorner>
</ows:BoundingBox> <ows:WGS84BoundingBox crs="urn:ogc:def:crs:OGC:2:84">
<ows:LowerCorner>-83.99719596286468 42.2953502002743</ows:LowerCorner>
<ows:UpperCorner>-82.77143074408684 43.02310143454267</ows:UpperCorner>
</ows:WGS84BoundingBox>
<Style isDefault="true">
<ows:Title>Default Style</ows:Title>
<ows:Identifier>default</ows:Identifier>
</Style>
<Format>image/jpeg</Format>
<TileMatrixSetLink>
<TileMatrixSet>default028mm</TileMatrixSet>
</TileMatrixSetLink>
<ResourceURL format="image/jpeg" resourceType="tile" template="https://qagisservices.oakgov.com/arcgis/rest/services/BaseMap/EnterpriseOrthoTC2020BasemapMap/MapServer/WMTS/tile/1.0.0/BaseMap_EnterpriseOrthoTC2020BasemapMap/{Style}/{TileMatrixSet}/{TileMatrix}/{TileRow}/{TileCol}.jpg" />
</Layer> <!--TileMatrixSet-->
<TileMatrixSet>
<ows:Title>TileMatrix using 0.28mm</ows:Title>
<ows:Abstract>The tile matrix set that has scale values calculated based on the dpi defined by OGC specification (dpi assumes 0.28mm as the physical distance of a pixel).</ows:Abstract> <ows:Identifier>default028mm</ows:Identifier>
<ows:SupportedCRS>urn:ogc:def:crs:EPSG::3857</ows:SupportedCRS>
<TileMatrix>
<ows:Identifier>0</ows:Identifier>
<ScaleDenominator>545978.7734656851</ScaleDenominator>
<TopLeftCorner>-2.0037508342787E7 2.0037508342787E7</TopLeftCorner> <TileWidth>512</TileWidth> <TileHeight>512</TileHeight>
<MatrixWidth>139</MatrixWidth> <MatrixHeight>190</MatrixHeight>
</TileMatrix>
<TileMatrix>
<ows:Identifier>1</ows:Identifier>
<ScaleDenominator>272989.38673237007</ScaleDenominator>
<TopLeftCorner>-2.0037508342787E7 2.0037508342787E7</TopLeftCorner> <TileWidth>512</TileWidth> <TileHeight>512</TileHeight>
<MatrixWidth>277</MatrixWidth> <MatrixHeight>379</MatrixHeight>
</TileMatrix>
<TileMatrix>
<ows:Identifier>2</ows:Identifier>
<ScaleDenominator>136494.69336618503</ScaleDenominator>
<TopLeftCorner>-2.0037508342787E7 2.0037508342787E7</TopLeftCorner> <TileWidth>512</TileWidth> <TileHeight>512</TileHeight>
<MatrixWidth>554</MatrixWidth> <MatrixHeight>758</MatrixHeight>
</TileMatrix>
<TileMatrix>
<ows:Identifier>3</ows:Identifier>
<ScaleDenominator>68247.34668309252</ScaleDenominator>
<TopLeftCorner>-2.0037508342787E7 2.0037508342787E7</TopLeftCorner> <TileWidth>512</TileWidth> <TileHeight>512</TileHeight>
<MatrixWidth>1107</MatrixWidth> <MatrixHeight>1516</MatrixHeight>
</TileMatrix>
<TileMatrix>
<ows:Identifier>4</ows:Identifier>
<ScaleDenominator>34123.67334154626</ScaleDenominator>
<TopLeftCorner>-2.0037508342787E7 2.0037508342787E7</TopLeftCorner> <TileWidth>512</TileWidth> <TileHeight>512</TileHeight>
<MatrixWidth>2213</MatrixWidth> <MatrixHeight>3032</MatrixHeight>
</TileMatrix>
<TileMatrix>
<ows:Identifier>5</ows:Identifier>
<ScaleDenominator>17061.836671245605</ScaleDenominator>
<TopLeftCorner>-2.0037508342787E7 2.0037508342787E7</TopLeftCorner> <TileWidth>512</TileWidth> <TileHeight>512</TileHeight>
<MatrixWidth>4425</MatrixWidth> <MatrixHeight>6064</MatrixHeight>
</TileMatrix>
<TileMatrix>
<ows:Identifier>6</ows:Identifier>
<ScaleDenominator>8530.918335622802</ScaleDenominator>
<TopLeftCorner>-2.0037508342787E7 2.0037508342787E7</TopLeftCorner> <TileWidth>512</TileWidth> <TileHeight>512</TileHeight>
<MatrixWidth>8850</MatrixWidth> <MatrixHeight>12128</MatrixHeight>
</TileMatrix>
<TileMatrix>
<ows:Identifier>7</ows:Identifier>
<ScaleDenominator>4265.459167338929</ScaleDenominator>
<TopLeftCorner>-2.0037508342787E7 2.0037508342787E7</TopLeftCorner> <TileWidth>512</TileWidth> <TileHeight>512</TileHeight>
<MatrixWidth>17700</MatrixWidth> <MatrixHeight>24256</MatrixHeight>
</TileMatrix>
<TileMatrix>
<ows:Identifier>8</ows:Identifier>
<ScaleDenominator>2132.729584141936</ScaleDenominator>
<TopLeftCorner>-2.0037508342787E7 2.0037508342787E7</TopLeftCorner> <TileWidth>512</TileWidth> <TileHeight>512</TileHeight>
<MatrixWidth>35400</MatrixWidth> <MatrixHeight>48512</MatrixHeight>
</TileMatrix>
<TileMatrix>
<ows:Identifier>9</ows:Identifier>
<ScaleDenominator>1066.3647915984968</ScaleDenominator>
<TopLeftCorner>-2.0037508342787E7 2.0037508342787E7</TopLeftCorner> <TileWidth>512</TileWidth> <TileHeight>512</TileHeight>
<MatrixWidth>70800</MatrixWidth> <MatrixHeight>97023</MatrixHeight>
</TileMatrix>
<TileMatrix>
<ows:Identifier>10</ows:Identifier>
<ScaleDenominator>532.9474944663505</ScaleDenominator>
<TopLeftCorner>-2.0037508342787E7 2.0037508342787E7</TopLeftCorner> <TileWidth>512</TileWidth> <TileHeight>512</TileHeight>
<MatrixWidth>141662</MatrixWidth> <MatrixHeight>194131</MatrixHeight>
</TileMatrix>
<TileMatrix>
<ows:Identifier>11</ows:Identifier>
<ScaleDenominator>236.2355915187724</ScaleDenominator>
<TopLeftCorner>-2.0037508342787E7 2.0037508342787E7</TopLeftCorner> <TileWidth>512</TileWidth> <TileHeight>512</TileHeight>
<MatrixWidth>319589</MatrixWidth> <MatrixHeight>437958</MatrixHeight>
</TileMatrix>
</TileMatrixSet>
</Contents>
<ServiceMetadataURL xlink:href="https://qagisservices.oakgov.com/arcgis/rest/services/BaseMap/EnterpriseOrthoTC2020BasemapMap/MapServer/WMTS/1.0.0/WMTSCapabilities.xml" /> </Capabilities>
