<?xml version="1.0" encoding="UTF-8"?>
<Capabilities xmlns="http://www.opengis.net/wmts/1.0"
xmlns:ows="http://www.opengis.net/ows/1.1"
xmlns:xlink="http://www.w3.org/1999/xlink"
xmlns:xsi="http://www.w3.org/2001/XMLSchema-instance"
xmlns:gml="http://www.opengis.net/gml"
xsi:schemaLocation="http://www.opengis.net/wmts/1.0 http://schemas.opengis.net/wmts/1.0/wmtsGetCapabilities_response.xsd"
version="1.0.0">
<!-- Service Identification --> <ows:ServiceIdentification>
<ows:Title>BaseMap_EnterpriseCAMSBasemapMap_StatePlane_FGDB</ows:Title>
<ows:ServiceType>OGC WMTS</ows:ServiceType>
<ows:ServiceTypeVersion>1.0.0</ows:ServiceTypeVersion>
</ows:ServiceIdentification> <!-- Operations Metadata --> <ows:OperationsMetadata>
<ows:Operation name="GetCapabilities">
<ows:DCP>
<ows:HTTP>
<ows:Get xlink:href="https://qagisservices.oakgov.com/arcgis/rest/services/BaseMap/EnterpriseCAMSBasemapMap_StatePlane_FGDB/MapServer/WMTS/1.0.0/WMTSCapabilities.xml">
<ows:Constraint name="GetEncoding">
<ows:AllowedValues>
<ows:Value>RESTful</ows:Value>
</ows:AllowedValues>
</ows:Constraint>
</ows:Get>
<!-- add KVP binding in 10.1 -->
<ows:Get xlink:href="https://qagisservices.oakgov.com/arcgis/rest/services/BaseMap/EnterpriseCAMSBasemapMap_StatePlane_FGDB/MapServer/WMTS?">
<ows:Constraint name="GetEncoding">
<ows:AllowedValues>
<ows:Value>KVP</ows:Value>
</ows:AllowedValues>
</ows:Constraint>
</ows:Get>
</ows:HTTP>
</ows:DCP>
</ows:Operation>
<ows:Operation name="GetTile">
<ows:DCP>
<ows:HTTP>
<ows:Get xlink:href="https://qagisservices.oakgov.com/arcgis/rest/services/BaseMap/EnterpriseCAMSBasemapMap_StatePlane_FGDB/MapServer/WMTS/tile/1.0.0/">
<ows:Constraint name="GetEncoding">
<ows:AllowedValues>
<ows:Value>RESTful</ows:Value>
</ows:AllowedValues>
</ows:Constraint>
</ows:Get>
<ows:Get xlink:href="https://qagisservices.oakgov.com/arcgis/rest/services/BaseMap/EnterpriseCAMSBasemapMap_StatePlane_FGDB/MapServer/WMTS?">
<ows:Constraint name="GetEncoding">
<ows:AllowedValues>
<ows:Value>KVP</ows:Value>
</ows:AllowedValues>
</ows:Constraint>
</ows:Get>
</ows:HTTP>
</ows:DCP>
</ows:Operation>
</ows:OperationsMetadata> <Contents>
<!--Layer--> <Layer>
<ows:Title>BaseMap_EnterpriseCAMSBasemapMap_StatePlane_FGDB</ows:Title> <ows:Identifier>BaseMap_EnterpriseCAMSBasemapMap_StatePlane_FGDB</ows:Identifier>
<ows:BoundingBox crs="urn:ogc:def:crs:EPSG::2253">
<ows:LowerCorner>1.3105983790999996E7 62323.8610000022</ows:LowerCorner>
<ows:UpperCorner>1.3659123429000001E7 678487.8940000033</ows:UpperCorner>
</ows:BoundingBox> <ows:WGS84BoundingBox crs="urn:ogc:def:crs:OGC:2:84">
<ows:LowerCorner>-84.43201054657365 41.65390217508121</ows:LowerCorner>
<ows:UpperCorner>-82.352394102909 43.36176387261479</ows:UpperCorner>
</ows:WGS84BoundingBox>
<Style isDefault="true">
<ows:Title>Default Style</ows:Title>
<ows:Identifier>default</ows:Identifier>
</Style>
<Format>image/png</Format>
<TileMatrixSetLink>
<TileMatrixSet>default028mm</TileMatrixSet>
</TileMatrixSetLink>
<ResourceURL format="image/png" resourceType="tile" template="https://qagisservices.oakgov.com/arcgis/rest/services/BaseMap/EnterpriseCAMSBasemapMap_StatePlane_FGDB/MapServer/WMTS/tile/1.0.0/BaseMap_EnterpriseCAMSBasemapMap_StatePlane_FGDB/{Style}/{TileMatrixSet}/{TileMatrix}/{TileRow}/{TileCol}.png" />
</Layer> <!--TileMatrixSet-->
<TileMatrixSet>
<ows:Title>TileMatrix using 0.28mm</ows:Title>
<ows:Abstract>The tile matrix set that has scale values calculated based on the dpi defined by OGC specification (dpi assumes 0.28mm as the physical distance of a pixel).</ows:Abstract> <ows:Identifier>default028mm</ows:Identifier>
<ows:SupportedCRS>urn:ogc:def:crs:EPSG::2253</ows:SupportedCRS>
<TileMatrix>
<ows:Identifier>0</ows:Identifier>
<ScaleDenominator>545979.1946368921</ScaleDenominator>
<TopLeftCorner>-1.071386E8 1.433301E8</TopLeftCorner> <TileWidth>256</TileWidth> <TileHeight>256</TileHeight>
<MatrixWidth>941</MatrixWidth> <MatrixHeight>1116</MatrixHeight>
</TileMatrix>
<TileMatrix>
<ows:Identifier>1</ows:Identifier>
<ScaleDenominator>272989.124847263</ScaleDenominator>
<TopLeftCorner>-1.071386E8 1.433301E8</TopLeftCorner> <TileWidth>256</TileWidth> <TileHeight>256</TileHeight>
<MatrixWidth>1882</MatrixWidth> <MatrixHeight>2232</MatrixHeight>
</TileMatrix>
<TileMatrix>
<ows:Identifier>2</ows:Identifier>
<ScaleDenominator>136495.0348948145</ScaleDenominator>
<TopLeftCorner>-1.071386E8 1.433301E8</TopLeftCorner> <TileWidth>256</TileWidth> <TileHeight>256</TileHeight>
<MatrixWidth>3764</MatrixWidth> <MatrixHeight>4464</MatrixHeight>
</TileMatrix>
<TileMatrix>
<ows:Identifier>3</ows:Identifier>
<ScaleDenominator>68247.51744740726</ScaleDenominator>
<TopLeftCorner>-1.071386E8 1.433301E8</TopLeftCorner> <TileWidth>256</TileWidth> <TileHeight>256</TileHeight>
<MatrixWidth>7527</MatrixWidth> <MatrixHeight>8927</MatrixHeight>
</TileMatrix>
<TileMatrix>
<ows:Identifier>4</ows:Identifier>
<ScaleDenominator>34123.75872370363</ScaleDenominator>
<TopLeftCorner>-1.071386E8 1.433301E8</TopLeftCorner> <TileWidth>256</TileWidth> <TileHeight>256</TileHeight>
<MatrixWidth>15053</MatrixWidth> <MatrixHeight>17853</MatrixHeight>
</TileMatrix>
<TileMatrix>
<ows:Identifier>5</ows:Identifier>
<ScaleDenominator>17061.879361851814</ScaleDenominator>
<TopLeftCorner>-1.071386E8 1.433301E8</TopLeftCorner> <TileWidth>256</TileWidth> <TileHeight>256</TileHeight>
<MatrixWidth>30106</MatrixWidth> <MatrixHeight>35706</MatrixHeight>
</TileMatrix>
<TileMatrix>
<ows:Identifier>6</ows:Identifier>
<ScaleDenominator>8530.939680925907</ScaleDenominator>
<TopLeftCorner>-1.071386E8 1.433301E8</TopLeftCorner> <TileWidth>256</TileWidth> <TileHeight>256</TileHeight>
<MatrixWidth>60212</MatrixWidth> <MatrixHeight>71412</MatrixHeight>
</TileMatrix>
<TileMatrix>
<ows:Identifier>7</ows:Identifier>
<ScaleDenominator>4265.4698404629535</ScaleDenominator>
<TopLeftCorner>-1.071386E8 1.433301E8</TopLeftCorner> <TileWidth>256</TileWidth> <TileHeight>256</TileHeight>
<MatrixWidth>120423</MatrixWidth> <MatrixHeight>142824</MatrixHeight>
</TileMatrix>
<TileMatrix>
<ows:Identifier>8</ows:Identifier>
<ScaleDenominator>2131.789977865402</ScaleDenominator>
<TopLeftCorner>-1.071386E8 1.433301E8</TopLeftCorner> <TileWidth>256</TileWidth> <TileHeight>256</TileHeight>
<MatrixWidth>240953</MatrixWidth> <MatrixHeight>285773</MatrixHeight>
</TileMatrix>
<TileMatrix>
<ows:Identifier>9</ows:Identifier>
<ScaleDenominator>1065.894988932701</ScaleDenominator>
<TopLeftCorner>-1.071386E8 1.433301E8</TopLeftCorner> <TileWidth>256</TileWidth> <TileHeight>256</TileHeight>
<MatrixWidth>481905</MatrixWidth> <MatrixHeight>571546</MatrixHeight>
</TileMatrix>
<TileMatrix>
<ows:Identifier>10</ows:Identifier>
<ScaleDenominator>532.9474944663505</ScaleDenominator>
<TopLeftCorner>-1.071386E8 1.433301E8</TopLeftCorner> <TileWidth>256</TileWidth> <TileHeight>256</TileHeight>
<MatrixWidth>963810</MatrixWidth> <MatrixHeight>1143092</MatrixHeight>
</TileMatrix>
</TileMatrixSet>
</Contents>
<ServiceMetadataURL xlink:href="https://qagisservices.oakgov.com/arcgis/rest/services/BaseMap/EnterpriseCAMSBasemapMap_StatePlane_FGDB/MapServer/WMTS/1.0.0/WMTSCapabilities.xml" /> </Capabilities>
